BEGIN:VCALENDAR
VERSION:2.0
PRODID:-//Tango Québec - ECPv6.15.20//NONSGML v1.0//EN
CALSCALE:GREGORIAN
METHOD:PUBLISH
X-WR-CALNAME:Tango Québec
X-ORIGINAL-URL:https://tangoquebec.org
X-WR-CALDESC:Évènements pour Tango Québec
REFRESH-INTERVAL;VALUE=DURATION:PT1H
X-Robots-Tag:noindex
X-PUBLISHED-TTL:PT1H
BEGIN:VTIMEZONE
TZID:America/New_York
BEGIN:DAYLIGHT
TZOFFSETFROM:-0500
TZOFFSETTO:-0400
TZNAME:EDT
DTSTART:20250309T070000
END:DAYLIGHT
BEGIN:STANDARD
TZOFFSETFROM:-0400
TZOFFSETTO:-0500
TZNAME:EST
DTSTART:20251102T060000
END:STANDARD
BEGIN:DAYLIGHT
TZOFFSETFROM:-0500
TZOFFSETTO:-0400
TZNAME:EDT
DTSTART:20260308T070000
END:DAYLIGHT
BEGIN:STANDARD
TZOFFSETFROM:-0400
TZOFFSETTO:-0500
TZNAME:EST
DTSTART:20261101T060000
END:STANDARD
BEGIN:DAYLIGHT
TZOFFSETFROM:-0500
TZOFFSETTO:-0400
TZNAME:EDT
DTSTART:20270314T070000
END:DAYLIGHT
BEGIN:STANDARD
TZOFFSETFROM:-0400
TZOFFSETTO:-0500
TZNAME:EST
DTSTART:20271107T060000
END:STANDARD
END:VTIMEZONE
BEGIN:VEVENT
DTSTART;TZID=America/New_York:20260419T153000
DTEND;TZID=America/New_York:20260419T183000
DTSTAMP:20260419T085128
CREATED:20240424T220609Z
LAST-MODIFIED:20260210T170526Z
UID:9896-1776612600-1776623400@tangoquebec.org
SUMMARY:Otra Milonga Mariposas
DESCRIPTION:La Otra Milonga Mariposas une rencontre décontractée à laquelle les passionnés du tango se donnent rendez-vous pour le plaisir de se retrouver\, danser et aussi pour la qualité musicale qu’ils y retrouvent.  Musique traditionnelle avec un zest de musique alternative. \nUne rencontre décontractée à laquelle les passionnés du tango se donnent rendez-vous pour le plaisir de se retrouver\, de danser et aussi pour la qualité musicale qu’ils y retrouvent. \nTDj et hôtesse Diane Hainse \nYWCA Québec\, 855 Av. Holland\, Québec\, QC G1S 3S5\, Petit Gymnase (apportez un cadenas pour le vestiaire) à compter de 15h30 jusqu’à 18h30. \nApportez vos rafraîchissements sans alcool. \n12$/Membres Club VIP Mariposas*15$/ Membres de Tango Québec \n20$/ Autres danseurs \n  \nInterac : Milonga-Mariposas@hotmail.com ou diane@mariposas-tango.com \nwww.mariposas-tango.com \n*Cartes disponibles sur place
URL:https://tangoquebec.org/index.php/calendrier/milonga-mariposas-37/
LOCATION:YWCA (Petit Gymnase\, 2e étage)\, 855 Av. Holland\, Québec\, QC G1S 3S5\, Québec\, Qc\, Canada
CATEGORIES:Milonga
ATTACH;FMTTYPE=image/png:https://tangoquebec.org/wp-content/uploads/2018/01/logo.png
ORGANIZER;CN="Mariposas Tango":MAILTO:milonga-mariposas@hotmail.com
END:VEVENT
BEGIN:VEVENT
DTSTART;TZID=America/New_York:20260421T183000
DTEND;TZID=America/New_York:20260421T200000
DTSTAMP:20260419T085128
CREATED:20260407T171530Z
LAST-MODIFIED:20260407T171530Z
UID:11767-1776796200-1776801600@tangoquebec.org
SUMMARY:Practica au Bar le Drague
DESCRIPTION:Venez approfondir une technique ou peaufiner un pas. \nPour les membres de l’Association Tango Québec : 5$ \nPour les non membres : 10$
URL:https://tangoquebec.org/index.php/calendrier/practica-au-bar-le-drague-32/
LOCATION:Bar le Drague\, 815 rue Saint-Augustin\,\, Québec\, G1R 3N4\, Canada
CATEGORIES:Practica
END:VEVENT
BEGIN:VEVENT
DTSTART;TZID=America/New_York:20260421T200000
DTEND;TZID=America/New_York:20260421T230000
DTSTAMP:20260419T085128
CREATED:20260407T171229Z
LAST-MODIFIED:20260407T171229Z
UID:11759-1776801600-1776812400@tangoquebec.org
SUMMARY:Milongrague
DESCRIPTION:Venez danser sur la musique sélectionnée par Simon Drolet ! \nPour les membres : 5$\, gratuit pour ceux qui étaient présents à la practica. \nPour les non membres : 10$\, gratuit pour ceux qui étaient présents à la milonga.
URL:https://tangoquebec.org/index.php/calendrier/milongrague/
LOCATION:Bar le Drague\, 815 rue Saint-Augustin\,\, Québec\, G1R 3N4\, Canada
CATEGORIES:Milonga
ATTACH;FMTTYPE=image/jpeg:https://tangoquebec.org/wp-content/uploads/2025/11/drague.jpeg
END:VEVENT
BEGIN:VEVENT
DTSTART;TZID=America/New_York:20260425T163000
DTEND;TZID=America/New_York:20260425T200000
DTSTAMP:20260419T085128
CREATED:20250813T135421Z
LAST-MODIFIED:20250813T135421Z
UID:10951-1777134600-1777147200@tangoquebec.org
SUMMARY:Milonga Intima
DESCRIPTION:Milonga Intima 16h30 à 20h00 – 10$ \nInitiation au tango: 16h00 à 16h30 – 10$ \n  \nTDJ: Karianne Vaillant \n  \nAdresse: Restaurant Basilico’s\, 30 place de l’Église\, Cap Santé \n  \nVenez découvrir les charmes du comté de Portneuf en participant à notre milonga de Cap Santé. Un samedi sur 2\, cette milonga\, situé dans un charmant restaurant à proximité du fleuve Saint-Laurent\, vous propose 70% de musique traditionnelle et 30% de musique alternative. Une surprise vous attend à chaque date. Consultez le calendrier pour plus de détails. \nPour informations : milonga2025@hotmail.com
URL:https://tangoquebec.org/index.php/calendrier/milonga-intima-14/
LOCATION:Restaurant Basilico’s 30 place de l’église\, Cap Santé\, 30 place de l'église\, Cap Santé\, Québec\, G0A1L0\, Canada
CATEGORIES:Milonga
ATTACH;FMTTYPE=image/png:https://tangoquebec.org/wp-content/uploads/2025/07/thumbnail_image.png
END:VEVENT
BEGIN:VEVENT
DTSTART;TZID=America/New_York:20260425T210000
DTEND;TZID=America/New_York:20260426T003000
DTSTAMP:20260419T085128
CREATED:20260112T193223Z
LAST-MODIFIED:20260112T193447Z
UID:11293-1777150800-1777163400@tangoquebec.org
SUMMARY:La Milonga Picante
DESCRIPTION:Une nouvelle milonga festive et conviviale arrive dans notre communauté de tango ! \nOrganisée par Celeste Bliss et André-Philippe DesRuisseaux \nLes 14 février\, 14 mars\, 25 avril\, 16 mai \n  \nProgramme de la soirée \n19h30-21h : Séminaire niveau intermédiaire\, animé par Céleste & André-Philippe. \nUn thème différent sera exploré à chaque date. \n21h-00h30 Milonga – Une ambiance chaleureuse\, joyeuse et inclusive\, ouverte à tous et à toutes. \nTarifs : \nSéminaire + milonga : 35$ \nMilonga seulement : 15$ \n  \nLa Milonga Picante\, c’est un espace pour danser\, apprendre\, se rencontrer et surtout… s’amuser. \nOn a hâte de partager ces soirées avec vous ! \n 
URL:https://tangoquebec.org/index.php/calendrier/la-milonga-picante-2/
LOCATION:La Swing Ambassde\, 333 de la Couronne\, Québec\, Québec\, G1K6E7\, Canada
CATEGORIES:Milonga
ATTACH;FMTTYPE=image/jpeg:https://tangoquebec.org/wp-content/uploads/2026/01/picante.jpg
END:VEVENT
BEGIN:VEVENT
DTSTART;TZID=America/New_York:20260426T153000
DTEND;TZID=America/New_York:20260426T183000
DTSTAMP:20260419T085128
CREATED:20251007T181118Z
LAST-MODIFIED:20260210T170746Z
UID:11107-1777217400-1777228200@tangoquebec.org
SUMMARY:Otra Milonga Mariposas
DESCRIPTION:La Otra Milonga Mariposas une rencontre décontractée à laquelle les passionnés du tango se donnent rendez-vous pour le plaisir de se retrouver\, danser et aussi pour la qualité musicale qu’ils y retrouvent.  Musique traditionnelle avec un zest de musique alternative. \nUne rencontre décontractée à laquelle les passionnés du tango se donnent rendez-vous pour le plaisir de se retrouver\, de danser et aussi pour la qualité musicale qu’ils y retrouvent. \nTDj et hôtesse Diane Hainse \nYWCA Québec\, 855 Av. Holland\, Québec\, QC G1S 3S5\, Petit Gymnase (apportez un cadenas pour le vestiaire) à compter de 15h30 jusqu’à 18h30. \nApportez vos rafraîchissements sans alcool. \n12$/Membres Club VIP Mariposas*\n15$/ Membres de Tango Québec \n20$/ Autres danseurs \n  \nInterac : Milonga-Mariposas@hotmail.com ou diane@mariposas-tango.com \nwww.mariposas-tango.com \n*Cartes disponibles sur place
URL:https://tangoquebec.org/index.php/calendrier/milonga-mariposas-23/
LOCATION:YWCA (Petit Gymnase\, 2e étage)\, 855 Av. Holland\, Québec\, QC G1S 3S5\, Québec\, Qc\, Canada
CATEGORIES:Milonga
ATTACH;FMTTYPE=image/png:https://tangoquebec.org/wp-content/uploads/2024/01/M_La-Otra.png
END:VEVENT
BEGIN:VEVENT
DTSTART;TZID=America/New_York:20260428T183000
DTEND;TZID=America/New_York:20260428T200000
DTSTAMP:20260419T085128
CREATED:20260407T171611Z
LAST-MODIFIED:20260407T171611Z
UID:11769-1777401000-1777406400@tangoquebec.org
SUMMARY:Practica au Bar le Drague
DESCRIPTION:Venez approfondir une technique ou peaufiner un pas. \nPour les membres de l’Association Tango Québec : 5$ \nPour les non membres : 10$
URL:https://tangoquebec.org/index.php/calendrier/practica-au-bar-le-drague-33/
LOCATION:Bar le Drague\, 815 rue Saint-Augustin\,\, Québec\, G1R 3N4\, Canada
CATEGORIES:Practica
ATTACH;FMTTYPE=image/jpeg:https://tangoquebec.org/wp-content/uploads/2025/01/IMG_1947.jpg
END:VEVENT
BEGIN:VEVENT
DTSTART;TZID=America/New_York:20260428T200000
DTEND;TZID=America/New_York:20260428T230000
DTSTAMP:20260419T085128
CREATED:20260407T171304Z
LAST-MODIFIED:20260407T171304Z
UID:11761-1777406400-1777417200@tangoquebec.org
SUMMARY:Milongrague
DESCRIPTION:Venez danser sur la musique sélectionnée par Simon Drolet ! \nPour les membres : 5$\, gratuit pour ceux qui étaient présents à la practica. \nPour les non membres : 10$\, gratuit pour ceux qui étaient présents à la milonga.
URL:https://tangoquebec.org/index.php/calendrier/milongrague-2/
LOCATION:Bar le Drague\, 815 rue Saint-Augustin\,\, Québec\, G1R 3N4\, Canada
CATEGORIES:Milonga
ATTACH;FMTTYPE=image/jpeg:https://tangoquebec.org/wp-content/uploads/2025/11/drague.jpeg
END:VEVENT
END:VCALENDAR