BEGIN:VCALENDAR
VERSION:2.0
PRODID:-//Tango Québec - ECPv6.15.20//NONSGML v1.0//EN
CALSCALE:GREGORIAN
METHOD:PUBLISH
X-WR-CALNAME:Tango Québec
X-ORIGINAL-URL:https://tangoquebec.org
X-WR-CALDESC:Évènements pour Tango Québec
REFRESH-INTERVAL;VALUE=DURATION:PT1H
X-Robots-Tag:noindex
X-PUBLISHED-TTL:PT1H
BEGIN:VTIMEZONE
TZID:America/New_York
BEGIN:DAYLIGHT
TZOFFSETFROM:-0500
TZOFFSETTO:-0400
TZNAME:EDT
DTSTART:20250309T070000
END:DAYLIGHT
BEGIN:STANDARD
TZOFFSETFROM:-0400
TZOFFSETTO:-0500
TZNAME:EST
DTSTART:20251102T060000
END:STANDARD
BEGIN:DAYLIGHT
TZOFFSETFROM:-0500
TZOFFSETTO:-0400
TZNAME:EDT
DTSTART:20260308T070000
END:DAYLIGHT
BEGIN:STANDARD
TZOFFSETFROM:-0400
TZOFFSETTO:-0500
TZNAME:EST
DTSTART:20261101T060000
END:STANDARD
BEGIN:DAYLIGHT
TZOFFSETFROM:-0500
TZOFFSETTO:-0400
TZNAME:EDT
DTSTART:20270314T070000
END:DAYLIGHT
BEGIN:STANDARD
TZOFFSETFROM:-0400
TZOFFSETTO:-0500
TZNAME:EST
DTSTART:20271107T060000
END:STANDARD
END:VTIMEZONE
BEGIN:VEVENT
DTSTART;TZID=America/New_York:20260620T210000
DTEND;TZID=America/New_York:20260620T233000
DTSTAMP:20260425T221746
CREATED:20250521T235424Z
LAST-MODIFIED:20250521T235424Z
UID:10745-1781989200-1781998200@tangoquebec.org
SUMMARY:La milonguita de Mam'zelle Janice
DESCRIPTION:La milonguita de mam’zelle Janice est de retour!\nJe vous attends dès 21h00\, au Carter Hall de la Cathédrale Holy Trinity au 31\, rue des Jardins\, Québec (Québec). Stationnement gratuit. \nApporter vos boissons non-alcoolisées.\nDJT: mam’zelle Janice \nPrix d’entrée : 15$\nDeux façons de payer:  argent comptant à la porte ou par virement bancaire à l’adresse courriel suivante : pleiade1@hotmail.com\nMot de passe: tango
URL:https://tangoquebec.org/index.php/calendrier/la-milonguita-de-mamzelle-janice-22/
LOCATION:Chapelle de la cathédrale Holy Trinity\, 31\, rue des Jardins\, Québec\, Québec\, G1R 4L6\, Canada
CATEGORIES:Milonga
ATTACH;FMTTYPE=image/png:https://tangoquebec.org/wp-content/uploads/2019/09/Janice_logo_blanc.png
END:VEVENT
BEGIN:VEVENT
DTSTART;TZID=America/New_York:20260621T150000
DTEND;TZID=America/New_York:20260621T190000
DTSTAMP:20260425T221746
CREATED:20260107T190550Z
LAST-MODIFIED:20260107T190550Z
UID:11277-1782054000-1782068400@tangoquebec.org
SUMMARY:Milonga del sol
DESCRIPTION:Théâtre de l’Auberge internationale\, 19\, rue Ste-Ursule (Vieux-Québec).\nEntrée :15$ (sortie toujours gratuite)\, 15h-19h\nAnimateurs et choix musical: Serge et Margarita
URL:https://tangoquebec.org/index.php/calendrier/milonga-del-sol-4/
LOCATION:Théâtre de l’Auberge Internationale\, 19\, Ste-Ursule
CATEGORIES:Milonga
ATTACH;FMTTYPE=image/jpeg:https://tangoquebec.org/wp-content/uploads/2026/01/Affiche-milonga-del-sol-toutes.reduit.jpeg
END:VEVENT
BEGIN:VEVENT
DTSTART;TZID=America/New_York:20260627T163000
DTEND;TZID=America/New_York:20260627T200000
DTSTAMP:20260425T221746
CREATED:20250813T135910Z
LAST-MODIFIED:20250813T135910Z
UID:10961-1782577800-1782590400@tangoquebec.org
SUMMARY:Milonga Intima
DESCRIPTION:Milonga Intima 16h30 à 20h00 – 10$ \nInitiation au tango: 16h00 à 16h30 – 10$ \n  \nTDJ: Karianne Vaillant \n  \nAdresse: Restaurant Basilico’s\, 30 place de l’Église\, Cap Santé \n  \nVenez découvrir les charmes du comté de Portneuf en participant à notre milonga de Cap Santé. Un samedi sur 2\, cette milonga\, situé dans un charmant restaurant à proximité du fleuve Saint-Laurent\, vous propose 70% de musique traditionnelle et 30% de musique alternative. Une surprise vous attend à chaque date. Consultez le calendrier pour plus de détails. \nPour informations : milonga2025@hotmail.com
URL:https://tangoquebec.org/index.php/calendrier/milonga-intima-19/
LOCATION:Restaurant Basilico’s 30 place de l’église\, Cap Santé\, 30 place de l'église\, Cap Santé\, Québec\, G0A1L0\, Canada
CATEGORIES:Milonga
ATTACH;FMTTYPE=image/png:https://tangoquebec.org/wp-content/uploads/2025/07/thumbnail_image.png
END:VEVENT
BEGIN:VEVENT
DTSTART;TZID=America/New_York:20260711T163000
DTEND;TZID=America/New_York:20260711T200000
DTSTAMP:20260425T221746
CREATED:20250813T135953Z
LAST-MODIFIED:20250813T135953Z
UID:10963-1783787400-1783800000@tangoquebec.org
SUMMARY:Milonga Intima
DESCRIPTION:Milonga Intima 16h30 à 20h00 – 10$ \nInitiation au tango: 16h00 à 16h30 – 10$ \n  \nTDJ: Karianne Vaillant \n  \nAdresse: Restaurant Basilico’s\, 30 place de l’Église\, Cap Santé \n  \nVenez découvrir les charmes du comté de Portneuf en participant à notre milonga de Cap Santé. Un samedi sur 2\, cette milonga\, situé dans un charmant restaurant à proximité du fleuve Saint-Laurent\, vous propose 70% de musique traditionnelle et 30% de musique alternative. Une surprise vous attend à chaque date. Consultez le calendrier pour plus de détails. \nPour informations : milonga2025@hotmail.com
URL:https://tangoquebec.org/index.php/calendrier/milonga-intima-20/
LOCATION:Restaurant Basilico’s 30 place de l’église\, Cap Santé\, 30 place de l'église\, Cap Santé\, Québec\, G0A1L0\, Canada
CATEGORIES:Milonga
ATTACH;FMTTYPE=image/png:https://tangoquebec.org/wp-content/uploads/2025/07/thumbnail_image.png
END:VEVENT
BEGIN:VEVENT
DTSTART;TZID=America/New_York:20260718T180000
DTEND;TZID=America/New_York:20260718T210000
DTSTAMP:20260425T221746
CREATED:20260410T130842Z
LAST-MODIFIED:20260410T131021Z
UID:11772-1784397600-1784408400@tangoquebec.org
SUMMARY:Kiosque Princesse Louise
DESCRIPTION:Détails à venir
URL:https://tangoquebec.org/index.php/calendrier/kiosque-louise/
LOCATION:Château Frontenac\, 1\, rue des Carrières\, Québec\, Québec\, Canada
CATEGORIES:Milonga
ATTACH;FMTTYPE=image/jpeg:https://tangoquebec.org/wp-content/uploads/2025/07/telechargement.jpg
END:VEVENT
BEGIN:VEVENT
DTSTART;TZID=America/New_York:20260725T163000
DTEND;TZID=America/New_York:20260725T200000
DTSTAMP:20260425T221746
CREATED:20250813T140042Z
LAST-MODIFIED:20250813T140042Z
UID:10965-1784997000-1785009600@tangoquebec.org
SUMMARY:Milonga Intima
DESCRIPTION:Milonga Intima 16h30 à 20h00 – 10$ \nInitiation au tango: 16h00 à 16h30 – 10$ \n  \nTDJ: Karianne Vaillant \n  \nAdresse: Restaurant Basilico’s\, 30 place de l’Église\, Cap Santé \n  \nVenez découvrir les charmes du comté de Portneuf en participant à notre milonga de Cap Santé. Un samedi sur 2\, cette milonga\, situé dans un charmant restaurant à proximité du fleuve Saint-Laurent\, vous propose 70% de musique traditionnelle et 30% de musique alternative. Une surprise vous attend à chaque date. Consultez le calendrier pour plus de détails. \nPour informations : milonga2025@hotmail.com
URL:https://tangoquebec.org/index.php/calendrier/milonga-intima-21/
LOCATION:Restaurant Basilico’s 30 place de l’église\, Cap Santé\, 30 place de l'église\, Cap Santé\, Québec\, G0A1L0\, Canada
CATEGORIES:Milonga
ATTACH;FMTTYPE=image/png:https://tangoquebec.org/wp-content/uploads/2025/07/thumbnail_image.png
END:VEVENT
BEGIN:VEVENT
DTSTART;TZID=America/New_York:20260801T140000
DTEND;TZID=America/New_York:20260801T233000
DTSTAMP:20260425T221746
CREATED:20260331T023354Z
LAST-MODIFIED:20260331T023354Z
UID:11748-1785592800-1785627000@tangoquebec.org
SUMMARY:La noche de las Mariposas
DESCRIPTION:Détails à venir
URL:https://tangoquebec.org/index.php/calendrier/la-noche-de-las-mariposas/
LOCATION:YWCA (Petit Gymnase\, 2e étage)\, 855 Av. Holland\, Québec\, QC G1S 3S5\, Québec\, Qc\, Canada
CATEGORIES:Atelier,Événement spécial,Milonga
ATTACH;FMTTYPE=image/png:https://tangoquebec.org/wp-content/uploads/2024/01/logo-mariposas-vn.png
END:VEVENT
BEGIN:VEVENT
DTSTART;TZID=America/New_York:20260808T163000
DTEND;TZID=America/New_York:20260808T200000
DTSTAMP:20260425T221746
CREATED:20260209T173231Z
LAST-MODIFIED:20260209T173231Z
UID:11316-1786206600-1786219200@tangoquebec.org
SUMMARY:Milonga Intima
DESCRIPTION:Milonga Intima 16h30 à 20h00 – 10$ \nInitiation au tango: 16h00 à 16h30 – 10$ \n  \nTDJ: Karianne Vaillant \n  \nAdresse: Restaurant Basilico’s\, 30 place de l’Église\, Cap Santé \n 
URL:https://tangoquebec.org/index.php/calendrier/milonga-intima-23/
LOCATION:Restaurant Basilico’s 30 place de l’église\, Cap Santé\, 30 place de l'église\, Cap Santé\, Québec\, G0A1L0\, Canada
CATEGORIES:Milonga
ATTACH;FMTTYPE=image/png:https://tangoquebec.org/wp-content/uploads/2025/07/thumbnail_image.png
END:VEVENT
BEGIN:VEVENT
DTSTART;TZID=America/New_York:20260822T163000
DTEND;TZID=America/New_York:20260822T200000
DTSTAMP:20260425T221746
CREATED:20260209T173314Z
LAST-MODIFIED:20260209T173314Z
UID:11318-1787416200-1787428800@tangoquebec.org
SUMMARY:Milonga Intima
DESCRIPTION:Milonga Intima 16h30 à 20h00 – 10$ \nInitiation au tango: 16h00 à 16h30 – 10$ \n  \nTDJ: Karianne Vaillant \n  \nAdresse: Restaurant Basilico’s\, 30 place de l’Église\, Cap Santé \n 
URL:https://tangoquebec.org/index.php/calendrier/milonga-intima-24/
LOCATION:Restaurant Basilico’s 30 place de l’église\, Cap Santé\, 30 place de l'église\, Cap Santé\, Québec\, G0A1L0\, Canada
CATEGORIES:Milonga
ATTACH;FMTTYPE=image/png:https://tangoquebec.org/wp-content/uploads/2025/07/thumbnail_image.png
END:VEVENT
BEGIN:VEVENT
DTSTART;TZID=America/New_York:20260829T180000
DTEND;TZID=America/New_York:20260829T210000
DTSTAMP:20260425T221746
CREATED:20260410T130957Z
LAST-MODIFIED:20260410T130957Z
UID:11775-1788026400-1788037200@tangoquebec.org
SUMMARY:Kiosque Princesse Louise
DESCRIPTION:Détails à venir
URL:https://tangoquebec.org/index.php/calendrier/kiosque-princesse-louise/
LOCATION:Château Frontenac\, 1\, rue des Carrières\, Québec\, Québec\, Canada
CATEGORIES:Milonga
ATTACH;FMTTYPE=image/jpeg:https://tangoquebec.org/wp-content/uploads/2025/07/telechargement.jpg
END:VEVENT
BEGIN:VEVENT
DTSTART;TZID=America/New_York:20260912T163000
DTEND;TZID=America/New_York:20260912T200000
DTSTAMP:20260425T221746
CREATED:20260209T173417Z
LAST-MODIFIED:20260209T173417Z
UID:11320-1789230600-1789243200@tangoquebec.org
SUMMARY:Milonga Intima
DESCRIPTION:Milonga Intima 16h30 à 20h00 – 10$ \nInitiation au tango: 16h00 à 16h30 – 10$ \n  \nTDJ: Karianne Vaillant \n  \nAdresse: Restaurant Basilico’s\, 30 place de l’Église\, Cap Santé \n 
URL:https://tangoquebec.org/index.php/calendrier/milonga-intima-25/
LOCATION:Restaurant Basilico’s 30 place de l’église\, Cap Santé\, 30 place de l'église\, Cap Santé\, Québec\, G0A1L0\, Canada
CATEGORIES:Milonga
ATTACH;FMTTYPE=image/png:https://tangoquebec.org/wp-content/uploads/2025/07/thumbnail_image.png
END:VEVENT
BEGIN:VEVENT
DTSTART;TZID=America/New_York:20260913T153000
DTEND;TZID=America/New_York:20260913T183000
DTSTAMP:20260425T221746
CREATED:20260210T180313Z
LAST-MODIFIED:20260414T142727Z
UID:11362-1789313400-1789324200@tangoquebec.org
SUMMARY:Otra Milonga Mariposas
DESCRIPTION:La Otra Milonga Mariposas une rencontre décontractée à laquelle les passionnés du tango se donnent rendez-vous pour le plaisir de se retrouver\, danser et aussi pour la qualité musicale qu’ils y retrouvent.  Musique traditionnelle avec un zest de musique alternative. \nTDj et hôtesse Diane Hainse \nYWCA Québec\, 855 Av. Holland\, Québec\, QC G1S 3S5\, Petit Gymnase (apportez un cadenas pour le vestiaire) à compter de 15h30 jusqu’à 18h30. \nApportez vos rafraîchissements sans alcool. \n12$/Membres Club VIP Mariposas*\n15$/ Membres de Tango Québec \n20$/ Autres danseurs \n  \nInterac : Milonga-Mariposas@hotmail.com ou diane@mariposas-tango.com \nwww.mariposas-tango.com \n*Cartes disponibles sur place
URL:https://tangoquebec.org/index.php/calendrier/otra-milonga-mariposas-2/
LOCATION:YWCA (Petit Gymnase\, 2e étage)\, 855 Av. Holland\, Québec\, QC G1S 3S5\, Québec\, Qc\, Canada
ATTACH;FMTTYPE=image/png:https://tangoquebec.org/wp-content/uploads/2024/01/M_La-Otra.png
ORGANIZER;CN="Mariposas Tango":MAILTO:milonga-mariposas@hotmail.com
END:VEVENT
BEGIN:VEVENT
DTSTART;TZID=America/New_York:20260920T150000
DTEND;TZID=America/New_York:20260920T190000
DTSTAMP:20260425T221746
CREATED:20260107T190639Z
LAST-MODIFIED:20260414T142702Z
UID:11279-1789916400-1789930800@tangoquebec.org
SUMMARY:Milonga del sol
DESCRIPTION:Théâtre de l’Auberge internationale\, 19\, rue Ste-Ursule (Vieux-Québec).\nEntrée :15$ (sortie toujours gratuite)\, 15h-19h\nAnimateurs et choix musical: Serge et Margarita
URL:https://tangoquebec.org/index.php/calendrier/milonga-del-sol-5/
LOCATION:Théâtre de l’Auberge Internationale\, 19\, Ste-Ursule
CATEGORIES:Milonga
ATTACH;FMTTYPE=image/jpeg:https://tangoquebec.org/wp-content/uploads/2026/01/Affiche-milonga-del-sol-toutes.reduit.jpeg
END:VEVENT
BEGIN:VEVENT
DTSTART;TZID=America/New_York:20260926T163000
DTEND;TZID=America/New_York:20260926T200000
DTSTAMP:20260425T221746
CREATED:20260209T173500Z
LAST-MODIFIED:20260209T173500Z
UID:11322-1790440200-1790452800@tangoquebec.org
SUMMARY:Milonga Intima
DESCRIPTION:Milonga Intima 16h30 à 20h00 – 10$ \nInitiation au tango: 16h00 à 16h30 – 10$ \n  \nTDJ: Karianne Vaillant \n  \nAdresse: Restaurant Basilico’s\, 30 place de l’Église\, Cap Santé \n 
URL:https://tangoquebec.org/index.php/calendrier/milonga-intima-26/
LOCATION:Restaurant Basilico’s 30 place de l’église\, Cap Santé\, 30 place de l'église\, Cap Santé\, Québec\, G0A1L0\, Canada
CATEGORIES:Milonga
ATTACH;FMTTYPE=image/png:https://tangoquebec.org/wp-content/uploads/2025/07/thumbnail_image.png
END:VEVENT
BEGIN:VEVENT
DTSTART;TZID=America/New_York:20260927T153000
DTEND;TZID=America/New_York:20260927T183000
DTSTAMP:20260425T221746
CREATED:20240424T220859Z
LAST-MODIFIED:20260414T142914Z
UID:9902-1790523000-1790533800@tangoquebec.org
SUMMARY:La Otra Milonga Mariposas
DESCRIPTION:La Otra Milonga Mariposas le rendez-vous depuis 2012 ! Une milonga purement traditionnelle de tango salon (milonguero). \nUne rencontre décontractée à laquelle les passionnés du tango se donnent rendez-vous pour le plaisir de se retrouver\, de danser et aussi pour la qualité musicale qu’ils y retrouvent. \nTDj et hôtesse Diane Hainse \nYWCA Québec\, 855 Av. Holland\, Québec\, QC G1S 3S5\, Petit Gymnase (apportez un cadenas pour le vestiaire) à compter de 20h00 jusqu’à 0h00 (minuit). \nApportez vos rafraîchissements sans alcool. \n12$/Membres Club VIP Mariposas*15$/ Membres de Tango Québec \n20$/ Autres danseurs \n  \nInterac : Milonga-Mariposas@hotmail.com ou diane@mariposas-tango.com \nwww.mariposas-tango.com \n*Cartes disponibles sur place \n*Cartes disponibles sur place
URL:https://tangoquebec.org/index.php/calendrier/milonga-mariposas-40/
LOCATION:YWCA (Petit Gymnase\, 2e étage)\, 855 Av. Holland\, Québec\, QC G1S 3S5\, Québec\, Qc\, Canada
CATEGORIES:Milonga
ATTACH;FMTTYPE=image/png:https://tangoquebec.org/wp-content/uploads/2018/01/logo.png
ORGANIZER;CN="Mariposas Tango":MAILTO:milonga-mariposas@hotmail.com
END:VEVENT
BEGIN:VEVENT
DTSTART;TZID=America/New_York:20261004T153000
DTEND;TZID=America/New_York:20261004T183000
DTSTAMP:20260425T221746
CREATED:20260209T174120Z
LAST-MODIFIED:20260209T174120Z
UID:11328-1791127800-1791138600@tangoquebec.org
SUMMARY:Milonga de la Tarde
DESCRIPTION:La Milonga de la Tarde\, la milonga dominicale différente et chaleureuse. Pour votre plaisir! \n15h30 à 18h30 \n1360\, boul. de l’Entente\, Québec \nNombreux stationnements gratuits \n15$ \n  \nAu plaisir de vous accueillir\, \nChristian et Hugo.
URL:https://tangoquebec.org/index.php/calendrier/milonga-de-la-tarde-12/
LOCATION:1360\, boul de l’Entente\, Québec
CATEGORIES:Milonga
ATTACH;FMTTYPE=image/png:https://tangoquebec.org/wp-content/uploads/2024/08/logo-noir2.png
END:VEVENT
BEGIN:VEVENT
DTSTART;VALUE=DATE:20261009
DTEND;VALUE=DATE:20261014
DTSTAMP:20260425T221746
CREATED:20250120T180706Z
LAST-MODIFIED:20250919T200335Z
UID:10586-1791518400-1791863999@tangoquebec.org
SUMMARY:Encuentro Mariposas 2026
DESCRIPTION:2025.
URL:https://tangoquebec.org/index.php/calendrier/encuentro-mariposas-2026/
CATEGORIES:Événement spécial,Milonga
ATTACH;FMTTYPE=image/png:https://tangoquebec.org/wp-content/uploads/2024/04/macaron_encuentro_FN.png
ORGANIZER;CN="Mariposas Tango":MAILTO:milonga-mariposas@hotmail.com
END:VEVENT
BEGIN:VEVENT
DTSTART;TZID=America/New_York:20261017T080000
DTEND;TZID=America/New_York:20261017T170000
DTSTAMP:20260425T221746
CREATED:20260209T173541Z
LAST-MODIFIED:20260209T173541Z
UID:11324-1792224000-1792256400@tangoquebec.org
SUMMARY:Milonga Intima
DESCRIPTION:Milonga Intima 16h30 à 20h00 – 10$ \nInitiation au tango: 16h00 à 16h30 – 10$ \n  \nTDJ: Karianne Vaillant \n  \nAdresse: Restaurant Basilico’s\, 30 place de l’Église\, Cap Santé \n 
URL:https://tangoquebec.org/index.php/calendrier/milonga-intima-27/
LOCATION:Restaurant Basilico’s 30 place de l’église\, Cap Santé\, 30 place de l'église\, Cap Santé\, Québec\, G0A1L0\, Canada
CATEGORIES:Milonga
ATTACH;FMTTYPE=image/png:https://tangoquebec.org/wp-content/uploads/2025/07/thumbnail_image.png
END:VEVENT
BEGIN:VEVENT
DTSTART;TZID=America/New_York:20261018T153000
DTEND;TZID=America/New_York:20261018T183000
DTSTAMP:20260425T221746
CREATED:20260209T174206Z
LAST-MODIFIED:20260209T174206Z
UID:11330-1792337400-1792348200@tangoquebec.org
SUMMARY:Milonga de la Tarde
DESCRIPTION:La Milonga de la Tarde\, la milonga dominicale différente et chaleureuse. Pour votre plaisir! \n15h30 à 18h30 \n1360\, boul. de l’Entente\, Québec \nNombreux stationnements gratuits \n15$ \n  \nAu plaisir de vous accueillir\, \nChristian et Hugo.
URL:https://tangoquebec.org/index.php/calendrier/milonga-de-la-tarde-14/
LOCATION:1360\, boul de l’Entente\, Québec
CATEGORIES:Milonga
ATTACH;FMTTYPE=image/png:https://tangoquebec.org/wp-content/uploads/2024/08/logo-noir2.png
END:VEVENT
BEGIN:VEVENT
DTSTART;TZID=America/New_York:20261025T153000
DTEND;TZID=America/New_York:20261025T183000
DTSTAMP:20260425T221746
CREATED:20260210T180526Z
LAST-MODIFIED:20260210T180526Z
UID:11365-1792942200-1792953000@tangoquebec.org
SUMMARY:Otra Milonga Mariposas
DESCRIPTION:La Otra Milonga Mariposas une rencontre décontractée à laquelle les passionnés du tango se donnent rendez-vous pour le plaisir de se retrouver\, danser et aussi pour la qualité musicale qu’ils y retrouvent.  Musique traditionnelle avec un zest de musique alternative. \nTDj et hôtesse Diane Hainse \nYWCA Québec\, 855 Av. Holland\, Québec\, QC G1S 3S5\, Petit Gymnase (apportez un cadenas pour le vestiaire) à compter de 15h30 jusqu’à 18h30. \nApportez vos rafraîchissements sans alcool. \n12$/Membres Club VIP Mariposas*15$/ Membres de Tango Québec \n20$/ Autres danseurs  \nInterac : Milonga-Mariposas@hotmail.com ou diane@mariposas-tango.com \nwww.mariposas-tango.com \n*Cartes disponibles sur place
URL:https://tangoquebec.org/index.php/calendrier/otra-milonga-mariposas-3/
LOCATION:YWCA (Petit Gymnase\, 2e étage)\, 855 Av. Holland\, Québec\, QC G1S 3S5\, Québec\, Qc\, Canada
ATTACH;FMTTYPE=image/png:https://tangoquebec.org/wp-content/uploads/2024/01/M_La-Otra.png
ORGANIZER;CN="Mariposas Tango":MAILTO:milonga-mariposas@hotmail.com
END:VEVENT
BEGIN:VEVENT
DTSTART;TZID=America/New_York:20261031T080000
DTEND;TZID=America/New_York:20261031T170000
DTSTAMP:20260425T221746
CREATED:20260209T173616Z
LAST-MODIFIED:20260209T173616Z
UID:11326-1793433600-1793466000@tangoquebec.org
SUMMARY:Milonga Intima
DESCRIPTION:Milonga Intima 16h30 à 20h00 – 10$ \nInitiation au tango: 16h00 à 16h30 – 10$ \n  \nTDJ: Karianne Vaillant \n  \nAdresse: Restaurant Basilico’s\, 30 place de l’Église\, Cap Santé \n 
URL:https://tangoquebec.org/index.php/calendrier/milonga-intima-28/
LOCATION:Restaurant Basilico’s 30 place de l’église\, Cap Santé\, 30 place de l'église\, Cap Santé\, Québec\, G0A1L0\, Canada
CATEGORIES:Milonga
ATTACH;FMTTYPE=image/png:https://tangoquebec.org/wp-content/uploads/2025/07/thumbnail_image.png
END:VEVENT
BEGIN:VEVENT
DTSTART;TZID=America/New_York:20261101T153000
DTEND;TZID=America/New_York:20261101T183000
DTSTAMP:20260425T221746
CREATED:20260209T174248Z
LAST-MODIFIED:20260209T174248Z
UID:11332-1793547000-1793557800@tangoquebec.org
SUMMARY:Milonga de la Tarde
DESCRIPTION:La Milonga de la Tarde\, la milonga dominicale différente et chaleureuse. Pour votre plaisir! \n15h30 à 18h30 \n1360\, boul. de l’Entente\, Québec \nNombreux stationnements gratuits \n15$ \n  \nAu plaisir de vous accueillir\, \nChristian et Hugo.
URL:https://tangoquebec.org/index.php/calendrier/milonga-de-la-tarde-15/
LOCATION:1360\, boul de l’Entente\, Québec
CATEGORIES:Milonga
ATTACH;FMTTYPE=image/png:https://tangoquebec.org/wp-content/uploads/2024/08/logo-noir2.png
END:VEVENT
BEGIN:VEVENT
DTSTART;TZID=America/New_York:20261108T153000
DTEND;TZID=America/New_York:20261108T183000
DTSTAMP:20260425T221746
CREATED:20260210T180744Z
LAST-MODIFIED:20260210T180744Z
UID:11367-1794151800-1794162600@tangoquebec.org
SUMMARY:Otra Milonga Mariposas
DESCRIPTION:La Otra Milonga Mariposas une rencontre décontractée à laquelle les passionnés du tango se donnent rendez-vous pour le plaisir de se retrouver\, danser et aussi pour la qualité musicale qu’ils y retrouvent.  Musique traditionnelle avec un zest de musique alternative. \nTDj et hôtesse Diane Hainse \nYWCA Québec\, 855 Av. Holland\, Québec\, QC G1S 3S5\, Petit Gymnase (apportez un cadenas pour le vestiaire) à compter de 15h30 jusqu’à 18h30. \nApportez vos rafraîchissements sans alcool. \n12$/Membres Club VIP Mariposas*15$/ Membres de Tango Québec \n20$/ Autres danseurs  \nInterac : Milonga-Mariposas@hotmail.com ou diane@mariposas-tango.com \nwww.mariposas-tango.com \n*Cartes disponibles sur place
URL:https://tangoquebec.org/index.php/calendrier/otra-milonga-mariposas-4/
LOCATION:YWCA (Petit Gymnase\, 2e étage)\, 855 Av. Holland\, Québec\, QC G1S 3S5\, Québec\, Qc\, Canada
CATEGORIES:Milonga
ATTACH;FMTTYPE=image/png:https://tangoquebec.org/wp-content/uploads/2024/01/M_La-Otra.png
ORGANIZER;CN="Mariposas Tango":MAILTO:milonga-mariposas@hotmail.com
END:VEVENT
BEGIN:VEVENT
DTSTART;TZID=America/New_York:20261115T153000
DTEND;TZID=America/New_York:20261115T183000
DTSTAMP:20260425T221746
CREATED:20260209T174345Z
LAST-MODIFIED:20260209T174345Z
UID:11334-1794756600-1794767400@tangoquebec.org
SUMMARY:Milonga de la Tarde
DESCRIPTION:La Milonga de la Tarde\, la milonga dominicale différente et chaleureuse. Pour votre plaisir! \n15h30 à 18h30 \n1360\, boul. de l’Entente\, Québec \nNombreux stationnements gratuits \n15$ \n  \nAu plaisir de vous accueillir\, \nChristian et Hugo.
URL:https://tangoquebec.org/index.php/calendrier/milonga-de-la-tarde-16/
LOCATION:1360\, boul de l’Entente\, Québec
CATEGORIES:Milonga
ATTACH;FMTTYPE=image/png:https://tangoquebec.org/wp-content/uploads/2024/08/logo-noir2.png
END:VEVENT
BEGIN:VEVENT
DTSTART;TZID=America/New_York:20261122T153000
DTEND;TZID=America/New_York:20261122T183000
DTSTAMP:20260425T221746
CREATED:20260210T180855Z
LAST-MODIFIED:20260414T143210Z
UID:11369-1795361400-1795372200@tangoquebec.org
SUMMARY:Otra Milonga Mariposas
DESCRIPTION:La Otra Milonga Mariposas une rencontre décontractée à laquelle les passionnés du tango se donnent rendez-vous pour le plaisir de se retrouver\, danser et aussi pour la qualité musicale qu’ils y retrouvent.  Musique traditionnelle avec un zest de musique alternative. \nTDj et hôtesse Diane Hainse \nYWCA Québec\, 855 Av. Holland\, Québec\, QC G1S 3S5\, Petit Gymnase (apportez un cadenas pour le vestiaire) à compter de 15h30 jusqu’à 18h30. \nApportez vos rafraîchissements sans alcool. \n12$/Membres Club VIP Mariposas*15$/ Membres de Tango Québec \n20$/ Autres danseurs  \nInterac : Milonga-Mariposas@hotmail.com ou diane@mariposas-tango.com \nwww.mariposas-tango.com \n*Cartes disponibles sur place
URL:https://tangoquebec.org/index.php/calendrier/otra-milonga-mariposas-5/
LOCATION:YWCA (Petit Gymnase\, 2e étage)\, 855 Av. Holland\, Québec\, QC G1S 3S5\, Québec\, Qc\, Canada
CATEGORIES:Milonga
ATTACH;FMTTYPE=image/png:https://tangoquebec.org/wp-content/uploads/2024/01/M_La-Otra.png
END:VEVENT
BEGIN:VEVENT
DTSTART;TZID=America/New_York:20261129T153000
DTEND;TZID=America/New_York:20261129T183000
DTSTAMP:20260425T221746
CREATED:20260210T181010Z
LAST-MODIFIED:20260210T181031Z
UID:11371-1795966200-1795977000@tangoquebec.org
SUMMARY:Otra Milonga Mariposas
DESCRIPTION:La Otra Milonga Mariposas une rencontre décontractée à laquelle les passionnés du tango se donnent rendez-vous pour le plaisir de se retrouver\, danser et aussi pour la qualité musicale qu’ils y retrouvent.  Musique traditionnelle avec un zest de musique alternative. \nTDj et hôtesse Diane Hainse \nYWCA Québec\, 855 Av. Holland\, Québec\, QC G1S 3S5\, Petit Gymnase (apportez un cadenas pour le vestiaire) à compter de 15h30 jusqu’à 18h30. \nApportez vos rafraîchissements sans alcool. \n12$/Membres Club VIP Mariposas*15$/ Membres de Tango Québec \n20$/ Autres danseurs  \nInterac : Milonga-Mariposas@hotmail.com ou diane@mariposas-tango.com \nwww.mariposas-tango.com \n*Cartes disponibles sur place
URL:https://tangoquebec.org/index.php/calendrier/otra-milonga-mariposas-6/
LOCATION:YWCA (Petit Gymnase\, 2e étage)\, 855 Av. Holland\, Québec\, QC G1S 3S5\, Québec\, Qc\, Canada
CATEGORIES:Milonga
ATTACH;FMTTYPE=image/png:https://tangoquebec.org/wp-content/uploads/2024/01/M_La-Otra.png
ORGANIZER;CN="Mariposas Tango":MAILTO:milonga-mariposas@hotmail.com
END:VEVENT
BEGIN:VEVENT
DTSTART;TZID=America/New_York:20261206T153000
DTEND;TZID=America/New_York:20261206T183000
DTSTAMP:20260425T221746
CREATED:20260209T174443Z
LAST-MODIFIED:20260209T174443Z
UID:11336-1796571000-1796581800@tangoquebec.org
SUMMARY:Milonga de la Tarde
DESCRIPTION:La Milonga de la Tarde\, la milonga dominicale différente et chaleureuse. Pour votre plaisir! \n15h30 à 18h30 \n1360\, boul. de l’Entente\, Québec \nNombreux stationnements gratuits \n15$ \n  \nAu plaisir de vous accueillir\, \nChristian et Hugo.
URL:https://tangoquebec.org/index.php/calendrier/milonga-de-la-tarde-17/
LOCATION:1360\, boul de l’Entente\, Québec
CATEGORIES:Milonga
ATTACH;FMTTYPE=image/png:https://tangoquebec.org/wp-content/uploads/2024/08/logo-noir2.png
END:VEVENT
BEGIN:VEVENT
DTSTART;TZID=America/New_York:20261213T153000
DTEND;TZID=America/New_York:20261213T183000
DTSTAMP:20260425T221746
CREATED:20240424T222056Z
LAST-MODIFIED:20260210T181157Z
UID:9926-1797175800-1797186600@tangoquebec.org
SUMMARY:La Otra Milonga Mariposas
DESCRIPTION:La Otra Milonga Mariposas une rencontre décontractée à laquelle les passionnés du tango se donnent rendez-vous pour le plaisir de se retrouver\, danser et aussi pour la qualité musicale qu’ils y retrouvent.  Musique traditionnelle avec un zest de musique alternative. \nTDj et hôtesse Diane Hainse \nYWCA Québec\, 855 Av. Holland\, Québec\, QC G1S 3S5\, Petit Gymnase (apportez un cadenas pour le vestiaire) à compter de 15h30 jusqu’à 18h30. \nApportez vos rafraîchissements sans alcool. \n12$/Membres Club VIP Mariposas*15$/ Membres de Tango Québec \n20$/ Autres danseurs \n  \nInterac : Milonga-Mariposas@hotmail.com ou diane@mariposas-tango.com \nwww.mariposas-tango.com \n*Cartes disponibles sur place
URL:https://tangoquebec.org/index.php/calendrier/la-otra-milonga-mariposas-12/
LOCATION:YWCA (Petit Gymnase\, 2e étage)\, 855 Av. Holland\, Québec\, QC G1S 3S5\, Québec\, Qc\, Canada
CATEGORIES:Milonga
ATTACH;FMTTYPE=image/png:https://tangoquebec.org/wp-content/uploads/2024/01/M_La-Otra.png
END:VEVENT
BEGIN:VEVENT
DTSTART;TZID=America/New_York:20261220T150000
DTEND;TZID=America/New_York:20261220T190000
DTSTAMP:20260425T221746
CREATED:20260107T190728Z
LAST-MODIFIED:20260107T191058Z
UID:11281-1797778800-1797793200@tangoquebec.org
SUMMARY:Milonga del sol
DESCRIPTION:Théâtre de l’Auberge internationale\, 19\, rue Ste-Ursule (Vieux-Québec).\nEntrée :15$ (sortie toujours gratuite)\, 15h-19h\nAnimateurs et choix musical: Serge et Margarita
URL:https://tangoquebec.org/index.php/calendrier/milonga-del-sol-6/
LOCATION:Théâtre de l’Auberge Internationale\, 19\, Ste-Ursule
CATEGORIES:Milonga
ATTACH;FMTTYPE=image/jpeg:https://tangoquebec.org/wp-content/uploads/2026/01/Affiche-milonga-del-sol-toutes.reduit.jpeg
END:VEVENT
BEGIN:VEVENT
DTSTART;TZID=America/New_York:20261231T153000
DTEND;TZID=America/New_York:20261231T183000
DTSTAMP:20260425T221746
CREATED:20260209T174533Z
LAST-MODIFIED:20260209T174533Z
UID:11338-1798731000-1798741800@tangoquebec.org
SUMMARY:Milonga de la Tarde
DESCRIPTION:La Milonga de la Tarde\, la milonga dominicale différente et chaleureuse. Pour votre plaisir! \n15h30 à 18h30 \n1360\, boul. de l’Entente\, Québec \nNombreux stationnements gratuits \n15$ \n  \nAu plaisir de vous accueillir\, \nChristian et Hugo.
URL:https://tangoquebec.org/index.php/calendrier/milonga-de-la-tarde-18/
LOCATION:1360\, boul de l’Entente\, Québec
CATEGORIES:Milonga
ATTACH;FMTTYPE=image/png:https://tangoquebec.org/wp-content/uploads/2024/08/logo-noir2.png
END:VEVENT
END:VCALENDAR