BEGIN:VCALENDAR
VERSION:2.0
PRODID:-//Tango Québec - ECPv6.15.20//NONSGML v1.0//EN
CALSCALE:GREGORIAN
METHOD:PUBLISH
X-ORIGINAL-URL:https://tangoquebec.org
X-WR-CALDESC:Évènements pour Tango Québec
REFRESH-INTERVAL;VALUE=DURATION:PT1H
X-Robots-Tag:noindex
X-PUBLISHED-TTL:PT1H
BEGIN:VTIMEZONE
TZID:America/New_York
BEGIN:DAYLIGHT
TZOFFSETFROM:-0500
TZOFFSETTO:-0400
TZNAME:EDT
DTSTART:20230312T070000
END:DAYLIGHT
BEGIN:STANDARD
TZOFFSETFROM:-0400
TZOFFSETTO:-0500
TZNAME:EST
DTSTART:20231105T060000
END:STANDARD
BEGIN:DAYLIGHT
TZOFFSETFROM:-0500
TZOFFSETTO:-0400
TZNAME:EDT
DTSTART:20240310T070000
END:DAYLIGHT
BEGIN:STANDARD
TZOFFSETFROM:-0400
TZOFFSETTO:-0500
TZNAME:EST
DTSTART:20241103T060000
END:STANDARD
BEGIN:DAYLIGHT
TZOFFSETFROM:-0500
TZOFFSETTO:-0400
TZNAME:EDT
DTSTART:20250309T070000
END:DAYLIGHT
BEGIN:STANDARD
TZOFFSETFROM:-0400
TZOFFSETTO:-0500
TZNAME:EST
DTSTART:20251102T060000
END:STANDARD
END:VTIMEZONE
BEGIN:VEVENT
DTSTART;TZID=America/New_York:20241203T180000
DTEND;TZID=America/New_York:20241203T200000
DTSTAMP:20260425T204818
CREATED:20241120T224618Z
LAST-MODIFIED:20241120T224618Z
UID:10442-1733248800-1733256000@tangoquebec.org
SUMMARY:Practica
DESCRIPTION:Venez perfectionner votre technique et peaufiner vos pas. \nLes mentors seront annoncés sur Facebook. \nGratuit pour les membres\, 5$ pour les non-membres.
URL:https://tangoquebec.org/index.php/calendrier/practica-2/
LOCATION:Bar le Drague\, 815 rue Saint-Augustin\,\, Québec\, G1R 3N4\, Canada
CATEGORIES:Practica
ATTACH;FMTTYPE=image/jpeg:https://tangoquebec.org/wp-content/uploads/2019/08/drague2022.jpg
END:VEVENT
BEGIN:VEVENT
DTSTART;TZID=America/New_York:20241210T180000
DTEND;TZID=America/New_York:20241210T200000
DTSTAMP:20260425T204818
CREATED:20241120T224742Z
LAST-MODIFIED:20241209T232847Z
UID:10444-1733853600-1733860800@tangoquebec.org
SUMMARY:Practica - relâche
DESCRIPTION:Les practicas de Tango Québec prennent une pause pour la période des Fêtes et reprendront mardi le 7 janvier. \nContinuez à pratiquer car :  »L’excellence est un art que l’on n’atteint que par l’exercice constant. Nous sommes ce que nous faisons de manière répétée. L’excellence n’est donc pas une action mais une habitude. » Aristote.
URL:https://tangoquebec.org/index.php/calendrier/practica-3/
CATEGORIES:Practica
ATTACH;FMTTYPE=image/jpeg:https://tangoquebec.org/wp-content/uploads/2019/08/drague2022.jpg
END:VEVENT
BEGIN:VEVENT
DTSTART;TZID=America/New_York:20241217T180000
DTEND;TZID=America/New_York:20241217T200000
DTSTAMP:20260425T204818
CREATED:20241120T224822Z
LAST-MODIFIED:20241209T232825Z
UID:10446-1734458400-1734465600@tangoquebec.org
SUMMARY:Practica - relâche
DESCRIPTION:Les practicas de Tango Québec prennent une pause pour la période des Fêtes et reprendront mardi le 7 janvier. \nContinuez à pratiquer car :  »L’excellence est un art que l’on n’atteint que par l’exercice constant. Nous sommes ce que nous faisons de manière répétée. L’excellence n’est donc pas une action mais une habitude. » Aristote.
URL:https://tangoquebec.org/index.php/calendrier/practica-4/
LOCATION:Bar le Drague\, 815 rue Saint-Augustin\,\, Québec\, G1R 3N4\, Canada
CATEGORIES:Practica
ATTACH;FMTTYPE=image/jpeg:https://tangoquebec.org/wp-content/uploads/2019/08/drague2022.jpg
END:VEVENT
END:VCALENDAR