BEGIN:VCALENDAR
VERSION:2.0
PRODID:-//Tango Québec - ECPv6.15.20//NONSGML v1.0//EN
CALSCALE:GREGORIAN
METHOD:PUBLISH
X-ORIGINAL-URL:https://tangoquebec.org
X-WR-CALDESC:Évènements pour Tango Québec
REFRESH-INTERVAL;VALUE=DURATION:PT1H
X-Robots-Tag:noindex
X-PUBLISHED-TTL:PT1H
BEGIN:VTIMEZONE
TZID:America/New_York
BEGIN:DAYLIGHT
TZOFFSETFROM:-0500
TZOFFSETTO:-0400
TZNAME:EDT
DTSTART:20240310T070000
END:DAYLIGHT
BEGIN:STANDARD
TZOFFSETFROM:-0400
TZOFFSETTO:-0500
TZNAME:EST
DTSTART:20241103T060000
END:STANDARD
BEGIN:DAYLIGHT
TZOFFSETFROM:-0500
TZOFFSETTO:-0400
TZNAME:EDT
DTSTART:20250309T070000
END:DAYLIGHT
BEGIN:STANDARD
TZOFFSETFROM:-0400
TZOFFSETTO:-0500
TZNAME:EST
DTSTART:20251102T060000
END:STANDARD
BEGIN:DAYLIGHT
TZOFFSETFROM:-0500
TZOFFSETTO:-0400
TZNAME:EDT
DTSTART:20260308T070000
END:DAYLIGHT
BEGIN:STANDARD
TZOFFSETFROM:-0400
TZOFFSETTO:-0500
TZNAME:EST
DTSTART:20261101T060000
END:STANDARD
END:VTIMEZONE
BEGIN:VEVENT
DTSTART;TZID=America/New_York:20250328T203000
DTEND;TZID=America/New_York:20250328T233000
DTSTAMP:20260424T062734
CREATED:20240105T015127Z
LAST-MODIFIED:20250120T172524Z
UID:9489-1743193800-1743204600@tangoquebec.org
SUMMARY:Milonga Mariposas
DESCRIPTION:La Milonga Mariposas le rendez-vous du vendredi soir ! Une milonga purement traditionnelle de tango salon (milonguero). \nUne rencontre décontractée à laquelle les passionnés du tango se donnent rendez-vous pour le plaisir de se retrouver\, de danser et aussi pour la qualité musicale qu’ils y retrouvent. \nTDj et hôtesse Diane Hainse \nLoisirs du Trait Carré\, salle SS112\, à compter de 20h30 jusqu’à 0h00 (minuit). \nApportez vos rafraîchissements\, nous avons un permis. \nAdresse: Loisirs du Trait Carré\, 8815 Av. Jean Paquin\, Québec G1G 4W7 (sortie Jean Talon Est de l’autoroute Laurentienne nord\, à droite sur De Laval\, derrière l’église par le stationnement) \n  \n10$/Membres Club VIP Mariposas*\n12$/ Membres de Tango Québec \n15$/ Autres danseurs \n  \nInterac : Milonga-Mariposas@hotmail.com ou diane@mariposas-tango.com \nwww.mariposas-tango.com \n*Cartes disponibles sur place
URL:https://tangoquebec.org/index.php/calendrier/milonga-mariposas-del-domingo-13/
LOCATION:Loisirs du Trait Carré\, 8815 Av. Jean Paquin\, Québec\, Québec\, G1G 4W7\, Canada
CATEGORIES:Milonga
ATTACH;FMTTYPE=image/png:https://tangoquebec.org/wp-content/uploads/2024/01/logo-mariposas-vn.png
ORGANIZER;CN="Mariposas Tango":MAILTO:milonga-mariposas@hotmail.com
END:VEVENT
END:VCALENDAR