BEGIN:VCALENDAR
VERSION:2.0
PRODID:-//Tango Québec - ECPv6.15.20//NONSGML v1.0//EN
CALSCALE:GREGORIAN
METHOD:PUBLISH
X-ORIGINAL-URL:https://tangoquebec.org
X-WR-CALDESC:Évènements pour Tango Québec
REFRESH-INTERVAL;VALUE=DURATION:PT1H
X-Robots-Tag:noindex
X-PUBLISHED-TTL:PT1H
BEGIN:VTIMEZONE
TZID:America/New_York
BEGIN:DAYLIGHT
TZOFFSETFROM:-0500
TZOFFSETTO:-0400
TZNAME:EDT
DTSTART:20240310T070000
END:DAYLIGHT
BEGIN:STANDARD
TZOFFSETFROM:-0400
TZOFFSETTO:-0500
TZNAME:EST
DTSTART:20241103T060000
END:STANDARD
BEGIN:DAYLIGHT
TZOFFSETFROM:-0500
TZOFFSETTO:-0400
TZNAME:EDT
DTSTART:20250309T070000
END:DAYLIGHT
BEGIN:STANDARD
TZOFFSETFROM:-0400
TZOFFSETTO:-0500
TZNAME:EST
DTSTART:20251102T060000
END:STANDARD
BEGIN:DAYLIGHT
TZOFFSETFROM:-0500
TZOFFSETTO:-0400
TZNAME:EDT
DTSTART:20260308T070000
END:DAYLIGHT
BEGIN:STANDARD
TZOFFSETFROM:-0400
TZOFFSETTO:-0500
TZNAME:EST
DTSTART:20261101T060000
END:STANDARD
END:VTIMEZONE
BEGIN:VEVENT
DTSTART;TZID=America/New_York:20250228T203000
DTEND;TZID=America/New_York:20250228T203000
DTSTAMP:20260424T062601
CREATED:20240105T014811Z
LAST-MODIFIED:20250225T011927Z
UID:9485-1740774600-1740774600@tangoquebec.org
SUMMARY:Milonga au Palais Montcalm
DESCRIPTION:NOTE : un spectacle concert au Palais Montcalm a lieu le 28 février.  Si la milonga au Palais Montcalm est confirmée\, il n’y aura pas de Milonga-Mariposas car Diane sera la Dj invitée au concert.   \nBillet de spectacle sold out ! \nBillets pour la milonga : si vous avez déjà votre billet de spectacle 20$ par virement Interac\, si vous n ‘avez pas votre billet de spectacle 30$. \nVirement Interac Courriel: victorhugouribe@hotmail.com  \n  \n  \n 
URL:https://tangoquebec.org/index.php/calendrier/milonga-mariposas-del-domingo-11/
LOCATION:Loisirs du Trait Carré\, 8815 Av. Jean Paquin\, Québec\, Québec\, G1G 4W7\, Canada
CATEGORIES:Milonga
ATTACH;FMTTYPE=image/png:https://tangoquebec.org/wp-content/uploads/2024/01/logo-mariposas-vn.png
ORGANIZER;CN="Mariposas Tango":MAILTO:milonga-mariposas@hotmail.com
END:VEVENT
END:VCALENDAR