BEGIN:VCALENDAR
VERSION:2.0
PRODID:-//Tango Québec - ECPv6.15.20//NONSGML v1.0//EN
CALSCALE:GREGORIAN
METHOD:PUBLISH
X-ORIGINAL-URL:https://tangoquebec.org
X-WR-CALDESC:Évènements pour Tango Québec
REFRESH-INTERVAL;VALUE=DURATION:PT1H
X-Robots-Tag:noindex
X-PUBLISHED-TTL:PT1H
BEGIN:VTIMEZONE
TZID:America/New_York
BEGIN:DAYLIGHT
TZOFFSETFROM:-0500
TZOFFSETTO:-0400
TZNAME:EDT
DTSTART:20230312T070000
END:DAYLIGHT
BEGIN:STANDARD
TZOFFSETFROM:-0400
TZOFFSETTO:-0500
TZNAME:EST
DTSTART:20231105T060000
END:STANDARD
BEGIN:DAYLIGHT
TZOFFSETFROM:-0500
TZOFFSETTO:-0400
TZNAME:EDT
DTSTART:20240310T070000
END:DAYLIGHT
BEGIN:STANDARD
TZOFFSETFROM:-0400
TZOFFSETTO:-0500
TZNAME:EST
DTSTART:20241103T060000
END:STANDARD
BEGIN:DAYLIGHT
TZOFFSETFROM:-0500
TZOFFSETTO:-0400
TZNAME:EDT
DTSTART:20250309T070000
END:DAYLIGHT
BEGIN:STANDARD
TZOFFSETFROM:-0400
TZOFFSETTO:-0500
TZNAME:EST
DTSTART:20251102T060000
END:STANDARD
END:VTIMEZONE
BEGIN:VEVENT
DTSTART;TZID=America/New_York:20241117T133000
DTEND;TZID=America/New_York:20241117T180000
DTSTAMP:20260424T132316
CREATED:20240826T111902Z
LAST-MODIFIED:20241113T191615Z
UID:10297-1731850200-1731866400@tangoquebec.org
SUMMARY:Milonga du 25ème anniversaire de l'Association Tango Québec
DESCRIPTION:Joignez vous à nous dès 13h pour danser tout l’après-midi pour célébrer le 25ème anniversaire de l’Association Tango Québec. \nTrois djs se relaieront pour votre plus grand plaisir. \n10$ pour les membres / 15$ pour les non membres
URL:https://tangoquebec.org/index.php/calendrier/milonga-du-25eme-anniversaire-de-lassociation-tango-quebec/
LOCATION:Yacht Club de Québec\, 1225\, boul. Champlain\, Québec\, Québec\, G1K 0A2\, Canada
CATEGORIES:Milonga
END:VEVENT
END:VCALENDAR