BEGIN:VCALENDAR
VERSION:2.0
PRODID:-//Tango Québec - ECPv6.15.20//NONSGML v1.0//EN
CALSCALE:GREGORIAN
METHOD:PUBLISH
X-ORIGINAL-URL:https://tangoquebec.org
X-WR-CALDESC:Évènements pour Tango Québec
REFRESH-INTERVAL;VALUE=DURATION:PT1H
X-Robots-Tag:noindex
X-PUBLISHED-TTL:PT1H
BEGIN:VTIMEZONE
TZID:America/New_York
BEGIN:DAYLIGHT
TZOFFSETFROM:-0500
TZOFFSETTO:-0400
TZNAME:EDT
DTSTART:20230312T070000
END:DAYLIGHT
BEGIN:STANDARD
TZOFFSETFROM:-0400
TZOFFSETTO:-0500
TZNAME:EST
DTSTART:20231105T060000
END:STANDARD
BEGIN:DAYLIGHT
TZOFFSETFROM:-0500
TZOFFSETTO:-0400
TZNAME:EDT
DTSTART:20240310T070000
END:DAYLIGHT
BEGIN:STANDARD
TZOFFSETFROM:-0400
TZOFFSETTO:-0500
TZNAME:EST
DTSTART:20241103T060000
END:STANDARD
BEGIN:DAYLIGHT
TZOFFSETFROM:-0500
TZOFFSETTO:-0400
TZNAME:EDT
DTSTART:20250309T070000
END:DAYLIGHT
BEGIN:STANDARD
TZOFFSETFROM:-0400
TZOFFSETTO:-0500
TZNAME:EST
DTSTART:20251102T060000
END:STANDARD
END:VTIMEZONE
BEGIN:VEVENT
DTSTART;TZID=America/New_York:20241005T203000
DTEND;TZID=America/New_York:20241005T230000
DTSTAMP:20260424T151244
CREATED:20240826T110436Z
LAST-MODIFIED:20240926T103614Z
UID:10293-1728160200-1728169200@tangoquebec.org
SUMMARY:Milonga de l'Association Tango Québec - dj Natalia Sinelnikova
DESCRIPTION:Tous sont cordialement invités à venir danser le tango argentin\, sur la musique de la dj Natalia Sinelnikova\, lors de la Milonga de l’Association Tango Québec. \n5$ pour les membres qui ont participé à l’Assemblée Générale Annuelle \n10$ pour les membres qui viennent uniquement à la milonga \n15$ pour les non-membres
URL:https://tangoquebec.org/index.php/calendrier/milonga-de-lassociation-tango-quebec/
LOCATION:Centre Mgr Marcoux\, 2025 Adjutor-Rivard\, Québec\, Québec\, G1J 0H6\, Canada
CATEGORIES:Milonga
ATTACH;FMTTYPE=image/jpeg:https://tangoquebec.org/wp-content/uploads/2017/09/banniere_noir_courte.jpg
END:VEVENT
END:VCALENDAR