BEGIN:VCALENDAR
VERSION:2.0
PRODID:-//Tango Québec - ECPv6.15.20//NONSGML v1.0//EN
CALSCALE:GREGORIAN
METHOD:PUBLISH
X-WR-CALNAME:Tango Québec
X-ORIGINAL-URL:https://tangoquebec.org
X-WR-CALDESC:Évènements pour Tango Québec
REFRESH-INTERVAL;VALUE=DURATION:PT1H
X-Robots-Tag:noindex
X-PUBLISHED-TTL:PT1H
BEGIN:VTIMEZONE
TZID:America/New_York
BEGIN:DAYLIGHT
TZOFFSETFROM:-0500
TZOFFSETTO:-0400
TZNAME:EDT
DTSTART:20230312T070000
END:DAYLIGHT
BEGIN:STANDARD
TZOFFSETFROM:-0400
TZOFFSETTO:-0500
TZNAME:EST
DTSTART:20231105T060000
END:STANDARD
BEGIN:DAYLIGHT
TZOFFSETFROM:-0500
TZOFFSETTO:-0400
TZNAME:EDT
DTSTART:20240310T070000
END:DAYLIGHT
BEGIN:STANDARD
TZOFFSETFROM:-0400
TZOFFSETTO:-0500
TZNAME:EST
DTSTART:20241103T060000
END:STANDARD
BEGIN:DAYLIGHT
TZOFFSETFROM:-0500
TZOFFSETTO:-0400
TZNAME:EDT
DTSTART:20250309T070000
END:DAYLIGHT
BEGIN:STANDARD
TZOFFSETFROM:-0400
TZOFFSETTO:-0500
TZNAME:EST
DTSTART:20251102T060000
END:STANDARD
END:VTIMEZONE
BEGIN:VEVENT
DTSTART;TZID=America/New_York:20240630T200000
DTEND;TZID=America/New_York:20240630T200000
DTSTAMP:20260424T200540
CREATED:20240613T163850Z
LAST-MODIFIED:20240613T164006Z
UID:10085-1719777600-1719777600@tangoquebec.org
SUMMARY:Milonga Tu y Yo Tango - le 30 juin 2024 - DJ Jean-Sébastien Viard
DESCRIPTION:Venez danser grâce au DJ Jean-Sébastien Viard\, de 20h à minuit ! \nLa milonga est précédée d’un atelier d’initiation de 19h à 20h. Invitez vos proches ! \n 
URL:https://tangoquebec.org/index.php/calendrier/milonga-tu-y-yo-tango-le-30-juin-2024-dj-jean-sebastien-viard/
LOCATION:La Swing Ambassde\, 333 de la Couronne\, Québec\, Québec\, G1K6E7\, Canada
CATEGORIES:Milonga
ATTACH;FMTTYPE=image/jpeg:https://tangoquebec.org/wp-content/uploads/2024/06/InfoTango_31mai_JSV_page-0001.jpg
END:VEVENT
END:VCALENDAR