BEGIN:VCALENDAR
VERSION:2.0
PRODID:-//Tango Québec - ECPv6.15.20//NONSGML v1.0//EN
CALSCALE:GREGORIAN
METHOD:PUBLISH
X-ORIGINAL-URL:https://tangoquebec.org
X-WR-CALDESC:Évènements pour Tango Québec
REFRESH-INTERVAL;VALUE=DURATION:PT1H
X-Robots-Tag:noindex
X-PUBLISHED-TTL:PT1H
BEGIN:VTIMEZONE
TZID:America/New_York
BEGIN:DAYLIGHT
TZOFFSETFROM:-0500
TZOFFSETTO:-0400
TZNAME:EDT
DTSTART:20250309T070000
END:DAYLIGHT
BEGIN:STANDARD
TZOFFSETFROM:-0400
TZOFFSETTO:-0500
TZNAME:EST
DTSTART:20251102T060000
END:STANDARD
BEGIN:DAYLIGHT
TZOFFSETFROM:-0500
TZOFFSETTO:-0400
TZNAME:EDT
DTSTART:20260308T070000
END:DAYLIGHT
BEGIN:STANDARD
TZOFFSETFROM:-0400
TZOFFSETTO:-0500
TZNAME:EST
DTSTART:20261101T060000
END:STANDARD
BEGIN:DAYLIGHT
TZOFFSETFROM:-0500
TZOFFSETTO:-0400
TZNAME:EDT
DTSTART:20270314T070000
END:DAYLIGHT
BEGIN:STANDARD
TZOFFSETFROM:-0400
TZOFFSETTO:-0500
TZNAME:EST
DTSTART:20271107T060000
END:STANDARD
END:VTIMEZONE
BEGIN:VEVENT
DTSTART;TZID=America/New_York:20260612T193000
DTEND;TZID=America/New_York:20260612T233000
DTSTAMP:20260421T050841
CREATED:20250825T171717Z
LAST-MODIFIED:20250825T171717Z
UID:11067-1781292600-1781307000@tangoquebec.org
SUMMARY:Milonga Tangusto à Trois-Rivières
DESCRIPTION:La Milonga Tangusto à Trois-Rivières : une milonga à l’ambiance conviviale et chaleureuse dans une salle superbe.\n20\, rue Jacinthe\, Trois-Rivières\n19h30 à 23h30
URL:https://tangoquebec.org/index.php/calendrier/milonga-tangusto-a-trois-rivieres-41/
LOCATION:Tangusto\, 20\, rue Jacinthe\, Trois-Rivières\, Québec\, G8V 2M3\, Canada
CATEGORIES:Milonga
ATTACH;FMTTYPE=image/jpeg:https://tangoquebec.org/wp-content/uploads/2018/01/tangusto_salle2.jpg
END:VEVENT
BEGIN:VEVENT
DTSTART;TZID=America/New_York:20260613T160000
DTEND;TZID=America/New_York:20260613T200000
DTSTAMP:20260421T050841
CREATED:20250813T135826Z
LAST-MODIFIED:20250813T135826Z
UID:10959-1781366400-1781380800@tangoquebec.org
SUMMARY:Milonga Intima
DESCRIPTION:Milonga Intima 16h30 à 20h00 – 10$ \nInitiation au tango: 16h00 à 16h30 – 10$ \n  \nTDJ: Karianne Vaillant \n  \nAdresse: Restaurant Basilico’s\, 30 place de l’Église\, Cap Santé \n  \nVenez découvrir les charmes du comté de Portneuf en participant à notre milonga de Cap Santé. Un samedi sur 2\, cette milonga\, situé dans un charmant restaurant à proximité du fleuve Saint-Laurent\, vous propose 70% de musique traditionnelle et 30% de musique alternative. Une surprise vous attend à chaque date. Consultez le calendrier pour plus de détails. \nPour informations : milonga2025@hotmail.com
URL:https://tangoquebec.org/index.php/calendrier/milonga-intima-18/
LOCATION:Restaurant Basilico’s 30 place de l’église\, Cap Santé\, 30 place de l'église\, Cap Santé\, Québec\, G0A1L0\, Canada
CATEGORIES:Milonga
ATTACH;FMTTYPE=image/png:https://tangoquebec.org/wp-content/uploads/2025/07/thumbnail_image.png
END:VEVENT
BEGIN:VEVENT
DTSTART;TZID=America/New_York:20260614T153000
DTEND;TZID=America/New_York:20260614T183000
DTSTAMP:20260421T050841
CREATED:20240424T221720Z
LAST-MODIFIED:20260210T171146Z
UID:9918-1781451000-1781461800@tangoquebec.org
SUMMARY:La Otra Milonga Mariposas
DESCRIPTION:La Otra Milonga Mariposas une rencontre décontractée à laquelle les passionnés du tango se donnent rendez-vous pour le plaisir de se retrouver\, danser et aussi pour la qualité musicale qu’ils y retrouvent.  Musique traditionnelle avec un zest de musique alternative. \nUne rencontre décontractée à laquelle les passionnés du tango se donnent rendez-vous pour le plaisir de se retrouver\, de danser et aussi pour la qualité musicale qu’ils y retrouvent. \nTDj et hôtesse Diane Hainse \nYWCA Québec\, 855 Av. Holland\, Québec\, QC G1S 3S5\, Petit Gymnase (apportez un cadenas pour le vestiaire) à compter de 20h00 jusqu’à 0h00 (minuit). \nApportez vos rafraîchissements sans alcool. \n12$/Membres Club VIP Mariposas*15$/ Membres de Tango Québec \n20$/ Autres danseurs \nInterac : Milonga-Mariposas@hotmail.com ou diane@mariposas-tango.com \nwww.mariposas-tango.com \n*Cartes disponibles sur place
URL:https://tangoquebec.org/index.php/calendrier/la-otra-milonga-mariposas-8/
LOCATION:YWCA (Petit Gymnase\, 2e étage)\, 855 Av. Holland\, Québec\, QC G1S 3S5\, Québec\, Qc\, Canada
CATEGORIES:Milonga
ATTACH;FMTTYPE=image/png:https://tangoquebec.org/wp-content/uploads/2024/01/M_La-Otra.png
END:VEVENT
BEGIN:VEVENT
DTSTART;TZID=America/New_York:20260620T210000
DTEND;TZID=America/New_York:20260620T233000
DTSTAMP:20260421T050841
CREATED:20250521T235424Z
LAST-MODIFIED:20250521T235424Z
UID:10745-1781989200-1781998200@tangoquebec.org
SUMMARY:La milonguita de Mam'zelle Janice
DESCRIPTION:La milonguita de mam’zelle Janice est de retour!\nJe vous attends dès 21h00\, au Carter Hall de la Cathédrale Holy Trinity au 31\, rue des Jardins\, Québec (Québec). Stationnement gratuit. \nApporter vos boissons non-alcoolisées.\nDJT: mam’zelle Janice \nPrix d’entrée : 15$\nDeux façons de payer:  argent comptant à la porte ou par virement bancaire à l’adresse courriel suivante : pleiade1@hotmail.com\nMot de passe: tango
URL:https://tangoquebec.org/index.php/calendrier/la-milonguita-de-mamzelle-janice-22/
LOCATION:Chapelle de la cathédrale Holy Trinity\, 31\, rue des Jardins\, Québec\, Québec\, G1R 4L6\, Canada
CATEGORIES:Milonga
ATTACH;FMTTYPE=image/png:https://tangoquebec.org/wp-content/uploads/2019/09/Janice_logo_blanc.png
END:VEVENT
BEGIN:VEVENT
DTSTART;TZID=America/New_York:20260621T150000
DTEND;TZID=America/New_York:20260621T190000
DTSTAMP:20260421T050841
CREATED:20260107T190550Z
LAST-MODIFIED:20260107T190550Z
UID:11277-1782054000-1782068400@tangoquebec.org
SUMMARY:Milonga del sol
DESCRIPTION:Théâtre de l’Auberge internationale\, 19\, rue Ste-Ursule (Vieux-Québec).\nEntrée :15$ (sortie toujours gratuite)\, 15h-19h\nAnimateurs et choix musical: Serge et Margarita
URL:https://tangoquebec.org/index.php/calendrier/milonga-del-sol-4/
LOCATION:Théâtre de l’Auberge Internationale\, 19\, Ste-Ursule
CATEGORIES:Milonga
ATTACH;FMTTYPE=image/jpeg:https://tangoquebec.org/wp-content/uploads/2026/01/Affiche-milonga-del-sol-toutes.reduit.jpeg
END:VEVENT
BEGIN:VEVENT
DTSTART;TZID=America/New_York:20260627T163000
DTEND;TZID=America/New_York:20260627T200000
DTSTAMP:20260421T050841
CREATED:20250813T135910Z
LAST-MODIFIED:20250813T135910Z
UID:10961-1782577800-1782590400@tangoquebec.org
SUMMARY:Milonga Intima
DESCRIPTION:Milonga Intima 16h30 à 20h00 – 10$ \nInitiation au tango: 16h00 à 16h30 – 10$ \n  \nTDJ: Karianne Vaillant \n  \nAdresse: Restaurant Basilico’s\, 30 place de l’Église\, Cap Santé \n  \nVenez découvrir les charmes du comté de Portneuf en participant à notre milonga de Cap Santé. Un samedi sur 2\, cette milonga\, situé dans un charmant restaurant à proximité du fleuve Saint-Laurent\, vous propose 70% de musique traditionnelle et 30% de musique alternative. Une surprise vous attend à chaque date. Consultez le calendrier pour plus de détails. \nPour informations : milonga2025@hotmail.com
URL:https://tangoquebec.org/index.php/calendrier/milonga-intima-19/
LOCATION:Restaurant Basilico’s 30 place de l’église\, Cap Santé\, 30 place de l'église\, Cap Santé\, Québec\, G0A1L0\, Canada
CATEGORIES:Milonga
ATTACH;FMTTYPE=image/png:https://tangoquebec.org/wp-content/uploads/2025/07/thumbnail_image.png
END:VEVENT
END:VCALENDAR