BEGIN:VCALENDAR
VERSION:2.0
PRODID:-//Tango Québec - ECPv6.15.20//NONSGML v1.0//EN
CALSCALE:GREGORIAN
METHOD:PUBLISH
X-WR-CALNAME:Tango Québec
X-ORIGINAL-URL:https://tangoquebec.org
X-WR-CALDESC:Évènements pour Tango Québec
REFRESH-INTERVAL;VALUE=DURATION:PT1H
X-Robots-Tag:noindex
X-PUBLISHED-TTL:PT1H
BEGIN:VTIMEZONE
TZID:America/New_York
BEGIN:DAYLIGHT
TZOFFSETFROM:-0500
TZOFFSETTO:-0400
TZNAME:EDT
DTSTART:20240310T070000
END:DAYLIGHT
BEGIN:STANDARD
TZOFFSETFROM:-0400
TZOFFSETTO:-0500
TZNAME:EST
DTSTART:20241103T060000
END:STANDARD
BEGIN:DAYLIGHT
TZOFFSETFROM:-0500
TZOFFSETTO:-0400
TZNAME:EDT
DTSTART:20250309T070000
END:DAYLIGHT
BEGIN:STANDARD
TZOFFSETFROM:-0400
TZOFFSETTO:-0500
TZNAME:EST
DTSTART:20251102T060000
END:STANDARD
BEGIN:DAYLIGHT
TZOFFSETFROM:-0500
TZOFFSETTO:-0400
TZNAME:EDT
DTSTART:20260308T070000
END:DAYLIGHT
BEGIN:STANDARD
TZOFFSETFROM:-0400
TZOFFSETTO:-0500
TZNAME:EST
DTSTART:20261101T060000
END:STANDARD
END:VTIMEZONE
BEGIN:VEVENT
DTSTART;TZID=America/New_York:20250903T190000
DTEND;TZID=America/New_York:20250903T223000
DTSTAMP:20260421T142852
CREATED:20250522T003142Z
LAST-MODIFIED:20250625T130436Z
UID:10776-1756926000-1756938600@tangoquebec.org
SUMMARY:Milonga extérieure Place Fleur-de-Lys - DJ Bernard Daigle
DESCRIPTION:Cet été\, la participation aux milongas extérieures du mercredi soir sera soumise aux conditions d’accès suivantes : \nGratuit pour les membres de Tango Québec 2025. \n5$/personne non-membre \n(Renouvelez ou obtenez votre carte de membre pour 30$ valide pour une année) \nConsultez tous les avantages reliés à la carte de membre.  \nNotez que nous aurons besoin de l’aide de volontaires pour la pose et le retrait du tapis de danse\, et qu’il est préférable d’apporter sa propre chaise de parterre.
URL:https://tangoquebec.org/index.php/calendrier/milonga-exterieure-place-fleur-de-lys-dj-bernard-daigle/
LOCATION:https://www.google.com/maps/place/Restaurant+Normandin+Fleur+de+Lys/@46.8222055\,-71.2544171\,17z/data=!4m17!1m9!2m8!1sRestaurants!3m6!1sRestaurants!2sRue+Soumande\,+Qu%C3%A9bec\,+QC!3s0x4cb89637ed81aa0b:0xd1f0d0e9a978836b!4m2!1d-71.2537305!2d46.8268377!3m6!1s0x4cb896488dca012f:0xb410fe58efb2c5e9!8m2!3d46.82142!4d-71.25436!15sCgtSZXN0YXVyYW50c1oNIgtyZXN0YXVyYW50c5IBEWZhbWlseV9yZXN0YXVyYW504AEA!16s%2Fg%2F1tgnwv0b\, Québec
CATEGORIES:Milonga
ATTACH;FMTTYPE=image/jpeg:https://tangoquebec.org/wp-content/uploads/2025/05/ete-2025-Place-Fleur-de-Lys.jpg
END:VEVENT
BEGIN:VEVENT
DTSTART;TZID=America/New_York:20250905T193000
DTEND;TZID=America/New_York:20250905T233000
DTSTAMP:20260421T142852
CREATED:20250823T135944Z
LAST-MODIFIED:20250823T135944Z
UID:11031-1757100600-1757115000@tangoquebec.org
SUMMARY:Milonga Tangusto à Trois-Rivières
DESCRIPTION:La Milonga Tangusto à Trois-Rivières : une milonga à l’ambiance conviviale et chaleureuse dans une salle superbe.\n20\, rue Jacinthe\, Trois-Rivières\n19h30 à 23h30
URL:https://tangoquebec.org/index.php/calendrier/milonga-tangusto-a-trois-rivieres-23/
LOCATION:Tangusto\, 20\, rue Jacinthe\, Trois-Rivières\, Québec\, G8V 2M3\, Canada
CATEGORIES:Milonga
ATTACH;FMTTYPE=image/jpeg:https://tangoquebec.org/wp-content/uploads/2018/01/tangusto_salle2.jpg
END:VEVENT
BEGIN:VEVENT
DTSTART;TZID=America/New_York:20250910T190000
DTEND;TZID=America/New_York:20250910T223000
DTSTAMP:20260421T142852
CREATED:20250522T003322Z
LAST-MODIFIED:20250625T130408Z
UID:10778-1757530800-1757543400@tangoquebec.org
SUMMARY:Milonga extérieure Place Fleur-de-Lys - DJ Janice Wood
DESCRIPTION:Cet été\, la participation aux milongas extérieures du mercredi soir sera soumise aux conditions d’accès suivantes : \nGratuit pour les membres de Tango Québec 2025. \n5$/personne non-membre \n(Renouvelez ou obtenez votre carte de membre pour 30$ valide pour une année) \nConsultez tous les avantages reliés à la carte de membre.  \nNotez que nous aurons besoin de l’aide de volontaires pour la pose et le retrait du tapis de danse\, et qu’il est préférable d’apporter sa propre chaise de parterre.
URL:https://tangoquebec.org/index.php/calendrier/milonga-exterieure-place-fleur-de-lys-dj-janice-wood-2/
LOCATION:https://www.google.com/maps/place/Restaurant+Normandin+Fleur+de+Lys/@46.8222055\,-71.2544171\,17z/data=!4m17!1m9!2m8!1sRestaurants!3m6!1sRestaurants!2sRue+Soumande\,+Qu%C3%A9bec\,+QC!3s0x4cb89637ed81aa0b:0xd1f0d0e9a978836b!4m2!1d-71.2537305!2d46.8268377!3m6!1s0x4cb896488dca012f:0xb410fe58efb2c5e9!8m2!3d46.82142!4d-71.25436!15sCgtSZXN0YXVyYW50c1oNIgtyZXN0YXVyYW50c5IBEWZhbWlseV9yZXN0YXVyYW504AEA!16s%2Fg%2F1tgnwv0b\, Québec
CATEGORIES:Milonga
ATTACH;FMTTYPE=image/jpeg:https://tangoquebec.org/wp-content/uploads/2025/05/ete-2025-Place-Fleur-de-Lys.jpg
END:VEVENT
BEGIN:VEVENT
DTSTART;TZID=America/New_York:20250914T140000
DTEND;TZID=America/New_York:20250914T180000
DTSTAMP:20260421T142852
CREATED:20240424T213618Z
LAST-MODIFIED:20250909T203115Z
UID:9848-1757858400-1757872800@tangoquebec.org
SUMMARY:La Otra Milonga Mariposas
DESCRIPTION:La Otra Milonga Mariposas une rencontre décontractée à laquelle les passionnés du tango se donnent rendez-vous pour le plaisir de se retrouver\, danser et aussi pour la qualité musicale qu’ils y retrouvent.  Musique traditionnelle avec un zest de musique alternative. \nUne rencontre décontractée à laquelle les passionnés du tango se donnent rendez-vous pour le plaisir de se retrouver\, de danser et aussi pour la qualité musicale qu’ils y retrouvent. \nTDj et hôtesse Diane Hainse \nYWCA Québec\, 855 Av. Holland\, Québec\, QC G1S 3S5\, Petit Gymnase (apportez un cadenas pour le vestiaire) à compter de 14h00 jusqu’à 18h00. \nApportez vos rafraîchissements sans alcool. \n12$/Membres Club VIP Mariposas*\n15$/ Membres de Tango Québec \n20$/ Autres danseurs \n  \nInterac : Milonga-Mariposas@hotmail.com ou diane@mariposas-tango.com \nwww.mariposas-tango.com \n*Cartes disponibles sur place
URL:https://tangoquebec.org/index.php/calendrier/la-otra-milonga/
LOCATION:YWCA (Petit Gymnase\, 2e étage)\, 855 Av. Holland\, Québec\, QC G1S 3S5\, Québec\, Qc\, Canada
CATEGORIES:Milonga
ATTACH;FMTTYPE=image/png:https://tangoquebec.org/wp-content/uploads/2024/01/M_La-Otra.png
ORGANIZER;CN="Mariposas Tango":MAILTO:milonga-mariposas@hotmail.com
END:VEVENT
BEGIN:VEVENT
DTSTART;TZID=America/New_York:20250917T190000
DTEND;TZID=America/New_York:20250917T223000
DTSTAMP:20260421T142852
CREATED:20250522T003452Z
LAST-MODIFIED:20250911T221732Z
UID:10780-1758135600-1758148200@tangoquebec.org
SUMMARY:ANNULÉE - Milonga extérieure Place Fleur-de-Lys - DJ Janice Wood
DESCRIPTION:Cet été\, la participation aux milongas extérieures du mercredi soir sera soumise aux conditions d’accès suivantes : \nGratuit pour les membres de Tango Québec 2025. \n5$/personne non-membre \n(Renouvelez ou obtenez votre carte de membre pour 30$ valide pour une année) \nConsultez tous les avantages reliés à la carte de membre.  \nNotez que nous aurons besoin de l’aide de volontaires pour la pose et le retrait du tapis de danse\, et qu’il est préférable d’apporter sa propre chaise de parterre.
URL:https://tangoquebec.org/index.php/calendrier/milonga-exterieure-place-fleur-de-lys-dj-janice-wood-3/
LOCATION:https://www.google.com/maps/place/Restaurant+Normandin+Fleur+de+Lys/@46.8222055\,-71.2544171\,17z/data=!4m17!1m9!2m8!1sRestaurants!3m6!1sRestaurants!2sRue+Soumande\,+Qu%C3%A9bec\,+QC!3s0x4cb89637ed81aa0b:0xd1f0d0e9a978836b!4m2!1d-71.2537305!2d46.8268377!3m6!1s0x4cb896488dca012f:0xb410fe58efb2c5e9!8m2!3d46.82142!4d-71.25436!15sCgtSZXN0YXVyYW50c1oNIgtyZXN0YXVyYW50c5IBEWZhbWlseV9yZXN0YXVyYW504AEA!16s%2Fg%2F1tgnwv0b\, Québec
CATEGORIES:Milonga
ATTACH;FMTTYPE=image/jpeg:https://tangoquebec.org/wp-content/uploads/2025/05/ete-2025-Place-Fleur-de-Lys.jpg
END:VEVENT
BEGIN:VEVENT
DTSTART;TZID=America/New_York:20250920T163000
DTEND;TZID=America/New_York:20250920T200000
DTSTAMP:20260421T142852
CREATED:20250725T153600Z
LAST-MODIFIED:20250813T134200Z
UID:10891-1758385800-1758398400@tangoquebec.org
SUMMARY:Milonga Intima
DESCRIPTION:Milonga Intima 16h30 à 20h00 – 10$\nInitiation au tango: 16h00 à 16h30 – 10$\n\nTDJ: Karianne Vaillant\n\nAdresse: Restaurant Basilico’s\, 30 place de l’Église\, Cap Santé\n\nVenez découvrir les charmes du comté de Portneuf en participant à notre milonga de Cap Santé. Un samedi sur 2\, cette milonga\, situé dans un charmant restaurant à proximité du fleuve Saint-Laurent\, vous propose 70% de musique traditionnelle et 30% de musique alternative. Une surprise vous attend à chaque date. Consultez le calendrier pour plus de détails.\nPour informations : milonga2025@hotmail.com
URL:https://tangoquebec.org/index.php/calendrier/milonga-intima-2/
LOCATION:Restaurant Basilico’s 30 place de l’église\, Cap Santé\, 30 place de l'église\, Cap Santé\, Québec\, G0A1L0\, Canada
CATEGORIES:Milonga
ATTACH;FMTTYPE=image/png:https://tangoquebec.org/wp-content/uploads/2025/07/thumbnail_image.png
END:VEVENT
BEGIN:VEVENT
DTSTART;TZID=America/New_York:20250921T150000
DTEND;TZID=America/New_York:20250921T190000
DTSTAMP:20260421T142852
CREATED:20240418T211830Z
LAST-MODIFIED:20250821T144142Z
UID:9829-1758466800-1758481200@tangoquebec.org
SUMMARY:La Milonga del Sol
DESCRIPTION:Pour souligner l’équinoxe d’automne\, venez danser dans une des plus belles salles du Vieux-Québec. Un plancher de véritable bois\, une sonorisation équilibrée et la lumière du soleil. \n  \nNe manquez pas cette occasion unique (La milonga de la tarde fera relâche ce jour-là). \n  \nEntrée : 15$ à la porte ou via Interac <ssokolski@me.com>\, mdp tango \n Animateurs: Serge et Margarita Sokolski et Hugo Denis \n  \nInfos pratiques: le stationnement d’Youville\, entrée rue Dauphine est à 3 minutes à pied de l’Auberge. Les principales lignes de bus RTC (800\, 801\, 807\, 3\, 11\, 25\, 28) se rendent à Place d’Youville\, à 5 minutes de l’Auberge. Pour cette unique occasion\, nous n’aurons pas de permis d’alcool\, mais le bar de l’Auberge pourra vous satisfaire (à confirmer).
URL:https://tangoquebec.org/index.php/calendrier/la-milonga-de-la-tarde-28/
LOCATION:Théâtre de l’Auberge Internationale\, 19\, Ste-Ursule
CATEGORIES:Milonga
ATTACH;FMTTYPE=image/jpeg:https://tangoquebec.org/wp-content/uploads/2024/04/Image1.jpg
END:VEVENT
BEGIN:VEVENT
DTSTART;TZID=America/New_York:20250927T210000
DTEND;TZID=America/New_York:20250927T233000
DTSTAMP:20260421T142852
CREATED:20250521T234434Z
LAST-MODIFIED:20250521T234434Z
UID:10731-1759006800-1759015800@tangoquebec.org
SUMMARY:La milonguita de Mam'zelle Janice
DESCRIPTION:La milonguita de mam’zelle Janice est de retour!\nJe vous attends dès 21h00\, au Carter Hall de la Cathédrale Holy Trinity au 31\, rue des Jardins\, Québec (Québec). Stationnement gratuit. \nApporter vos boissons non-alcoolisées.\nDJT: mam’zelle Janice \nPrix d’entrée : 15$\nDeux façons de payer:  argent comptant à la porte ou par virement bancaire à l’adresse courriel suivante : pleiade1@hotmail.com\nMot de passe: tango
URL:https://tangoquebec.org/index.php/calendrier/la-milonguita-de-mamzelle-janice-16/
LOCATION:Chapelle de la cathédrale Holy Trinity\, 31\, rue des Jardins\, Québec\, Québec\, G1R 4L6\, Canada
CATEGORIES:Milonga
ATTACH;FMTTYPE=image/png:https://tangoquebec.org/wp-content/uploads/2019/09/Janice_logo_blanc.png
END:VEVENT
BEGIN:VEVENT
DTSTART;TZID=America/New_York:20250928T150000
DTEND;TZID=America/New_York:20250928T190000
DTSTAMP:20260421T142852
CREATED:20250813T141157Z
LAST-MODIFIED:20250813T141157Z
UID:10972-1759071600-1759086000@tangoquebec.org
SUMMARY:Milonga de la Tarde
DESCRIPTION:La Milonga de la Tarde\, la milonga dominicale différente et chaleureuse. Pour votre plaisir! \n15h à 19h \n1360\, boul. de l’Entente\, Québec \nNombreux stationnements gratuits \n15$ \n  \nAu plaisir de vous accueillir\, \nChristian et Hugo.
URL:https://tangoquebec.org/index.php/calendrier/milonga-de-la-tarde-3/
LOCATION:1360\, boul de l’Entente\, Québec
CATEGORIES:Milonga
ATTACH;FMTTYPE=image/png:https://tangoquebec.org/wp-content/uploads/2024/08/logo-noir2.png
END:VEVENT
END:VCALENDAR