BEGIN:VCALENDAR
VERSION:2.0
PRODID:-//Tango Québec - ECPv6.15.20//NONSGML v1.0//EN
CALSCALE:GREGORIAN
METHOD:PUBLISH
X-ORIGINAL-URL:https://tangoquebec.org
X-WR-CALDESC:Évènements pour Tango Québec
REFRESH-INTERVAL;VALUE=DURATION:PT1H
X-Robots-Tag:noindex
X-PUBLISHED-TTL:PT1H
BEGIN:VTIMEZONE
TZID:America/New_York
BEGIN:DAYLIGHT
TZOFFSETFROM:-0500
TZOFFSETTO:-0400
TZNAME:EDT
DTSTART:20240310T070000
END:DAYLIGHT
BEGIN:STANDARD
TZOFFSETFROM:-0400
TZOFFSETTO:-0500
TZNAME:EST
DTSTART:20241103T060000
END:STANDARD
BEGIN:DAYLIGHT
TZOFFSETFROM:-0500
TZOFFSETTO:-0400
TZNAME:EDT
DTSTART:20250309T070000
END:DAYLIGHT
BEGIN:STANDARD
TZOFFSETFROM:-0400
TZOFFSETTO:-0500
TZNAME:EST
DTSTART:20251102T060000
END:STANDARD
BEGIN:DAYLIGHT
TZOFFSETFROM:-0500
TZOFFSETTO:-0400
TZNAME:EDT
DTSTART:20260308T070000
END:DAYLIGHT
BEGIN:STANDARD
TZOFFSETFROM:-0400
TZOFFSETTO:-0500
TZNAME:EST
DTSTART:20261101T060000
END:STANDARD
END:VTIMEZONE
BEGIN:VEVENT
DTSTART;TZID=America/New_York:20250803T163000
DTEND;TZID=America/New_York:20250803T200000
DTSTAMP:20260421T161843
CREATED:20250725T153502Z
LAST-MODIFIED:20250813T134146Z
UID:10888-1754238600-1754251200@tangoquebec.org
SUMMARY:Milonga Intima
DESCRIPTION:Milonga Intima 16h30 à 20h00 – 10$\nInitiation au tango: 16h00 à 16h30 – 10$\n\nTDJ: Karianne Vaillant\n\nAdresse: Restaurant Basilico’s\, 30 place de l’Église\, Cap Santé\n\nVenez découvrir les charmes du comté de Portneuf en participant à notre milonga de Cap Santé. Un samedi sur 2\, cette milonga\, situé dans un charmant restaurant à proximité du fleuve Saint-Laurent\, vous propose 70% de musique traditionnelle et 30% de musique alternative. Une surprise vous attend à chaque date. Consultez le calendrier pour plus de détails.\nPour informations : milonga2025@hotmail.com
URL:https://tangoquebec.org/index.php/calendrier/milonga-intima/
LOCATION:Restaurant Basilico’s 30 place de l’église\, Cap Santé\, 30 place de l'église\, Cap Santé\, Québec\, G0A1L0\, Canada
CATEGORIES:Milonga
ATTACH;FMTTYPE=image/png:https://tangoquebec.org/wp-content/uploads/2025/07/thumbnail_image.png
END:VEVENT
BEGIN:VEVENT
DTSTART;TZID=America/New_York:20250806T190000
DTEND;TZID=America/New_York:20250806T223000
DTSTAMP:20260421T161843
CREATED:20250522T002115Z
LAST-MODIFIED:20250625T131122Z
UID:10765-1754506800-1754519400@tangoquebec.org
SUMMARY:Milonga extérieure Place fleur-de-Lys - DJ Diane Hainse
DESCRIPTION:Cet été\, la participation aux milongas extérieures du mercredi soir sera soumise aux conditions d’accès suivantes : \nGratuit pour les membres de Tango Québec 2025. \n5$/personne non-membre \n(Renouvelez ou obtenez votre carte de membre pour 30$ valide pour une année) \nConsultez tous les avantages reliés à la carte de membre.  \nNotez que nous aurons besoin de l’aide de volontaires pour la pose et le retrait du tapis de danse\, et qu’il est préférable d’apporter sa propre chaise de parterre.
URL:https://tangoquebec.org/index.php/calendrier/milonga-exterieure-place-fleur-de-lys-dj-diane-hainse-2/
LOCATION:https://www.google.com/maps/place/Restaurant+Normandin+Fleur+de+Lys/@46.8222055\,-71.2544171\,17z/data=!4m17!1m9!2m8!1sRestaurants!3m6!1sRestaurants!2sRue+Soumande\,+Qu%C3%A9bec\,+QC!3s0x4cb89637ed81aa0b:0xd1f0d0e9a978836b!4m2!1d-71.2537305!2d46.8268377!3m6!1s0x4cb896488dca012f:0xb410fe58efb2c5e9!8m2!3d46.82142!4d-71.25436!15sCgtSZXN0YXVyYW50c1oNIgtyZXN0YXVyYW50c5IBEWZhbWlseV9yZXN0YXVyYW504AEA!16s%2Fg%2F1tgnwv0b\, Québec
CATEGORIES:Milonga
ATTACH;FMTTYPE=image/jpeg:https://tangoquebec.org/wp-content/uploads/2025/05/ete-2025-Place-Fleur-de-Lys.jpg
END:VEVENT
BEGIN:VEVENT
DTSTART;TZID=America/New_York:20250810T150000
DTEND;TZID=America/New_York:20250810T180000
DTSTAMP:20260421T161843
CREATED:20250331T211520Z
LAST-MODIFIED:20250630T173255Z
UID:10676-1754838000-1754848800@tangoquebec.org
SUMMARY:Milonga de la Tarde - Cassis Monna et filles
DESCRIPTION:L’activité est gratuite. Le bar à cocktails situé à l’entrée de la boutique sera ouvert afin de vous permettre de faire vos dégustations. Le restaurant terrasse La Monnaguette fonctionne sur le principe du premier arrivé\, premier servi. Il s’agit de s’inscrire en arrivant pour réserver une table et déguster leurs bons petits plats. Ensuite\, on danse! \nApportez vos chaises ! \nNote : en cas de pluie: remis au 17 août.
URL:https://tangoquebec.org/index.php/calendrier/milonga-chez-cassis-monna-et-filles/
LOCATION:Cassis Monna & Filles\, 1225\, chemin Royal\, Saint-Pierre\, Île d'Orléans\, Canada
CATEGORIES:Milonga
ATTACH;FMTTYPE=image/png:https://tangoquebec.org/wp-content/uploads/2024/08/logo-noir2.png
END:VEVENT
BEGIN:VEVENT
DTSTART;TZID=America/New_York:20250813T190000
DTEND;TZID=America/New_York:20250813T223000
DTSTAMP:20260421T161843
CREATED:20250522T002304Z
LAST-MODIFIED:20250813T212525Z
UID:10767-1755111600-1755124200@tangoquebec.org
SUMMARY:ANNULÉE - Milonga extérieure Place Fleur-de-Lys - Janice Wood
DESCRIPTION:Cet été\, la participation aux milongas extérieures du mercredi soir sera soumise aux conditions d’accès suivantes : \nGratuit pour les membres de Tango Québec 2025. \n5$/personne non-membre \n(Renouvelez ou obtenez votre carte de membre pour 30$ valide pour une année) \nConsultez tous les avantages reliés à la carte de membre.  \nNotez que nous aurons besoin de l’aide de volontaires pour la pose et le retrait du tapis de danse\, et qu’il est préférable d’apporter sa propre chaise de parterre.
URL:https://tangoquebec.org/index.php/calendrier/milonga-exterieure-place-fleur-de-lys-16/
LOCATION:https://www.google.com/maps/place/Restaurant+Normandin+Fleur+de+Lys/@46.8222055\,-71.2544171\,17z/data=!4m17!1m9!2m8!1sRestaurants!3m6!1sRestaurants!2sRue+Soumande\,+Qu%C3%A9bec\,+QC!3s0x4cb89637ed81aa0b:0xd1f0d0e9a978836b!4m2!1d-71.2537305!2d46.8268377!3m6!1s0x4cb896488dca012f:0xb410fe58efb2c5e9!8m2!3d46.82142!4d-71.25436!15sCgtSZXN0YXVyYW50c1oNIgtyZXN0YXVyYW50c5IBEWZhbWlseV9yZXN0YXVyYW504AEA!16s%2Fg%2F1tgnwv0b\, Québec
CATEGORIES:Milonga
ATTACH;FMTTYPE=image/jpeg:https://tangoquebec.org/wp-content/uploads/2025/05/ete-2025-Place-Fleur-de-Lys.jpg
END:VEVENT
BEGIN:VEVENT
DTSTART;TZID=America/New_York:20250820T190000
DTEND;TZID=America/New_York:20250820T223000
DTSTAMP:20260421T161843
CREATED:20250522T002957Z
LAST-MODIFIED:20250818T173018Z
UID:10774-1755716400-1755729000@tangoquebec.org
SUMMARY:Milonga extérieure Place Fleur-de-Lys - Diane Hainse
DESCRIPTION:Cet été\, la participation aux milongas extérieures du mercredi soir sera soumise aux conditions d’accès suivantes : \nGratuit pour les membres de Tango Québec 2025. \n5$/personne non-membre \n(Renouvelez ou obtenez votre carte de membre pour 30$ valide pour une année) \nConsultez tous les avantages reliés à la carte de membre.  \nNotez que nous aurons besoin de l’aide de volontaires pour la pose et le retrait du tapis de danse\, et qu’il est préférable d’apporter sa propre chaise de parterre.
URL:https://tangoquebec.org/index.php/calendrier/milonga-exterieure-place-fleur-de-lys-hugo-denis-2/
LOCATION:https://www.google.com/maps/place/Restaurant+Normandin+Fleur+de+Lys/@46.8222055\,-71.2544171\,17z/data=!4m17!1m9!2m8!1sRestaurants!3m6!1sRestaurants!2sRue+Soumande\,+Qu%C3%A9bec\,+QC!3s0x4cb89637ed81aa0b:0xd1f0d0e9a978836b!4m2!1d-71.2537305!2d46.8268377!3m6!1s0x4cb896488dca012f:0xb410fe58efb2c5e9!8m2!3d46.82142!4d-71.25436!15sCgtSZXN0YXVyYW50c1oNIgtyZXN0YXVyYW50c5IBEWZhbWlseV9yZXN0YXVyYW504AEA!16s%2Fg%2F1tgnwv0b\, Québec
CATEGORIES:Milonga
ATTACH;FMTTYPE=image/jpeg:https://tangoquebec.org/wp-content/uploads/2025/05/ete-2025-Place-Fleur-de-Lys.jpg
END:VEVENT
BEGIN:VEVENT
DTSTART;TZID=America/New_York:20250827T190000
DTEND;TZID=America/New_York:20250827T223000
DTSTAMP:20260421T161843
CREATED:20250522T002451Z
LAST-MODIFIED:20250818T173041Z
UID:10769-1756321200-1756333800@tangoquebec.org
SUMMARY:Milonga extérieure Place Fleur-de-Lys - DJ Hugo Denis
DESCRIPTION:Cet été\, la participation aux milongas extérieures du mercredi soir sera soumise aux conditions d’accès suivantes : \nGratuit pour les membres de Tango Québec 2025. \n5$/personne non-membre \n(Renouvelez ou obtenez votre carte de membre pour 30$ valide pour une année) \nConsultez tous les avantages reliés à la carte de membre.  \nNotez que nous aurons besoin de l’aide de volontaires pour la pose et le retrait du tapis de danse\, et qu’il est préférable d’apporter sa propre chaise de parterre.
URL:https://tangoquebec.org/index.php/calendrier/milonga-exterieure-place-fleur-de-lys-dj-diane-hainse-3/
LOCATION:https://www.google.com/maps/place/Restaurant+Normandin+Fleur+de+Lys/@46.8222055\,-71.2544171\,17z/data=!4m17!1m9!2m8!1sRestaurants!3m6!1sRestaurants!2sRue+Soumande\,+Qu%C3%A9bec\,+QC!3s0x4cb89637ed81aa0b:0xd1f0d0e9a978836b!4m2!1d-71.2537305!2d46.8268377!3m6!1s0x4cb896488dca012f:0xb410fe58efb2c5e9!8m2!3d46.82142!4d-71.25436!15sCgtSZXN0YXVyYW50c1oNIgtyZXN0YXVyYW50c5IBEWZhbWlseV9yZXN0YXVyYW504AEA!16s%2Fg%2F1tgnwv0b\, Québec
CATEGORIES:Milonga
ATTACH;FMTTYPE=image/jpeg:https://tangoquebec.org/wp-content/uploads/2025/05/ete-2025-Place-Fleur-de-Lys.jpg
END:VEVENT
BEGIN:VEVENT
DTSTART;TZID=America/New_York:20250829T200000
DTEND;TZID=America/New_York:20250829T233000
DTSTAMP:20260421T161843
CREATED:20240424T215854Z
LAST-MODIFIED:20250726T184649Z
UID:9880-1756497600-1756510200@tangoquebec.org
SUMMARY:Milonga Mariposas
DESCRIPTION:La Milonga Mariposas le rendez-vous depuis 2012 ! Une milonga purement traditionnelle de tango salon (milonguero). \nUne rencontre décontractée à laquelle les passionnés du tango se donnent rendez-vous pour le plaisir de se retrouver\, de danser et aussi pour la qualité musicale qu’ils y retrouvent. \nTDj et hôtesse Diane Hainse \nYWCA Québec\, 855 Av. Holland\, Québec\, QC G1S 3S5\, Petit Gymnase (apportez un cadenas pour le vestiaire) à compter de 20h00 jusqu’à 0h00 (minuit). \nApportez vos rafraîchissements sans alcool. \n12$/Membres Club VIP Mariposas*\n15$/ Membres de Tango Québec \n20$/ Autres danseurs \n  \nInterac : Milonga-Mariposas@hotmail.com ou diane@mariposas-tango.com \nwww.mariposas-tango.com \n*Cartes disponibles sur place
URL:https://tangoquebec.org/index.php/calendrier/milonga-mariposas-29/
LOCATION:YWCA (Petit Gymnase\, 2e étage)\, 855 Av. Holland\, Québec\, QC G1S 3S5\, Québec\, Qc\, Canada
CATEGORIES:Milonga
ATTACH;FMTTYPE=image/png:https://tangoquebec.org/wp-content/uploads/2018/01/logo.png
ORGANIZER;CN="Mariposas Tango":MAILTO:milonga-mariposas@hotmail.com
END:VEVENT
END:VCALENDAR