BEGIN:VCALENDAR
VERSION:2.0
PRODID:-//Tango Québec - ECPv6.15.20//NONSGML v1.0//EN
CALSCALE:GREGORIAN
METHOD:PUBLISH
X-WR-CALNAME:Tango Québec
X-ORIGINAL-URL:https://tangoquebec.org
X-WR-CALDESC:Évènements pour Tango Québec
REFRESH-INTERVAL;VALUE=DURATION:PT1H
X-Robots-Tag:noindex
X-PUBLISHED-TTL:PT1H
BEGIN:VTIMEZONE
TZID:America/New_York
BEGIN:DAYLIGHT
TZOFFSETFROM:-0500
TZOFFSETTO:-0400
TZNAME:EDT
DTSTART:20240310T070000
END:DAYLIGHT
BEGIN:STANDARD
TZOFFSETFROM:-0400
TZOFFSETTO:-0500
TZNAME:EST
DTSTART:20241103T060000
END:STANDARD
BEGIN:DAYLIGHT
TZOFFSETFROM:-0500
TZOFFSETTO:-0400
TZNAME:EDT
DTSTART:20250309T070000
END:DAYLIGHT
BEGIN:STANDARD
TZOFFSETFROM:-0400
TZOFFSETTO:-0500
TZNAME:EST
DTSTART:20251102T060000
END:STANDARD
BEGIN:DAYLIGHT
TZOFFSETFROM:-0500
TZOFFSETTO:-0400
TZNAME:EDT
DTSTART:20260308T070000
END:DAYLIGHT
BEGIN:STANDARD
TZOFFSETFROM:-0400
TZOFFSETTO:-0500
TZNAME:EST
DTSTART:20261101T060000
END:STANDARD
END:VTIMEZONE
BEGIN:VEVENT
DTSTART;TZID=America/New_York:20250502T193000
DTEND;TZID=America/New_York:20250502T233000
DTSTAMP:20260421T220601
CREATED:20250107T033020Z
LAST-MODIFIED:20250107T033020Z
UID:10534-1746214200-1746228600@tangoquebec.org
SUMMARY:Milonga Tangusto à Trois-Rivières
DESCRIPTION:La Milonga Tangusto à Trois-Rivières : une milonga à l’ambiance conviviale et chaleureuse dans une salle superbe.\n20\, rue Jacinthe\, Trois-Rivières\n19h30 à 23h30
URL:https://tangoquebec.org/index.php/calendrier/milonga-tangusto-a-trois-rivieres-19/
LOCATION:Tangusto\, 20\, rue Jacinthe\, Trois-Rivières\, Québec\, G8V 2M3\, Canada
CATEGORIES:Milonga
ATTACH;FMTTYPE=image/jpeg:https://tangoquebec.org/wp-content/uploads/2018/01/tangusto_salle2.jpg
END:VEVENT
BEGIN:VEVENT
DTSTART;TZID=America/New_York:20250503T200000
DTEND;TZID=America/New_York:20250503T233000
DTSTAMP:20260421T220601
CREATED:20250427T161338Z
LAST-MODIFIED:20250501T233013Z
UID:10720-1746302400-1746315000@tangoquebec.org
SUMMARY:Milonga Le Désir
DESCRIPTION:Un Un événement unique dans un lieu unique à Québec ! Plus qu’une milonga\, une fête du tango! \nLa meilleure musique de Buenos Aires\, avec des cortinas endiablées qui vous inviteront à danser encore et encore! \nService de bar pour prendre un verre et socialiser entre amis! \nPayez à l’avance (jusqu’au 2 mai) par virement bancaire (interac) pour bénéficier d’une réduction (15 dollars par personne)!\nVous pouvez payer sur place en espèces uniquement; le prix sera de 20 dollars canadiens par personne. \nInvitez des amis\, tout le monde est le bienvenu! \nQuand? 3 Mai\nOù? Swing Ambassade\nQuelle heure? 20:00\nCombien? 15 dollars par personne\, si vous payez par virement bancaire (interac) jusqu’au 2 mai. Pour le virement (418) 951-9202\n20 dollars par personne\, si vous payez en espèces à la porte. \nInvitez des amis\, tout le monde est le bienvenu!
URL:https://tangoquebec.org/index.php/calendrier/milonga-le-desir/
LOCATION:La Swing Ambassde\, 333 de la Couronne\, Québec\, Québec\, G1K6E7\, Canada
CATEGORIES:Milonga
ATTACH;FMTTYPE=image/jpeg:https://tangoquebec.org/wp-content/uploads/2025/04/att.GOpsGQvYijT6kUIbj10FZE2A_4d1nHCdxUDMcTQU03A.jpeg
END:VEVENT
BEGIN:VEVENT
DTSTART;TZID=America/New_York:20250504T150000
DTEND;TZID=America/New_York:20250504T190000
DTSTAMP:20260421T220601
CREATED:20240418T211607Z
LAST-MODIFIED:20240815T230033Z
UID:9821-1746370800-1746385200@tangoquebec.org
SUMMARY:La Milonga de la Tarde
DESCRIPTION:La Milonga de la Tarde\, la milonga dominicale différente et chaleureuse. Pour votre plaisir! \n15h à 19h \n1360\, boul. de l’Entente\, Québec \nNombreux stationnements gratuits \n15$ \n  \nAu plaisir de vous accueillir\, \nChristian et Hugo.
URL:https://tangoquebec.org/index.php/calendrier/la-milonga-de-la-tarde-24/
LOCATION:La Noche\, 1360\, boulevard de l'Entente\, Québec\, Québec\, Canada
CATEGORIES:Milonga
ATTACH;FMTTYPE=image/png:https://tangoquebec.org/wp-content/uploads/2024/08/logo-noir2.png
END:VEVENT
BEGIN:VEVENT
DTSTART;TZID=America/New_York:20250509T200000
DTEND;TZID=America/New_York:20250509T233000
DTSTAMP:20260421T220601
CREATED:20240105T023724Z
LAST-MODIFIED:20250419T231450Z
UID:9534-1746820800-1746833400@tangoquebec.org
SUMMARY:Milonga Mariposas
DESCRIPTION:La Milonga Mariposas le rendez-vous du vendredi soir ! Une milonga purement traditionnelle de tango salon (milonguero). \nUne rencontre décontractée à laquelle les passionnés du tango se donnent rendez-vous pour le plaisir de se retrouver\, de danser et aussi pour la qualité musicale qu’ils y retrouvent. \nTDj et hôtesse Diane Hainse \n855 Av. Holland\, Québec\, QC G1S 3S5 \nPetit gymnase \nApportez vos rafraîchissements\, nous n’avons pas de permis. \n12$/Membres Club VIP Mariposas*\n15$/ Membres de Tango Québec \n20$/ Autres danseurs \n  \nInterac : Milonga-Mariposas@hotmail.com ou diane@mariposas-tango.com \nwww.mariposas-tango.com \n*Cartes disponibles sur place \n 
URL:https://tangoquebec.org/index.php/calendrier/milonga-mariposas-27/
LOCATION:7475 ave Paul Comtois\, Québec G1H 5X6\, 7475 ave Paul Comtois\, Québec\, Québec\, G1H 5X6\, Canada
CATEGORIES:Milonga
ATTACH;FMTTYPE=image/png:https://tangoquebec.org/wp-content/uploads/2018/01/logo.png
ORGANIZER;CN="Mariposas Tango":MAILTO:milonga-mariposas@hotmail.com
END:VEVENT
BEGIN:VEVENT
DTSTART;TZID=America/New_York:20250516T193000
DTEND;TZID=America/New_York:20250516T233000
DTSTAMP:20260421T220601
CREATED:20250107T033159Z
LAST-MODIFIED:20250107T033159Z
UID:10536-1747423800-1747438200@tangoquebec.org
SUMMARY:Milonga Tangusto à Trois-Rivières
DESCRIPTION:La Milonga Tangusto à Trois-Rivières : une milonga à l’ambiance conviviale et chaleureuse dans une salle superbe.\n20\, rue Jacinthe\, Trois-Rivières\n19h30 à 23h30
URL:https://tangoquebec.org/index.php/calendrier/milonga-tangusto-a-trois-rivieres-20/
LOCATION:Tangusto\, 20\, rue Jacinthe\, Trois-Rivières\, Québec\, G8V 2M3\, Canada
CATEGORIES:Milonga
ATTACH;FMTTYPE=image/jpeg:https://tangoquebec.org/wp-content/uploads/2018/01/tangusto_salle2.jpg
END:VEVENT
BEGIN:VEVENT
DTSTART;TZID=America/New_York:20250517T200000
DTEND;TZID=America/New_York:20250517T233000
DTSTAMP:20260421T220601
CREATED:20240418T211640Z
LAST-MODIFIED:20250306T222145Z
UID:9823-1747512000-1747524600@tangoquebec.org
SUMMARY:La Milonga de la Noche
DESCRIPTION:La Milonga de la Noche\, différente et chaleureuse. Pour votre plaisir! \n20h à 00h \n1360\, boul. de l’Entente\, Québec \nNombreux stationnements gratuits \n15$ \n  \nAu plaisir de vous accueillir\, \nChristian et Hugo.
URL:https://tangoquebec.org/index.php/calendrier/la-milonga-de-la-tarde-25/
LOCATION:La Noche\, 1360\, boulevard de l'Entente\, Québec\, Québec\, Canada
CATEGORIES:Milonga
ATTACH;FMTTYPE=image/jpeg:https://tangoquebec.org/wp-content/uploads/2024/06/FB_IMG_1719088605293.jpg
END:VEVENT
BEGIN:VEVENT
DTSTART;TZID=America/New_York:20250531T203000
DTEND;TZID=America/New_York:20250531T203000
DTSTAMP:20260421T220601
CREATED:20240418T210750Z
LAST-MODIFIED:20240826T200929Z
UID:9805-1748723400-1748723400@tangoquebec.org
SUMMARY:La milonguita de mam’zelle Janice
DESCRIPTION:La milonguita de mam’zelle Janice est de retour!\nJe vous attends dès 21h00\, au Carter Hall de la Cathédrale Holy Trinity au 31\, rue des Jardins\, Québec (Québec). Stationnement gratuit. \nApporter vos boissons non-alcoolisées.\nDJT: mam’zelle Janice \nPrix d’entrée : 15$\nDeux façons de payer:  argent comptant à la porte ou par virement bancaire à l’adresse courriel suivante : pleiade1@hotmail.com\nMot de passe: tango
URL:https://tangoquebec.org/index.php/calendrier/la-milonguita-de-mamzelle-janice-15/
LOCATION:Québec
CATEGORIES:Milonga
ATTACH;FMTTYPE=image/png:https://tangoquebec.org/wp-content/uploads/2019/09/Janice_logo_blanc.png
END:VEVENT
END:VCALENDAR