BEGIN:VCALENDAR
VERSION:2.0
PRODID:-//Tango Québec - ECPv6.15.20//NONSGML v1.0//EN
CALSCALE:GREGORIAN
METHOD:PUBLISH
X-WR-CALNAME:Tango Québec
X-ORIGINAL-URL:https://tangoquebec.org
X-WR-CALDESC:Évènements pour Tango Québec
REFRESH-INTERVAL;VALUE=DURATION:PT1H
X-Robots-Tag:noindex
X-PUBLISHED-TTL:PT1H
BEGIN:VTIMEZONE
TZID:America/New_York
BEGIN:DAYLIGHT
TZOFFSETFROM:-0500
TZOFFSETTO:-0400
TZNAME:EDT
DTSTART:20240310T070000
END:DAYLIGHT
BEGIN:STANDARD
TZOFFSETFROM:-0400
TZOFFSETTO:-0500
TZNAME:EST
DTSTART:20241103T060000
END:STANDARD
BEGIN:DAYLIGHT
TZOFFSETFROM:-0500
TZOFFSETTO:-0400
TZNAME:EDT
DTSTART:20250309T070000
END:DAYLIGHT
BEGIN:STANDARD
TZOFFSETFROM:-0400
TZOFFSETTO:-0500
TZNAME:EST
DTSTART:20251102T060000
END:STANDARD
BEGIN:DAYLIGHT
TZOFFSETFROM:-0500
TZOFFSETTO:-0400
TZNAME:EDT
DTSTART:20260308T070000
END:DAYLIGHT
BEGIN:STANDARD
TZOFFSETFROM:-0400
TZOFFSETTO:-0500
TZNAME:EST
DTSTART:20261101T060000
END:STANDARD
END:VTIMEZONE
BEGIN:VEVENT
DTSTART;TZID=America/New_York:20250401T200000
DTEND;TZID=America/New_York:20250401T233000
DTSTAMP:20260421T235903
CREATED:20250331T212035Z
LAST-MODIFIED:20250331T212225Z
UID:10681-1743537600-1743550200@tangoquebec.org
SUMMARY:Milonga au Bar le Drague
DESCRIPTION:Une milonga conviviale dans la section discothèque du Cabaret Le Drague.
URL:https://tangoquebec.org/index.php/calendrier/milonga-au-bar-le-drague-28/
LOCATION:Bar le Drague\, 815 rue Saint-Augustin\,\, Québec\, G1R 3N4\, Canada
CATEGORIES:Milonga
ATTACH;FMTTYPE=image/jpeg:https://tangoquebec.org/wp-content/uploads/2019/08/drague2022.jpg
END:VEVENT
BEGIN:VEVENT
DTSTART;TZID=America/New_York:20250404T193000
DTEND;TZID=America/New_York:20250404T233000
DTSTAMP:20260421T235903
CREATED:20250107T032840Z
LAST-MODIFIED:20250107T032840Z
UID:10532-1743795000-1743809400@tangoquebec.org
SUMMARY:Milonga Tangusto à Trois-Rivières
DESCRIPTION:La Milonga Tangusto à Trois-Rivières : une milonga à l’ambiance conviviale et chaleureuse dans une salle superbe.\n20\, rue Jacinthe\, Trois-Rivières\n19h30 à 23h30
URL:https://tangoquebec.org/index.php/calendrier/milonga-tangusto-a-trois-rivieres-18/
LOCATION:Tangusto\, 20\, rue Jacinthe\, Trois-Rivières\, Québec\, G8V 2M3\, Canada
CATEGORIES:Milonga
ATTACH;FMTTYPE=image/jpeg:https://tangoquebec.org/wp-content/uploads/2018/01/tangusto_salle2.jpg
END:VEVENT
BEGIN:VEVENT
DTSTART;TZID=America/New_York:20250406T150000
DTEND;TZID=America/New_York:20250406T190000
DTSTAMP:20260421T235903
CREATED:20240418T211502Z
LAST-MODIFIED:20240815T230015Z
UID:9819-1743951600-1743966000@tangoquebec.org
SUMMARY:La Milonga de la Tarde
DESCRIPTION:La Milonga de la Tarde\, la milonga dominicale différente et chaleureuse. Pour votre plaisir! \n15h à 19h \n1360\, boul. de l’Entente\, Québec \nNombreux stationnements gratuits \n15$ \n  \nAu plaisir de vous accueillir\, \nChristian et Hugo.
URL:https://tangoquebec.org/index.php/calendrier/la-milonga-de-la-tarde-23/
LOCATION:La Noche\, 1360\, boulevard de l'Entente\, Québec\, Québec\, Canada
CATEGORIES:Milonga
ATTACH;FMTTYPE=image/png:https://tangoquebec.org/wp-content/uploads/2024/08/logo-noir2.png
END:VEVENT
BEGIN:VEVENT
DTSTART;TZID=America/New_York:20250408T200000
DTEND;TZID=America/New_York:20250408T233000
DTSTAMP:20260421T235903
CREATED:20250331T212337Z
LAST-MODIFIED:20250331T212337Z
UID:10684-1744142400-1744155000@tangoquebec.org
SUMMARY:Milonga au Bar le Drague
DESCRIPTION:Une milonga conviviale dans la section discothèque du Cabaret Le Drague.
URL:https://tangoquebec.org/index.php/calendrier/milonga-au-bar-le-drague-29/
LOCATION:Bar le Drague\, 815 rue Saint-Augustin\,\, Québec\, G1R 3N4\, Canada
CATEGORIES:Milonga
ATTACH;FMTTYPE=image/jpeg:https://tangoquebec.org/wp-content/uploads/2019/08/drague2022.jpg
END:VEVENT
BEGIN:VEVENT
DTSTART;TZID=America/New_York:20250408T200000
DTEND;TZID=America/New_York:20250408T233000
DTSTAMP:20260421T235903
CREATED:20250331T213110Z
LAST-MODIFIED:20250331T213110Z
UID:10688-1744142400-1744155000@tangoquebec.org
SUMMARY:Milonga au Bar le Drague
DESCRIPTION:Une milonga conviviale dans la section discothèque du Cabaret Le Drague.
URL:https://tangoquebec.org/index.php/calendrier/milonga-au-bar-le-drague-30/
LOCATION:Bar le Drague\, 815 rue Saint-Augustin\,\, Québec\, G1R 3N4\, Canada
CATEGORIES:Milonga
ATTACH;FMTTYPE=image/jpeg:https://tangoquebec.org/wp-content/uploads/2019/08/drague2022.jpg
END:VEVENT
BEGIN:VEVENT
DTSTART;TZID=America/New_York:20250413T140000
DTEND;TZID=America/New_York:20250413T180000
DTSTAMP:20260421T235903
CREATED:20240418T213541Z
LAST-MODIFIED:20250408T220758Z
UID:9843-1744552800-1744567200@tangoquebec.org
SUMMARY:La Otra Milonga Mariposas
DESCRIPTION:La Otra Milonga se veut une rencontre décontractée à laquelle les passionnés du tango se donnent rendez-vous pour le plaisir de se retrouver\, danser et aussi pour la qualité musicale qu’ils y retrouvent.  Musique traditionnelle avec un zest de musique alternative. \nTDj et hôtesse Diane Hainse \nApportez vos rafraîchissements\, nous avons un permis. \nMilonga : \n\n10$/Membres Club VIP Mariposas*\n12$/ Membres de Tango Québec\n15$/ Autres danseurs\n\n*L’entrée à la milonga n’est pas incluse. \nInterac : Milonga-Mariposas@hotmail.com ou diane@mariposas-tango.com \nwww.mariposas-tango.com \n*Cartes disponibles sur place
URL:https://tangoquebec.org/index.php/calendrier/la-otra-milonga-mariposas/
LOCATION:Loisirs du Trait Carré\, 8815 Av. Jean Paquin\, Québec\, Québec\, G1G 4W7\, Canada
CATEGORIES:Milonga
ATTACH;FMTTYPE=image/png:https://tangoquebec.org/wp-content/uploads/2024/01/M_La-Otra.png
ORGANIZER;CN="Mariposas Tango":MAILTO:milonga-mariposas@hotmail.com
END:VEVENT
BEGIN:VEVENT
DTSTART;TZID=America/New_York:20250414T200000
DTEND;TZID=America/New_York:20250414T233000
DTSTAMP:20260421T235903
CREATED:20250414T210608Z
LAST-MODIFIED:20250414T210608Z
UID:10695-1744660800-1744673400@tangoquebec.org
SUMMARY:Milonga Tú y Yo Tango
DESCRIPTION:Réservez votre soirée !
URL:https://tangoquebec.org/index.php/calendrier/milonga-tu-y-yo-tango/
LOCATION:La Swing Ambassde\, 333 de la Couronne\, Québec\, Québec\, G1K6E7\, Canada
CATEGORIES:Milonga
END:VEVENT
BEGIN:VEVENT
DTSTART;TZID=America/New_York:20250418T193000
DTEND;TZID=America/New_York:20250418T233000
DTSTAMP:20260421T235903
CREATED:20250107T035151Z
LAST-MODIFIED:20250107T035151Z
UID:10548-1745004600-1745019000@tangoquebec.org
SUMMARY:Milonga Tangusto à Trois-Rivières
DESCRIPTION:La Milonga Tangusto à Trois-Rivières : une milonga à l’ambiance conviviale et chaleureuse dans une salle superbe.\n20\, rue Jacinthe\, Trois-Rivières\n19h30 à 23h30
URL:https://tangoquebec.org/index.php/calendrier/milonga-tangusto-a-trois-rivieres-22/
LOCATION:Tangusto\, 20\, rue Jacinthe\, Trois-Rivières\, Québec\, G8V 2M3\, Canada
CATEGORIES:Milonga
ATTACH;FMTTYPE=image/jpeg:https://tangoquebec.org/wp-content/uploads/2018/01/tangusto_salle2.jpg
END:VEVENT
BEGIN:VEVENT
DTSTART;TZID=America/New_York:20250422T200000
DTEND;TZID=America/New_York:20250422T233000
DTSTAMP:20260421T235903
CREATED:20250416T214948Z
LAST-MODIFIED:20250416T214948Z
UID:10699-1745352000-1745364600@tangoquebec.org
SUMMARY:Milonga au Bar le Drague *relâche*
DESCRIPTION:Une milonga conviviale dans la section discothèque du Cabaret Le Drague.
URL:https://tangoquebec.org/index.php/calendrier/milonga-au-bar-le-drague-relache/
LOCATION:Bar le Drague\, 815 rue Saint-Augustin\,\, Québec\, G1R 3N4\, Canada
CATEGORIES:Milonga
ATTACH;FMTTYPE=image/jpeg:https://tangoquebec.org/wp-content/uploads/2019/08/drague2022.jpg
END:VEVENT
BEGIN:VEVENT
DTSTART;TZID=America/New_York:20250426T203000
DTEND;TZID=America/New_York:20250426T203000
DTSTAMP:20260421T235903
CREATED:20240418T210713Z
LAST-MODIFIED:20240826T200920Z
UID:9803-1745699400-1745699400@tangoquebec.org
SUMMARY:La milonguita de mam’zelle Janice
DESCRIPTION:La milonguita de mam’zelle Janice est de retour!\nJe vous attends dès 21h00\, au Carter Hall de la Cathédrale Holy Trinity au 31\, rue des Jardins\, Québec (Québec). Stationnement gratuit. \nApporter vos boissons non-alcoolisées.\nDJT: mam’zelle Janice \nPrix d’entrée : 15$\nDeux façons de payer:  argent comptant à la porte ou par virement bancaire à l’adresse courriel suivante : pleiade1@hotmail.com\nMot de passe: tango
URL:https://tangoquebec.org/index.php/calendrier/la-milonguita-de-mamzelle-janice-14/
LOCATION:Québec
CATEGORIES:Milonga
ATTACH;FMTTYPE=image/png:https://tangoquebec.org/wp-content/uploads/2019/09/Janice_logo_blanc.png
END:VEVENT
BEGIN:VEVENT
DTSTART;TZID=America/New_York:20250429T200000
DTEND;TZID=America/New_York:20250429T233000
DTSTAMP:20260421T235903
CREATED:20250416T215043Z
LAST-MODIFIED:20250416T215043Z
UID:10701-1745956800-1745969400@tangoquebec.org
SUMMARY:Milonga au Bar le Drague
DESCRIPTION:Une milonga conviviale dans la section discothèque du Cabaret Le Drague.
URL:https://tangoquebec.org/index.php/calendrier/milonga-au-bar-le-drague-31/
LOCATION:Bar le Drague\, 815 rue Saint-Augustin\,\, Québec\, G1R 3N4\, Canada
CATEGORIES:Milonga
ATTACH;FMTTYPE=image/jpeg:https://tangoquebec.org/wp-content/uploads/2019/08/drague2022.jpg
END:VEVENT
END:VCALENDAR