BEGIN:VCALENDAR
VERSION:2.0
PRODID:-//Tango Québec - ECPv6.15.20//NONSGML v1.0//EN
CALSCALE:GREGORIAN
METHOD:PUBLISH
X-ORIGINAL-URL:https://tangoquebec.org
X-WR-CALDESC:Évènements pour Tango Québec
REFRESH-INTERVAL;VALUE=DURATION:PT1H
X-Robots-Tag:noindex
X-PUBLISHED-TTL:PT1H
BEGIN:VTIMEZONE
TZID:America/New_York
BEGIN:DAYLIGHT
TZOFFSETFROM:-0500
TZOFFSETTO:-0400
TZNAME:EDT
DTSTART:20240310T070000
END:DAYLIGHT
BEGIN:STANDARD
TZOFFSETFROM:-0400
TZOFFSETTO:-0500
TZNAME:EST
DTSTART:20241103T060000
END:STANDARD
BEGIN:DAYLIGHT
TZOFFSETFROM:-0500
TZOFFSETTO:-0400
TZNAME:EDT
DTSTART:20250309T070000
END:DAYLIGHT
BEGIN:STANDARD
TZOFFSETFROM:-0400
TZOFFSETTO:-0500
TZNAME:EST
DTSTART:20251102T060000
END:STANDARD
BEGIN:DAYLIGHT
TZOFFSETFROM:-0500
TZOFFSETTO:-0400
TZNAME:EDT
DTSTART:20260308T070000
END:DAYLIGHT
BEGIN:STANDARD
TZOFFSETFROM:-0400
TZOFFSETTO:-0500
TZNAME:EST
DTSTART:20261101T060000
END:STANDARD
END:VTIMEZONE
BEGIN:VEVENT
DTSTART;TZID=America/New_York:20250302T150000
DTEND;TZID=America/New_York:20250302T190000
DTSTAMP:20260424T044136
CREATED:20240418T211340Z
LAST-MODIFIED:20240815T225934Z
UID:9815-1740927600-1740942000@tangoquebec.org
SUMMARY:La Milonga de la Tarde
DESCRIPTION:La Milonga de la Tarde\, la milonga dominicale différente et chaleureuse. Pour votre plaisir! \n15h à 19h \n1360\, boul. de l’Entente\, Québec \nNombreux stationnements gratuits \n15$ \n  \nAu plaisir de vous accueillir\, \nChristian et Hugo.
URL:https://tangoquebec.org/index.php/calendrier/la-milonga-de-la-tarde-21/
LOCATION:La Noche\, 1360\, boulevard de l'Entente\, Québec\, Québec\, Canada
CATEGORIES:Milonga
ATTACH;FMTTYPE=image/png:https://tangoquebec.org/wp-content/uploads/2024/08/logo-noir2.png
END:VEVENT
BEGIN:VEVENT
DTSTART;TZID=America/New_York:20250304T200000
DTEND;TZID=America/New_York:20250304T233000
DTSTAMP:20260424T044136
CREATED:20250303T224738Z
LAST-MODIFIED:20250303T224738Z
UID:10640-1741118400-1741131000@tangoquebec.org
SUMMARY:Milonga au Bar le Drague
DESCRIPTION:Une milonga conviviale dans la section discothèque du Cabaret Le Drague.
URL:https://tangoquebec.org/index.php/calendrier/milonga-au-bar-le-drague-24/
LOCATION:Bar le Drague\, 815 rue Saint-Augustin\,\, Québec\, G1R 3N4\, Canada
CATEGORIES:Milonga
ATTACH;FMTTYPE=image/jpeg:https://tangoquebec.org/wp-content/uploads/2019/08/drague2022.jpg
END:VEVENT
BEGIN:VEVENT
DTSTART;TZID=America/New_York:20250307T193000
DTEND;TZID=America/New_York:20250307T233000
DTSTAMP:20260424T044136
CREATED:20250107T032527Z
LAST-MODIFIED:20250107T032527Z
UID:10528-1741375800-1741390200@tangoquebec.org
SUMMARY:Milonga Tangusto à Trois-Rivières
DESCRIPTION:La Milonga Tangusto à Trois-Rivières : une milonga à l’ambiance conviviale et chaleureuse dans une salle superbe.\n20\, rue Jacinthe\, Trois-Rivières\n19h30 à 23h30
URL:https://tangoquebec.org/index.php/calendrier/milonga-tangusto-a-trois-rivieres-16/
LOCATION:Tangusto\, 20\, rue Jacinthe\, Trois-Rivières\, Québec\, G8V 2M3\, Canada
CATEGORIES:Milonga
ATTACH;FMTTYPE=image/jpeg:https://tangoquebec.org/wp-content/uploads/2018/01/tangusto_salle2.jpg
END:VEVENT
BEGIN:VEVENT
DTSTART;TZID=America/New_York:20250309T140000
DTEND;TZID=America/New_York:20250309T180000
DTSTAMP:20260424T044136
CREATED:20240917T202822Z
LAST-MODIFIED:20241128T215939Z
UID:10331-1741528800-1741543200@tangoquebec.org
SUMMARY:La Otra Milonga Mariposas
DESCRIPTION:La Otra Milonga Mariposas une rencontre décontractée à laquelle les passionnés du tango se donnent rendez-vous pour le plaisir de se retrouver\, danser et aussi pour la qualité musicale qu’ils y retrouvent.  Musique traditionnelle avec un zest de musique alternative. \nTDj et hôtesse Diane Hainse \nLoisirs du Trait Carré\, salle SS112\, à compter de 14h00 jusqu’à 18h00 \nApportez vos rafraîchissements\, nous avons un permis. \nAdresse: Loisirs du Trait Carré\, 8815 Av. Jean Paquin\, Québec G1G 4W7 (sortie Jean Talon Est de l’autoroute Laurentienne nord\, à droite sur De Laval\, derrière l’église par le stationnement) \n\n10$/Membres Club VIP Mariposas*\n12$/ Membres de Tango Québec\n15$/ Autres danseurs\n\nInterac : Milonga-Mariposas@hotmail.com ou diane@mariposas-tango.com \nwww.mariposas-tango.com \n*Cartes disponibles sur place
URL:https://tangoquebec.org/index.php/calendrier/la-otra-milonga-7/
LOCATION:Loisirs du Trait Carré\, 8815 Av. Jean Paquin\, Québec\, Québec\, G1G 4W7\, Canada
CATEGORIES:Milonga
ATTACH;FMTTYPE=image/png:https://tangoquebec.org/wp-content/uploads/2024/01/M_La-Otra.png
END:VEVENT
BEGIN:VEVENT
DTSTART;TZID=America/New_York:20250311T200000
DTEND;TZID=America/New_York:20250311T233000
DTSTAMP:20260424T044136
CREATED:20250303T225112Z
LAST-MODIFIED:20250303T225112Z
UID:10646-1741723200-1741735800@tangoquebec.org
SUMMARY:Milonga au Bar le Drague
DESCRIPTION:Une milonga conviviale dans la section discothèque du Cabaret Le Drague.
URL:https://tangoquebec.org/index.php/calendrier/milonga-au-bar-le-drague-25/
LOCATION:Bar le Drague\, 815 rue Saint-Augustin\,\, Québec\, G1R 3N4\, Canada
CATEGORIES:Milonga
ATTACH;FMTTYPE=image/jpeg:https://tangoquebec.org/wp-content/uploads/2019/08/drague2022.jpg
END:VEVENT
BEGIN:VEVENT
DTSTART;TZID=America/New_York:20250315T203000
DTEND;TZID=America/New_York:20250315T203000
DTSTAMP:20260424T044136
CREATED:20240418T210634Z
LAST-MODIFIED:20240826T200910Z
UID:9801-1742070600-1742070600@tangoquebec.org
SUMMARY:La milonguita de mam’zelle Janice
DESCRIPTION:La milonguita de mam’zelle Janice est de retour!\nJe vous attends dès 21h00\, au Carter Hall de la Cathédrale Holy Trinity au 31\, rue des Jardins\, Québec (Québec). Stationnement gratuit. \nApporter vos boissons non-alcoolisées.\nDJT: mam’zelle Janice \nPrix d’entrée : 15$\nDeux façons de payer:  argent comptant à la porte ou par virement bancaire à l’adresse courriel suivante : pleiade1@hotmail.com\nMot de passe: tango
URL:https://tangoquebec.org/index.php/calendrier/la-milonguita-de-mamzelle-janice-13/
CATEGORIES:Milonga
ATTACH;FMTTYPE=image/png:https://tangoquebec.org/wp-content/uploads/2019/09/Janice_logo_blanc.png
END:VEVENT
BEGIN:VEVENT
DTSTART;TZID=America/New_York:20250316T150000
DTEND;TZID=America/New_York:20250316T190000
DTSTAMP:20260424T044136
CREATED:20240418T211422Z
LAST-MODIFIED:20240815T225952Z
UID:9817-1742137200-1742151600@tangoquebec.org
SUMMARY:La Milonga de la Tarde
DESCRIPTION:La Milonga de la Tarde\, la milonga dominicale différente et chaleureuse. Pour votre plaisir! \n15h à 19h \n1360\, boul. de l’Entente\, Québec \nNombreux stationnements gratuits \n15$ \n  \nAu plaisir de vous accueillir\, \nChristian et Hugo.
URL:https://tangoquebec.org/index.php/calendrier/la-milonga-de-la-tarde-22/
LOCATION:La Noche\, 1360\, boulevard de l'Entente\, Québec\, Québec\, Canada
CATEGORIES:Milonga
ATTACH;FMTTYPE=image/png:https://tangoquebec.org/wp-content/uploads/2024/08/logo-noir2.png
END:VEVENT
BEGIN:VEVENT
DTSTART;TZID=America/New_York:20250318T200000
DTEND;TZID=America/New_York:20250318T233000
DTSTAMP:20260424T044136
CREATED:20250312T214704Z
LAST-MODIFIED:20250317T223835Z
UID:10658-1742328000-1742340600@tangoquebec.org
SUMMARY:Milonga au Bar le Drague *Relâche*
DESCRIPTION:Une milonga conviviale dans la section discothèque du Cabaret Le Drague.
URL:https://tangoquebec.org/index.php/calendrier/milonga-au-bar-le-drague-26/
LOCATION:Bar le Drague\, 815 rue Saint-Augustin\,\, Québec\, G1R 3N4\, Canada
CATEGORIES:Milonga
ATTACH;FMTTYPE=image/jpeg:https://tangoquebec.org/wp-content/uploads/2019/08/drague2022.jpg
END:VEVENT
BEGIN:VEVENT
DTSTART;TZID=America/New_York:20250321T193000
DTEND;TZID=America/New_York:20250321T233000
DTSTAMP:20260424T044136
CREATED:20250107T032656Z
LAST-MODIFIED:20250107T032656Z
UID:10530-1742585400-1742599800@tangoquebec.org
SUMMARY:Milonga Tangusto à Trois-rivières
DESCRIPTION:La Milonga Tangusto à Trois-Rivières : une milonga à l’ambiance conviviale et chaleureuse dans une salle superbe.\n20\, rue Jacinthe\, Trois-Rivières\n19h30 à 23h30
URL:https://tangoquebec.org/index.php/calendrier/milonga-tangusto-a-trois-rivieres-17/
LOCATION:Tangusto\, 20\, rue Jacinthe\, Trois-Rivières\, Québec\, G8V 2M3\, Canada
CATEGORIES:Milonga
ATTACH;FMTTYPE=image/jpeg:https://tangoquebec.org/wp-content/uploads/2018/01/tangusto_salle2.jpg
END:VEVENT
BEGIN:VEVENT
DTSTART;TZID=America/New_York:20250325T200000
DTEND;TZID=America/New_York:20250325T233000
DTSTAMP:20260424T044136
CREATED:20250312T214842Z
LAST-MODIFIED:20250312T214842Z
UID:10660-1742932800-1742945400@tangoquebec.org
SUMMARY:Milonga au Bar le Drague
DESCRIPTION:Une milonga conviviale dans la section discothèque du Cabaret Le Drague.
URL:https://tangoquebec.org/index.php/calendrier/milonga-au-bar-le-drague-27/
LOCATION:Bar le Drague\, 815 rue Saint-Augustin\,\, Québec\, G1R 3N4\, Canada
CATEGORIES:Milonga
ATTACH;FMTTYPE=image/jpeg:https://tangoquebec.org/wp-content/uploads/2019/08/drague2022.jpg
END:VEVENT
BEGIN:VEVENT
DTSTART;TZID=America/New_York:20250328T203000
DTEND;TZID=America/New_York:20250328T233000
DTSTAMP:20260424T044136
CREATED:20240105T015127Z
LAST-MODIFIED:20250120T172524Z
UID:9489-1743193800-1743204600@tangoquebec.org
SUMMARY:Milonga Mariposas
DESCRIPTION:La Milonga Mariposas le rendez-vous du vendredi soir ! Une milonga purement traditionnelle de tango salon (milonguero). \nUne rencontre décontractée à laquelle les passionnés du tango se donnent rendez-vous pour le plaisir de se retrouver\, de danser et aussi pour la qualité musicale qu’ils y retrouvent. \nTDj et hôtesse Diane Hainse \nLoisirs du Trait Carré\, salle SS112\, à compter de 20h30 jusqu’à 0h00 (minuit). \nApportez vos rafraîchissements\, nous avons un permis. \nAdresse: Loisirs du Trait Carré\, 8815 Av. Jean Paquin\, Québec G1G 4W7 (sortie Jean Talon Est de l’autoroute Laurentienne nord\, à droite sur De Laval\, derrière l’église par le stationnement) \n  \n10$/Membres Club VIP Mariposas*\n12$/ Membres de Tango Québec \n15$/ Autres danseurs \n  \nInterac : Milonga-Mariposas@hotmail.com ou diane@mariposas-tango.com \nwww.mariposas-tango.com \n*Cartes disponibles sur place
URL:https://tangoquebec.org/index.php/calendrier/milonga-mariposas-del-domingo-13/
LOCATION:Loisirs du Trait Carré\, 8815 Av. Jean Paquin\, Québec\, Québec\, G1G 4W7\, Canada
CATEGORIES:Milonga
ATTACH;FMTTYPE=image/png:https://tangoquebec.org/wp-content/uploads/2024/01/logo-mariposas-vn.png
ORGANIZER;CN="Mariposas Tango":MAILTO:milonga-mariposas@hotmail.com
END:VEVENT
END:VCALENDAR