BEGIN:VCALENDAR
VERSION:2.0
PRODID:-//Tango Québec - ECPv6.15.20//NONSGML v1.0//EN
CALSCALE:GREGORIAN
METHOD:PUBLISH
X-WR-CALNAME:Tango Québec
X-ORIGINAL-URL:https://tangoquebec.org
X-WR-CALDESC:Évènements pour Tango Québec
REFRESH-INTERVAL;VALUE=DURATION:PT1H
X-Robots-Tag:noindex
X-PUBLISHED-TTL:PT1H
BEGIN:VTIMEZONE
TZID:America/New_York
BEGIN:DAYLIGHT
TZOFFSETFROM:-0500
TZOFFSETTO:-0400
TZNAME:EDT
DTSTART:20240310T070000
END:DAYLIGHT
BEGIN:STANDARD
TZOFFSETFROM:-0400
TZOFFSETTO:-0500
TZNAME:EST
DTSTART:20241103T060000
END:STANDARD
BEGIN:DAYLIGHT
TZOFFSETFROM:-0500
TZOFFSETTO:-0400
TZNAME:EDT
DTSTART:20250309T070000
END:DAYLIGHT
BEGIN:STANDARD
TZOFFSETFROM:-0400
TZOFFSETTO:-0500
TZNAME:EST
DTSTART:20251102T060000
END:STANDARD
BEGIN:DAYLIGHT
TZOFFSETFROM:-0500
TZOFFSETTO:-0400
TZNAME:EDT
DTSTART:20260308T070000
END:DAYLIGHT
BEGIN:STANDARD
TZOFFSETFROM:-0400
TZOFFSETTO:-0500
TZNAME:EST
DTSTART:20261101T060000
END:STANDARD
END:VTIMEZONE
BEGIN:VEVENT
DTSTART;TZID=America/New_York:20250201T203000
DTEND;TZID=America/New_York:20250201T233000
DTSTAMP:20260424T064633
CREATED:20250107T035943Z
LAST-MODIFIED:20250107T040353Z
UID:10554-1738441800-1738452600@tangoquebec.org
SUMMARY:Milonga Tango Passion
DESCRIPTION:15$ si réservé. \nSurveillez Facebook pour les détails.
URL:https://tangoquebec.org/index.php/calendrier/milonga-tango-passion-3/
LOCATION:604 rue St-Vallier Ouest\, 604 rue St-Vallier Ouest\, Québec\, Québec\, G1N 1C5\, Canada
CATEGORIES:Milonga
ATTACH;FMTTYPE=image/jpeg:https://tangoquebec.org/wp-content/uploads/2018/01/Logo_Ecole_Passion.jpg
END:VEVENT
BEGIN:VEVENT
DTSTART;TZID=America/New_York:20250204T200000
DTEND;TZID=America/New_York:20250204T233000
DTSTAMP:20260424T064633
CREATED:20250123T210130Z
LAST-MODIFIED:20250123T210130Z
UID:10591-1738699200-1738711800@tangoquebec.org
SUMMARY:*Relâche* Milonga au Bar Le Drague
DESCRIPTION:Une courte milonga conviviale dans la section discothèque du Cabaret Le Drague.
URL:https://tangoquebec.org/index.php/calendrier/relache-milonga-au-bar-le-drague/
LOCATION:Bar le Drague\, 815 rue Saint-Augustin\,\, Québec\, G1R 3N4\, Canada
CATEGORIES:Milonga
ATTACH;FMTTYPE=image/jpeg:https://tangoquebec.org/wp-content/uploads/2019/08/drague2022.jpg
END:VEVENT
BEGIN:VEVENT
DTSTART;TZID=America/New_York:20250207T193000
DTEND;TZID=America/New_York:20250207T233000
DTSTAMP:20260424T064633
CREATED:20250107T032136Z
LAST-MODIFIED:20250107T032136Z
UID:10524-1738956600-1738971000@tangoquebec.org
SUMMARY:Milonga Tangusto à Trois-Rivières
DESCRIPTION:La Milonga Tangusto à Trois-Rivières : une milonga à l’ambiance conviviale et chaleureuse dans une salle superbe.\n20\, rue Jacinthe\, Trois-Rivières\n19h30 à 23h30
URL:https://tangoquebec.org/index.php/calendrier/milonga-tangusto-a-trois-rivieres-14/
LOCATION:Tangusto\, 20\, rue Jacinthe\, Trois-Rivières\, Québec\, G8V 2M3\, Canada
CATEGORIES:Milonga
ATTACH;FMTTYPE=image/jpeg:https://tangoquebec.org/wp-content/uploads/2018/01/tangusto_salle2.jpg
END:VEVENT
BEGIN:VEVENT
DTSTART;TZID=America/New_York:20250209T150000
DTEND;TZID=America/New_York:20250209T190000
DTSTAMP:20260424T064633
CREATED:20240418T211305Z
LAST-MODIFIED:20240815T225916Z
UID:9813-1739113200-1739127600@tangoquebec.org
SUMMARY:La Milonga de la Tarde
DESCRIPTION:La Milonga de la Tarde\, la milonga dominicale différente et chaleureuse. Pour votre plaisir! \n15h à 19h \n1360\, boul. de l’Entente\, Québec \nNombreux stationnements gratuits \n15$ \n  \nAu plaisir de vous accueillir\, \nChristian et Hugo.
URL:https://tangoquebec.org/index.php/calendrier/la-milonga-de-la-tarde-20/
LOCATION:La Noche\, 1360\, boulevard de l'Entente\, Québec\, Québec\, Canada
CATEGORIES:Milonga
ATTACH;FMTTYPE=image/png:https://tangoquebec.org/wp-content/uploads/2024/08/logo-noir2.png
END:VEVENT
BEGIN:VEVENT
DTSTART;TZID=America/New_York:20250211T200000
DTEND;TZID=America/New_York:20250211T233000
DTSTAMP:20260424T064633
CREATED:20250123T210215Z
LAST-MODIFIED:20250123T210215Z
UID:10593-1739304000-1739316600@tangoquebec.org
SUMMARY:Milonga au Bar Le Drague
DESCRIPTION:Une courte milonga conviviale dans la section discothèque du Cabaret Le Drague.
URL:https://tangoquebec.org/index.php/calendrier/milonga-au-bar-le-drague-20/
LOCATION:Bar le Drague\, 815 rue Saint-Augustin\,\, Québec\, G1R 3N4\, Canada
CATEGORIES:Milonga
ATTACH;FMTTYPE=image/jpeg:https://tangoquebec.org/wp-content/uploads/2019/08/drague2022.jpg
END:VEVENT
BEGIN:VEVENT
DTSTART;TZID=America/New_York:20250215T203000
DTEND;TZID=America/New_York:20250215T203000
DTSTAMP:20260424T064633
CREATED:20240418T210555Z
LAST-MODIFIED:20250206T223139Z
UID:9799-1739651400-1739651400@tangoquebec.org
SUMMARY:La milonguita de mam’zelle Janice
DESCRIPTION:La milonguita de mam’zelle Janice est de retour!\nJe vous attends dès 20h45\, à L’escalera\, 604\, rue St- Vallier Ouest \nDJT: mam’zelle Janice \nPrix d’entrée : 15$\nDeux façons de payer:  argent comptant à la porte ou par virement bancaire à l’adresse courriel suivante : pleiade1@hotmail.com\nMot de passe: tango
URL:https://tangoquebec.org/index.php/calendrier/la-milonguita-de-mamzelle-janice-12/
LOCATION:604 rue St-Vallier Ouest\, 604 rue St-Vallier Ouest\, Québec\, Québec\, G1N 1C5\, Canada
CATEGORIES:Milonga
ATTACH;FMTTYPE=image/png:https://tangoquebec.org/wp-content/uploads/2019/09/Janice_logo_blanc.png
END:VEVENT
BEGIN:VEVENT
DTSTART;TZID=America/New_York:20250216T140000
DTEND;TZID=America/New_York:20250216T180000
DTSTAMP:20260424T064633
CREATED:20240412T233752Z
LAST-MODIFIED:20250908T172003Z
UID:9786-1739714400-1739728800@tangoquebec.org
SUMMARY:La Otra Milonga Mariposas
DESCRIPTION:La Otra Milonga Mariposas une rencontre décontractée à laquelle les passionnés du tango se donnent rendez-vous pour le plaisir de se retrouver\, danser et aussi pour la qualité musicale qu’ils y retrouvent.  Musique traditionnelle avec un zest de musique alternative. \nUne rencontre décontractée à laquelle les passionnés du tango se donnent rendez-vous pour le plaisir de se retrouver\, de danser et aussi pour la qualité musicale qu’ils y retrouvent. \nTDj et hôtesse Diane Hainse \nYWCA Québec\, 855 Av. Holland\, Québec\, QC G1S 3S5\, Petit Gymnase (apportez un cadenas pour le vestiaire) à compter de 14h00 jusqu’à 18h00. \nApportez vos rafraîchissements sans alcool. \n12$/Membres Club VIP Mariposas*\n15$/ Membres de Tango Québec \n20$/ Autres danseurs \n  \nInterac : Milonga-Mariposas@hotmail.com ou diane@mariposas-tango.com
URL:https://tangoquebec.org/index.php/calendrier/milonga-aux-salons-dedgar-11/
LOCATION:Loisirs du Trait Carré\, 8815 Av. Jean Paquin\, Québec\, Québec\, G1G 4W7\, Canada
CATEGORIES:Milonga
ATTACH;FMTTYPE=image/png:https://tangoquebec.org/wp-content/uploads/2024/01/M_La-Otra.png
END:VEVENT
BEGIN:VEVENT
DTSTART;TZID=America/New_York:20250218T200000
DTEND;TZID=America/New_York:20250218T233000
DTSTAMP:20260424T064633
CREATED:20250123T210309Z
LAST-MODIFIED:20250123T210309Z
UID:10595-1739908800-1739921400@tangoquebec.org
SUMMARY:Milonga au Bar Le Drague
DESCRIPTION:Une courte milonga conviviale dans la section discothèque du Cabaret Le Drague.
URL:https://tangoquebec.org/index.php/calendrier/milonga-au-bar-le-drague-21/
LOCATION:Bar le Drague\, 815 rue Saint-Augustin\,\, Québec\, G1R 3N4\, Canada
CATEGORIES:Milonga
ATTACH;FMTTYPE=image/jpeg:https://tangoquebec.org/wp-content/uploads/2019/08/drague2022.jpg
END:VEVENT
BEGIN:VEVENT
DTSTART;TZID=America/New_York:20250220T200000
DTEND;TZID=America/New_York:20250220T233000
DTSTAMP:20260424T064633
CREATED:20250107T034612Z
LAST-MODIFIED:20250214T211239Z
UID:10544-1740081600-1740094200@tangoquebec.org
SUMMARY:Ma tanda à toi
DESCRIPTION:Venez danser dans une milonga créée par les danseurs et danseuses de Québec chez Passion Tango. \nInformations à venir sur Facebook.
URL:https://tangoquebec.org/index.php/calendrier/ma-tanda-a-moi/
LOCATION:604 rue St-Vallier Ouest\, 604 rue St-Vallier Ouest\, Québec\, Québec\, G1N 1C5\, Canada
CATEGORIES:Milonga
ATTACH;FMTTYPE=image/jpeg:https://tangoquebec.org/wp-content/uploads/2025/01/ma-tanda-a-moi.jpg
END:VEVENT
BEGIN:VEVENT
DTSTART;TZID=America/New_York:20250221T193000
DTEND;TZID=America/New_York:20250221T233000
DTSTAMP:20260424T064633
CREATED:20250107T032309Z
LAST-MODIFIED:20250107T032309Z
UID:10526-1740166200-1740180600@tangoquebec.org
SUMMARY:Milonga Tangusto à Trois-Rivières
DESCRIPTION:La Milonga Tangusto à Trois-Rivières : une milonga à l’ambiance conviviale et chaleureuse dans une salle superbe.\n20\, rue Jacinthe\, Trois-Rivières\n19h30 à 23h30
URL:https://tangoquebec.org/index.php/calendrier/milonga-tangusto-a-trois-rivieres-15/
LOCATION:Tangusto\, 20\, rue Jacinthe\, Trois-Rivières\, Québec\, G8V 2M3\, Canada
CATEGORIES:Milonga
ATTACH;FMTTYPE=image/jpeg:https://tangoquebec.org/wp-content/uploads/2018/01/tangusto_salle2.jpg
END:VEVENT
BEGIN:VEVENT
DTSTART;TZID=America/New_York:20250225T200000
DTEND;TZID=America/New_York:20250225T233000
DTSTAMP:20260424T064633
CREATED:20250123T211004Z
LAST-MODIFIED:20250123T211004Z
UID:10609-1740513600-1740526200@tangoquebec.org
SUMMARY:Milonga au Bar Le Drague
DESCRIPTION:Une courte milonga conviviale dans la section discothèque du Cabaret Le Drague.
URL:https://tangoquebec.org/index.php/calendrier/milonga-au-bar-le-drague-23/
LOCATION:Bar le Drague\, 815 rue Saint-Augustin\,\, Québec\, G1R 3N4\, Canada
CATEGORIES:Milonga
ATTACH;FMTTYPE=image/jpeg:https://tangoquebec.org/wp-content/uploads/2019/08/drague2022.jpg
END:VEVENT
BEGIN:VEVENT
DTSTART;TZID=America/New_York:20250228T203000
DTEND;TZID=America/New_York:20250228T203000
DTSTAMP:20260424T064633
CREATED:20240105T014811Z
LAST-MODIFIED:20250225T011927Z
UID:9485-1740774600-1740774600@tangoquebec.org
SUMMARY:Milonga au Palais Montcalm
DESCRIPTION:NOTE : un spectacle concert au Palais Montcalm a lieu le 28 février.  Si la milonga au Palais Montcalm est confirmée\, il n’y aura pas de Milonga-Mariposas car Diane sera la Dj invitée au concert.   \nBillet de spectacle sold out ! \nBillets pour la milonga : si vous avez déjà votre billet de spectacle 20$ par virement Interac\, si vous n ‘avez pas votre billet de spectacle 30$. \nVirement Interac Courriel: victorhugouribe@hotmail.com  \n  \n  \n 
URL:https://tangoquebec.org/index.php/calendrier/milonga-mariposas-del-domingo-11/
LOCATION:Loisirs du Trait Carré\, 8815 Av. Jean Paquin\, Québec\, Québec\, G1G 4W7\, Canada
CATEGORIES:Milonga
ATTACH;FMTTYPE=image/png:https://tangoquebec.org/wp-content/uploads/2024/01/logo-mariposas-vn.png
ORGANIZER;CN="Mariposas Tango":MAILTO:milonga-mariposas@hotmail.com
END:VEVENT
END:VCALENDAR