BEGIN:VCALENDAR
VERSION:2.0
PRODID:-//Tango Québec - ECPv6.15.20//NONSGML v1.0//EN
CALSCALE:GREGORIAN
METHOD:PUBLISH
X-WR-CALNAME:Tango Québec
X-ORIGINAL-URL:https://tangoquebec.org
X-WR-CALDESC:Évènements pour Tango Québec
REFRESH-INTERVAL;VALUE=DURATION:PT1H
X-Robots-Tag:noindex
X-PUBLISHED-TTL:PT1H
BEGIN:VTIMEZONE
TZID:America/New_York
BEGIN:DAYLIGHT
TZOFFSETFROM:-0500
TZOFFSETTO:-0400
TZNAME:EDT
DTSTART:20230312T070000
END:DAYLIGHT
BEGIN:STANDARD
TZOFFSETFROM:-0400
TZOFFSETTO:-0500
TZNAME:EST
DTSTART:20231105T060000
END:STANDARD
BEGIN:DAYLIGHT
TZOFFSETFROM:-0500
TZOFFSETTO:-0400
TZNAME:EDT
DTSTART:20240310T070000
END:DAYLIGHT
BEGIN:STANDARD
TZOFFSETFROM:-0400
TZOFFSETTO:-0500
TZNAME:EST
DTSTART:20241103T060000
END:STANDARD
BEGIN:DAYLIGHT
TZOFFSETFROM:-0500
TZOFFSETTO:-0400
TZNAME:EDT
DTSTART:20250309T070000
END:DAYLIGHT
BEGIN:STANDARD
TZOFFSETFROM:-0400
TZOFFSETTO:-0500
TZNAME:EST
DTSTART:20251102T060000
END:STANDARD
BEGIN:DAYLIGHT
TZOFFSETFROM:-0500
TZOFFSETTO:-0400
TZNAME:EDT
DTSTART:20260308T070000
END:DAYLIGHT
BEGIN:STANDARD
TZOFFSETFROM:-0400
TZOFFSETTO:-0500
TZNAME:EST
DTSTART:20261101T060000
END:STANDARD
END:VTIMEZONE
BEGIN:VEVENT
DTSTART;TZID=America/New_York:20241201T140000
DTEND;TZID=America/New_York:20241201T180000
DTSTAMP:20260424T102458
CREATED:20240105T013911Z
LAST-MODIFIED:20240801T200211Z
UID:9477-1733061600-1733076000@tangoquebec.org
SUMMARY:La Otra milonga Mariposas
DESCRIPTION:La Otra Milonga Mariposas une rencontre décontractée à laquelle les passionnés du tango se donnent rendez-vous pour le plaisir de se retrouver\, danser et aussi pour la qualité musicale qu’ils y retrouvent.  Musique traditionnelle avec un zest de musique alternative. \nTDj et hôtesse Diane Hainse \nLoisirs du Trait Carré\, salle SS112\, à compter de 14h00 jusqu’à 18h00 \nApportez vos rafraîchissements \nAdresse: Loisirs du Trait Carré\, 8815 Av. Jean Paquin\, Québec G1G 4W7 (sortie Jean Talon Est de l’autoroute Laurentienne nord\, à droite sur De Laval\, derrière l’église par le stationnement) \n  \n10$/Membres Club VIP Mariposas*\n12$/ Membres de Tango Québec \n15$/ Autres danseurs \n  \nInterac : Milonga-Mariposas@hotmail.com ou diane@mariposas-tango.com \nwww.mariposas-tango.com \n*Cartes disponibles sur place
URL:https://tangoquebec.org/index.php/calendrier/milonga-mariposas-del-domingo-8/
CATEGORIES:Milonga
ATTACH;FMTTYPE=image/png:https://tangoquebec.org/wp-content/uploads/2024/01/M_La-Otra.png
ORGANIZER;CN="Mariposas Tango":MAILTO:milonga-mariposas@hotmail.com
END:VEVENT
BEGIN:VEVENT
DTSTART;TZID=America/New_York:20241203T200000
DTEND;TZID=America/New_York:20241203T230000
DTSTAMP:20260424T102458
CREATED:20241120T172737Z
LAST-MODIFIED:20241129T115447Z
UID:10418-1733256000-1733266800@tangoquebec.org
SUMMARY:Relâche - Milonga au Bar le Drague
DESCRIPTION:Une courte milonga conviviale dans la section discothèque du Cabaret Le Drague.
URL:https://tangoquebec.org/index.php/calendrier/milonga-au-bar-le-drague-14/
LOCATION:Bar le Drague\, 815 rue Saint-Augustin\,\, Québec\, G1R 3N4\, Canada
CATEGORIES:Milonga
ATTACH;FMTTYPE=image/jpeg:https://tangoquebec.org/wp-content/uploads/2019/08/drague2022.jpg
END:VEVENT
BEGIN:VEVENT
DTSTART;TZID=America/New_York:20241207T203000
DTEND;TZID=America/New_York:20241207T233000
DTSTAMP:20260424T102458
CREATED:20241120T173818Z
LAST-MODIFIED:20241120T173935Z
UID:10427-1733603400-1733614200@tangoquebec.org
SUMMARY:Milonga chez Tango Passion
DESCRIPTION:Prix d’entrée pour la milonga : 15$
URL:https://tangoquebec.org/index.php/calendrier/milonga-chez-tango-passion-2/
LOCATION:604 rue St-Vallier Ouest\, 604 rue St-Vallier Ouest\, Québec\, Québec\, G1N 1C5\, Canada
CATEGORIES:Milonga
ATTACH;FMTTYPE=image/jpeg:https://tangoquebec.org/wp-content/uploads/2018/01/Logo_Ecole_Passion.jpg
END:VEVENT
BEGIN:VEVENT
DTSTART;TZID=America/New_York:20241208T150000
DTEND;TZID=America/New_York:20241208T190000
DTSTAMP:20260424T102458
CREATED:20240105T020716Z
LAST-MODIFIED:20240815T225556Z
UID:9509-1733670000-1733684400@tangoquebec.org
SUMMARY:La Milonga de la Tarde
DESCRIPTION:La Milonga de la Tarde\, la milonga dominicale différente et chaleureuse. Pour votre plaisir!\n15h à 19h\n1360\, boul de l’Entente\, Québec\nNombreux stationnements gratuits\n15$
URL:https://tangoquebec.org/index.php/calendrier/la-milonga-de-la-tarde-17/
LOCATION:La Noche\, 1360\, boulevard de l'Entente\, Québec\, Québec\, Canada
CATEGORIES:Milonga
ATTACH;FMTTYPE=image/png:https://tangoquebec.org/wp-content/uploads/2024/08/logo-noir2.png
END:VEVENT
BEGIN:VEVENT
DTSTART;TZID=America/New_York:20241210T200000
DTEND;TZID=America/New_York:20241210T230000
DTSTAMP:20260424T102458
CREATED:20241120T172826Z
LAST-MODIFIED:20241129T115438Z
UID:10420-1733860800-1733871600@tangoquebec.org
SUMMARY:Relâche - Milonga au Bar le Drague
DESCRIPTION:Une courte milonga conviviale dans la section discothèque du Cabaret Le Drague.
URL:https://tangoquebec.org/index.php/calendrier/milonga-au-bar-le-drague-15/
LOCATION:Bar le Drague\, 815 rue Saint-Augustin\,\, Québec\, G1R 3N4\, Canada
CATEGORIES:Milonga
ATTACH;FMTTYPE=image/jpeg:https://tangoquebec.org/wp-content/uploads/2019/08/drague2022.jpg
END:VEVENT
BEGIN:VEVENT
DTSTART;TZID=America/New_York:20241213T193000
DTEND;TZID=America/New_York:20241213T233000
DTSTAMP:20260424T102458
CREATED:20240917T202047Z
LAST-MODIFIED:20240917T202047Z
UID:10325-1734118200-1734132600@tangoquebec.org
SUMMARY:Milonga Tangusto à Trois-Rivières
DESCRIPTION:La Milonga Tangusto à Trois-Rivières : une milonga à l’ambiance conviviale et chaleureuse dans une salle superbe.\n20\, rue Jacinthe\, Trois-Rivières\n19h30 à 23h30
URL:https://tangoquebec.org/index.php/calendrier/milonga-tangusto-a-trois-rivieres-11/
LOCATION:Tangusto\, 20\, rue Jacinthe\, Trois-Rivières\, Québec\, G8V 2M3\, Canada
CATEGORIES:Milonga
ATTACH;FMTTYPE=image/jpeg:https://tangoquebec.org/wp-content/uploads/2018/01/tangusto_salle2.jpg
END:VEVENT
BEGIN:VEVENT
DTSTART;TZID=America/New_York:20241214T203000
DTEND;TZID=America/New_York:20241214T233000
DTSTAMP:20260424T102458
CREATED:20241120T173911Z
LAST-MODIFIED:20241120T173911Z
UID:10429-1734208200-1734219000@tangoquebec.org
SUMMARY:Milonga chez Tango Passion
DESCRIPTION:Prix d’entrée pour la milonga : 15$
URL:https://tangoquebec.org/index.php/calendrier/milonga-chez-tango-passion-3/
LOCATION:604 rue St-Vallier Ouest\, 604 rue St-Vallier Ouest\, Québec\, Québec\, G1N 1C5\, Canada
CATEGORIES:Milonga
ATTACH;FMTTYPE=image/jpeg:https://tangoquebec.org/wp-content/uploads/2018/01/Logo_Ecole_Passion.jpg
END:VEVENT
BEGIN:VEVENT
DTSTART;TZID=America/New_York:20241217T200000
DTEND;TZID=America/New_York:20241217T230000
DTSTAMP:20260424T102458
CREATED:20241120T172953Z
LAST-MODIFIED:20241129T115426Z
UID:10423-1734465600-1734476400@tangoquebec.org
SUMMARY:Relâche - Milonga au Bar le Drague
DESCRIPTION:Une courte milonga conviviale dans la section discothèque du Cabaret Le Drague.
URL:https://tangoquebec.org/index.php/calendrier/milonga-au-bar-le-drague-16/
LOCATION:Bar le Drague\, 815 rue Saint-Augustin\,\, Québec\, G1R 3N4\, Canada
CATEGORIES:Milonga
ATTACH;FMTTYPE=image/jpeg:https://tangoquebec.org/wp-content/uploads/2019/08/drague2022.jpg
END:VEVENT
BEGIN:VEVENT
DTSTART;TZID=America/New_York:20241221T203000
DTEND;TZID=America/New_York:20241221T233000
DTSTAMP:20260424T102458
CREATED:20241120T174029Z
LAST-MODIFIED:20241120T174029Z
UID:10431-1734813000-1734823800@tangoquebec.org
SUMMARY:Milonga chez Tango Passion
DESCRIPTION:Prix d’entrée pour la milonga : 15$
URL:https://tangoquebec.org/index.php/calendrier/milonga-chez-tango-passion-4/
LOCATION:604 rue St-Vallier Ouest\, 604 rue St-Vallier Ouest\, Québec\, Québec\, G1N 1C5\, Canada
CATEGORIES:Milonga
ATTACH;FMTTYPE=image/jpeg:https://tangoquebec.org/wp-content/uploads/2018/01/Logo_Ecole_Passion.jpg
END:VEVENT
BEGIN:VEVENT
DTSTART;TZID=America/New_York:20241228T203000
DTEND;TZID=America/New_York:20241228T233000
DTSTAMP:20260424T102458
CREATED:20241120T174123Z
LAST-MODIFIED:20241120T174123Z
UID:10433-1735417800-1735428600@tangoquebec.org
SUMMARY:Milonga chez Tango Passion
DESCRIPTION:Prix d’entrée pour la milonga : 15$
URL:https://tangoquebec.org/index.php/calendrier/milonga-chez-tango-passion-5/
LOCATION:604 rue St-Vallier Ouest\, 604 rue St-Vallier Ouest\, Québec\, Québec\, G1N 1C5\, Canada
CATEGORIES:Milonga
ATTACH;FMTTYPE=image/jpeg:https://tangoquebec.org/wp-content/uploads/2018/01/Logo_Ecole_Passion.jpg
END:VEVENT
BEGIN:VEVENT
DTSTART;TZID=America/New_York:20241231T150000
DTEND;TZID=America/New_York:20241231T190000
DTSTAMP:20260424T102458
CREATED:20240105T021020Z
LAST-MODIFIED:20240815T225838Z
UID:9513-1735657200-1735671600@tangoquebec.org
SUMMARY:La Ultima Milonga de la Tarde
DESCRIPTION:La Milonga de la Tarde\, la milonga dominicale différente et chaleureuse. Pour votre plaisir!\n15h à 19h\n1360\, boul. de l’Entente\, Québec\nNombreux stationnements gratuits\n15$
URL:https://tangoquebec.org/index.php/calendrier/la-ultima-milonga-de-la-tarde/
LOCATION:La Noche\, 1360\, boulevard de l'Entente\, Québec\, Québec\, Canada
CATEGORIES:Milonga
ATTACH;FMTTYPE=image/png:https://tangoquebec.org/wp-content/uploads/2024/08/logo-noir2.png
END:VEVENT
BEGIN:VEVENT
DTSTART;TZID=America/New_York:20241231T200000
DTEND;TZID=America/New_York:20250101T010000
DTSTAMP:20260424T102458
CREATED:20241120T225144Z
LAST-MODIFIED:20241120T225144Z
UID:10448-1735675200-1735693200@tangoquebec.org
SUMMARY:Réveillon souper-milonga
DESCRIPTION:Détails à venir sur Facebook
URL:https://tangoquebec.org/index.php/calendrier/reveillon-souper-milonga/
LOCATION:604 rue St-Vallier Ouest\, 604 rue St-Vallier Ouest\, Québec\, Québec\, G1N 1C5\, Canada
CATEGORIES:Milonga
ATTACH;FMTTYPE=image/jpeg:https://tangoquebec.org/wp-content/uploads/2018/01/Logo_Ecole_Passion.jpg
END:VEVENT
END:VCALENDAR