BEGIN:VCALENDAR
VERSION:2.0
PRODID:-//Tango Québec - ECPv6.15.20//NONSGML v1.0//EN
CALSCALE:GREGORIAN
METHOD:PUBLISH
X-ORIGINAL-URL:https://tangoquebec.org
X-WR-CALDESC:Évènements pour Tango Québec
REFRESH-INTERVAL;VALUE=DURATION:PT1H
X-Robots-Tag:noindex
X-PUBLISHED-TTL:PT1H
BEGIN:VTIMEZONE
TZID:America/New_York
BEGIN:DAYLIGHT
TZOFFSETFROM:-0500
TZOFFSETTO:-0400
TZNAME:EDT
DTSTART:20230312T070000
END:DAYLIGHT
BEGIN:STANDARD
TZOFFSETFROM:-0400
TZOFFSETTO:-0500
TZNAME:EST
DTSTART:20231105T060000
END:STANDARD
BEGIN:DAYLIGHT
TZOFFSETFROM:-0500
TZOFFSETTO:-0400
TZNAME:EDT
DTSTART:20240310T070000
END:DAYLIGHT
BEGIN:STANDARD
TZOFFSETFROM:-0400
TZOFFSETTO:-0500
TZNAME:EST
DTSTART:20241103T060000
END:STANDARD
BEGIN:DAYLIGHT
TZOFFSETFROM:-0500
TZOFFSETTO:-0400
TZNAME:EDT
DTSTART:20250309T070000
END:DAYLIGHT
BEGIN:STANDARD
TZOFFSETFROM:-0400
TZOFFSETTO:-0500
TZNAME:EST
DTSTART:20251102T060000
END:STANDARD
END:VTIMEZONE
BEGIN:VEVENT
DTSTART;TZID=America/New_York:20241001T200000
DTEND;TZID=America/New_York:20241001T230000
DTSTAMP:20260424T132009
CREATED:20240819T114115Z
LAST-MODIFIED:20240825T153937Z
UID:10268-1727812800-1727823600@tangoquebec.org
SUMMARY:Milonga du bar Le Drague
DESCRIPTION:Une milonga conviviale dans la section discothèque du Cabaret Le Drague.
URL:https://tangoquebec.org/index.php/calendrier/milonga-du-bar-le-drague/
LOCATION:Bar le Drague\, 815 rue Saint-Augustin\,\, Québec\, G1R 3N4\, Canada
CATEGORIES:Milonga
ATTACH;FMTTYPE=image/jpeg:https://tangoquebec.org/wp-content/uploads/2019/08/drague2022.jpg
END:VEVENT
BEGIN:VEVENT
DTSTART;TZID=America/New_York:20241004T193000
DTEND;TZID=America/New_York:20241004T230000
DTSTAMP:20260424T132009
CREATED:20240917T201558Z
LAST-MODIFIED:20240917T201558Z
UID:10315-1728070200-1728082800@tangoquebec.org
SUMMARY:Milonga Tangusto à Trois-Rivières
DESCRIPTION:La Milonga Tangusto à Trois-Rivières : une milonga à l’ambiance conviviale et chaleureuse dans une salle superbe.\n20\, rue Jacinthe\, Trois-Rivières\n19h30 à 23h30t
URL:https://tangoquebec.org/index.php/calendrier/milonga-tangusto-a-trois-rivieres-6/
LOCATION:Tangusto\, 20\, rue Jacinthe\, Trois-Rivières\, Québec\, G8V 2M3\, Canada
CATEGORIES:Milonga
ATTACH;FMTTYPE=image/jpeg:https://tangoquebec.org/wp-content/uploads/2018/01/tangusto_salle2.jpg
END:VEVENT
BEGIN:VEVENT
DTSTART;TZID=America/New_York:20241005T203000
DTEND;TZID=America/New_York:20241005T230000
DTSTAMP:20260424T132009
CREATED:20240826T110436Z
LAST-MODIFIED:20240926T103614Z
UID:10293-1728160200-1728169200@tangoquebec.org
SUMMARY:Milonga de l'Association Tango Québec - dj Natalia Sinelnikova
DESCRIPTION:Tous sont cordialement invités à venir danser le tango argentin\, sur la musique de la dj Natalia Sinelnikova\, lors de la Milonga de l’Association Tango Québec. \n5$ pour les membres qui ont participé à l’Assemblée Générale Annuelle \n10$ pour les membres qui viennent uniquement à la milonga \n15$ pour les non-membres
URL:https://tangoquebec.org/index.php/calendrier/milonga-de-lassociation-tango-quebec/
LOCATION:Centre Mgr Marcoux\, 2025 Adjutor-Rivard\, Québec\, Québec\, G1J 0H6\, Canada
CATEGORIES:Milonga
ATTACH;FMTTYPE=image/jpeg:https://tangoquebec.org/wp-content/uploads/2017/09/banniere_noir_courte.jpg
END:VEVENT
BEGIN:VEVENT
DTSTART;TZID=America/New_York:20241006T150000
DTEND;TZID=America/New_York:20241006T190000
DTSTAMP:20260424T132009
CREATED:20240105T020216Z
LAST-MODIFIED:20240815T225423Z
UID:9501-1728226800-1728241200@tangoquebec.org
SUMMARY:La Milonga de la Tarde
DESCRIPTION:La Milonga de la Tarde\, la milonga dominicale différente et chaleureuse. Pour votre plaisir!\n15h à 19h\n1360\, boul de l’Entente\, Québec\nNombreux stationnements gratuits\n15$
URL:https://tangoquebec.org/index.php/calendrier/la-milonga-de-la-tarde-13/
LOCATION:La Noche\, 1360\, boulevard de l'Entente\, Québec\, Québec\, Canada
CATEGORIES:Milonga
ATTACH;FMTTYPE=image/png:https://tangoquebec.org/wp-content/uploads/2024/08/logo-noir2.png
END:VEVENT
BEGIN:VEVENT
DTSTART;TZID=America/New_York:20241011T180000
DTEND;TZID=America/New_York:20241014T160000
DTSTAMP:20260424T132009
CREATED:20230819T161659Z
LAST-MODIFIED:20231125T235003Z
UID:9311-1728669600-1728921600@tangoquebec.org
SUMMARY:Encuentro Mariposas
DESCRIPTION:Voir tous les détails de cet évènement qui aura lieu du 11 au 14 octobre 2024 au www. mariposas-tango.com
URL:https://tangoquebec.org/index.php/calendrier/encuentro-mariposas/
CATEGORIES:Événement spécial,Milonga
ATTACH;FMTTYPE=image/jpeg:https://tangoquebec.org/wp-content/uploads/2023/08/Encuentro-Mariposas.jpg
ORGANIZER;CN="Mariposas Tango":MAILTO:milonga-mariposas@hotmail.com
END:VEVENT
BEGIN:VEVENT
DTSTART;TZID=America/New_York:20241017T203000
DTEND;TZID=America/New_York:20241017T233000
DTSTAMP:20260424T132009
CREATED:20241017T210645Z
LAST-MODIFIED:20241017T210645Z
UID:10363-1729197000-1729207800@tangoquebec.org
SUMMARY:Milonga à l'Escalera - DJ Natalia Sinelnikova
DESCRIPTION:
URL:https://tangoquebec.org/index.php/calendrier/milonga-a-lescalera-dj-natalia-sinelnikova/
LOCATION:604 rue St-Vallier Ouest\, 604 rue St-Vallier Ouest\, Québec\, Québec\, G1N 1C5\, Canada
CATEGORIES:Milonga
ATTACH;FMTTYPE=image/jpeg:https://tangoquebec.org/wp-content/uploads/2018/01/Logo_Ecole_Passion.jpg
END:VEVENT
BEGIN:VEVENT
DTSTART;TZID=America/New_York:20241017T203000
DTEND;TZID=America/New_York:20241017T233000
DTSTAMP:20260424T132009
CREATED:20241017T210750Z
LAST-MODIFIED:20241017T210750Z
UID:10365-1729197000-1729207800@tangoquebec.org
SUMMARY:Milonga à l'Escalera
DESCRIPTION:
URL:https://tangoquebec.org/index.php/calendrier/milonga-a-lescalera/
LOCATION:604 rue St-Vallier Ouest\, 604 rue St-Vallier Ouest\, Québec\, Québec\, G1N 1C5\, Canada
CATEGORIES:Milonga
ATTACH;FMTTYPE=image/jpeg:https://tangoquebec.org/wp-content/uploads/2018/01/Logo_Ecole_Passion.jpg
END:VEVENT
BEGIN:VEVENT
DTSTART;TZID=America/New_York:20241018T193000
DTEND;TZID=America/New_York:20241018T233000
DTSTAMP:20260424T132009
CREATED:20240917T201648Z
LAST-MODIFIED:20240917T201648Z
UID:10317-1729279800-1729294200@tangoquebec.org
SUMMARY:Milonga Tangusto à Trois-Rivières
DESCRIPTION:La Milonga Tangusto à Trois-Rivières : une milonga à l’ambiance conviviale et chaleureuse dans une salle superbe.\n20\, rue Jacinthe\, Trois-Rivières\n19h30 à 23h30
URL:https://tangoquebec.org/index.php/calendrier/milonga-tangusto-a-trois-rivieres-7/
LOCATION:Tangusto\, 20\, rue Jacinthe\, Trois-Rivières\, Québec\, G8V 2M3\, Canada
CATEGORIES:Milonga
ATTACH;FMTTYPE=image/jpeg:https://tangoquebec.org/wp-content/uploads/2018/01/tangusto_salle2.jpg
END:VEVENT
BEGIN:VEVENT
DTSTART;TZID=America/New_York:20241020T150000
DTEND;TZID=America/New_York:20241020T190000
DTSTAMP:20260424T132009
CREATED:20240105T020335Z
LAST-MODIFIED:20240815T225456Z
UID:9503-1729436400-1729450800@tangoquebec.org
SUMMARY:La Milonga de la Tarde
DESCRIPTION:La Milonga de la Tarde\, la milonga dominicale différente et chaleureuse. Pour votre plaisir!\n15h à 19h\n1360\, boul de l’Entente\, Québec\nNombreux stationnements gratuits\n15$
URL:https://tangoquebec.org/index.php/calendrier/la-milonga-de-la-tarde-14/
LOCATION:La Noche\, 1360\, boulevard de l'Entente\, Québec\, Québec\, Canada
CATEGORIES:Milonga
ATTACH;FMTTYPE=image/png:https://tangoquebec.org/wp-content/uploads/2024/08/logo-noir2.png
END:VEVENT
BEGIN:VEVENT
DTSTART;TZID=America/New_York:20241022T200000
DTEND;TZID=America/New_York:20241022T230000
DTSTAMP:20260424T132009
CREATED:20241017T210902Z
LAST-MODIFIED:20241017T210931Z
UID:10367-1729627200-1729638000@tangoquebec.org
SUMMARY:Milonga au bar le Drague
DESCRIPTION:Une courte milonga conviviale dans la section discothèque du Cabaret Le Drague.
URL:https://tangoquebec.org/index.php/calendrier/milonga-au-bar-le-drague-8/
LOCATION:Le Drague Cabaret Club\, 815\, rue St-Augustin\, Québec\, Québec\, G1R 3N4\, Canada
CATEGORIES:Milonga
ATTACH;FMTTYPE=image/jpeg:https://tangoquebec.org/wp-content/uploads/2019/08/drague2022.jpg
END:VEVENT
BEGIN:VEVENT
DTSTART;TZID=America/New_York:20241026T203000
DTEND;TZID=America/New_York:20241026T203000
DTSTAMP:20260424T132009
CREATED:20240418T210356Z
LAST-MODIFIED:20240826T200746Z
UID:9793-1729974600-1729974600@tangoquebec.org
SUMMARY:La milonguita de mam’zelle Janice
DESCRIPTION:La milonguita de mam’zelle Janice est de retour!\nJe vous attends dès 21h00\, au Carter Hall de la Cathédrale Holy Trinity au 31\, rue des Jardins\, Québec (Québec). Stationnement gratuit. \nApporter vos boissons non-alcoolisées.\nDJT: mam’zelle Janice \nPrix d’entrée : 15$\nDeux façons de payer:  argent comptant à la porte ou par virement bancaire à l’adresse courriel suivante : pleiade1@hotmail.com\nMot de passe: tango
URL:https://tangoquebec.org/index.php/calendrier/la-milonguita-de-mamzelle-janice-9/
CATEGORIES:Milonga
ATTACH;FMTTYPE=image/png:https://tangoquebec.org/wp-content/uploads/2019/09/Janice_logo_blanc.png
END:VEVENT
BEGIN:VEVENT
DTSTART;TZID=America/New_York:20241027T140000
DTEND;TZID=America/New_York:20241027T180000
DTSTAMP:20260424T132009
CREATED:20240105T013500Z
LAST-MODIFIED:20240801T195406Z
UID:9473-1730037600-1730052000@tangoquebec.org
SUMMARY:La Otra milonga Mariposas
DESCRIPTION:La Otra Milonga Mariposas une rencontre décontractée à laquelle les passionnés du tango se donnent rendez-vous pour le plaisir de se retrouver\, danser et aussi pour la qualité musicale qu’ils y retrouvent.  Musique traditionnelle avec un zest de musique alternative. \nTDj et hôtesse Diane Hainse \nLoisirs du Trait Carré\, salle SS112\, à compter de 14h00 jusqu’à 18h00 \nApportez vos rafraîchissements \nAdresse: Loisirs du Trait Carré\, 8815 Av. Jean Paquin\, Québec G1G 4W7 (sortie Jean Talon Est de l’autoroute Laurentienne nord\, à droite sur De Laval\, derrière l’église par le stationnement) \n\n10$/Membres Club VIP Mariposas*\n12$/ Membres de Tango Québec\n15$/ Autres danseurs\n\nInterac : Milonga-Mariposas@hotmail.com ou diane@mariposas-tango.com \nwww.mariposas-tango.com \n*Cartes disponibles sur place
URL:https://tangoquebec.org/index.php/calendrier/milonga-mariposas-del-domingo-6/
CATEGORIES:Milonga
ATTACH;FMTTYPE=image/png:https://tangoquebec.org/wp-content/uploads/2024/01/M_La-Otra.png
ORGANIZER;CN="Mariposas Tango":MAILTO:milonga-mariposas@hotmail.com
END:VEVENT
BEGIN:VEVENT
DTSTART;TZID=America/New_York:20241029T200000
DTEND;TZID=America/New_York:20241029T230000
DTSTAMP:20260424T132009
CREATED:20241017T211023Z
LAST-MODIFIED:20241017T211023Z
UID:10370-1730232000-1730242800@tangoquebec.org
SUMMARY:Milonga au bar le Drague
DESCRIPTION:Une courte milonga conviviale dans la section discothèque du Cabaret Le Drague.
URL:https://tangoquebec.org/index.php/calendrier/milonga-au-bar-le-drague-9/
LOCATION:Le Drague Cabaret Club\, 815\, rue St-Augustin\, Québec\, Québec\, G1R 3N4\, Canada
CATEGORIES:Milonga
ATTACH;FMTTYPE=image/jpeg:https://tangoquebec.org/wp-content/uploads/2019/08/drague2022.jpg
END:VEVENT
END:VCALENDAR