BEGIN:VCALENDAR
VERSION:2.0
PRODID:-//Tango Québec - ECPv6.15.20//NONSGML v1.0//EN
CALSCALE:GREGORIAN
METHOD:PUBLISH
X-WR-CALNAME:Tango Québec
X-ORIGINAL-URL:https://tangoquebec.org
X-WR-CALDESC:Évènements pour Tango Québec
REFRESH-INTERVAL;VALUE=DURATION:PT1H
X-Robots-Tag:noindex
X-PUBLISHED-TTL:PT1H
BEGIN:VTIMEZONE
TZID:America/New_York
BEGIN:DAYLIGHT
TZOFFSETFROM:-0500
TZOFFSETTO:-0400
TZNAME:EDT
DTSTART:20230312T070000
END:DAYLIGHT
BEGIN:STANDARD
TZOFFSETFROM:-0400
TZOFFSETTO:-0500
TZNAME:EST
DTSTART:20231105T060000
END:STANDARD
BEGIN:DAYLIGHT
TZOFFSETFROM:-0500
TZOFFSETTO:-0400
TZNAME:EDT
DTSTART:20240310T070000
END:DAYLIGHT
BEGIN:STANDARD
TZOFFSETFROM:-0400
TZOFFSETTO:-0500
TZNAME:EST
DTSTART:20241103T060000
END:STANDARD
BEGIN:DAYLIGHT
TZOFFSETFROM:-0500
TZOFFSETTO:-0400
TZNAME:EDT
DTSTART:20250309T070000
END:DAYLIGHT
BEGIN:STANDARD
TZOFFSETFROM:-0400
TZOFFSETTO:-0500
TZNAME:EST
DTSTART:20251102T060000
END:STANDARD
END:VTIMEZONE
BEGIN:VEVENT
DTSTART;TZID=America/New_York:20240602T153000
DTEND;TZID=America/New_York:20240602T190000
DTSTAMP:20260424T200027
CREATED:20230324T200552Z
LAST-MODIFIED:20240424T214107Z
UID:8484-1717342200-1717354800@tangoquebec.org
SUMMARY:La Otra Milonga Mariposas
DESCRIPTION:La Otra Milonga Mariposas une rencontre décontractée à laquelle les passionnés du tango se donnent rendez-vous pour le plaisir de se retrouver\, danser et aussi pour la qualité musicale qu’ils y retrouvent.  Musique traditionnelle avec un zest de musique alternative. \nTDj et hôtesse Diane Hainse \nÀ compter de 15h00 jusqu’à 19h00 \nAdresse: Centre Soleil d’Orient\, 917 rue Monseigneur-Grandin\, Suite 101\, Québec\, G1V 3X8 (Tout près de l’anneau de Glace de Ste-Foy)\nStationnement dans la rue ou autour de la bâtisse \n  \n10$/Membres Club VIP Mariposas*\n12$/ Membres de Tango Québec \n15$/ Autres danseurs \n  \nInterac : Milonga-Mariposas@hotmail.com \nwww.mariposas-tango.com \n*Cartes disponibles sur place
URL:https://tangoquebec.org/index.php/calendrier/milonga-mariposas-21-2023-11-04-2024-06-01/
LOCATION:917 rue Monseigneur-Grandin\, Suite 101\, Québec\, G1V 3X8
CATEGORIES:Milonga
ATTACH;FMTTYPE=image/png:https://tangoquebec.org/wp-content/uploads/2024/01/M_La-Otra.png
ORGANIZER;CN="Mariposas Tango":MAILTO:milonga-mariposas@hotmail.com
END:VEVENT
BEGIN:VEVENT
DTSTART;TZID=America/New_York:20240604T200000
DTEND;TZID=America/New_York:20240604T230000
DTSTAMP:20260424T200027
CREATED:20240330T180426Z
LAST-MODIFIED:20240330T180426Z
UID:9703-1717531200-1717542000@tangoquebec.org
SUMMARY:Milonga du Drague
DESCRIPTION:Une courte milonga conviviale dans la section discothèque du Cabaret Le Drague.\n815 rue Saint-Augustin\, G1R 3N4\n20h00 à 23h00
URL:https://tangoquebec.org/index.php/calendrier/milonga-du-drague-29/
CATEGORIES:Milonga
ATTACH;FMTTYPE=image/jpeg:https://tangoquebec.org/wp-content/uploads/2019/08/drague2022.jpg
END:VEVENT
BEGIN:VEVENT
DTSTART;TZID=America/New_York:20240605T190000
DTEND;TZID=America/New_York:20240605T220000
DTSTAMP:20260424T200027
CREATED:20240524T181027Z
LAST-MODIFIED:20240603T224953Z
UID:9992-1717614000-1717624800@tangoquebec.org
SUMMARY:Milonga extérieure Place Fleur de Lys
DESCRIPTION:Cet été\, la participation aux milongas extérieures du mercredi soir sera soumise aux conditions d’accès suivantes : \nGratuit pour les membres de Tango Québec 2024. \n5$/personne non-membre \n(Renouvelez ou obtenez votre carte de membre pour 30$/valide jusqu’au 30/09/2024 sur place) \nConsultez tous les avantages reliés à la carte de membre.  \nNotez que nous aurons besoin de l’aide de volontaires pour la pose et le retrait du tapis de danse\, et qu’il est préférable d’apporter sa propre chaise de parterre.
URL:https://tangoquebec.org/index.php/calendrier/milonga-exterieure-place-fleur-de-lys-3/
LOCATION:https://www.google.com/maps/place/Restaurant+Normandin+Fleur+de+Lys/@46.8222055\,-71.2544171\,17z/data=!4m17!1m9!2m8!1sRestaurants!3m6!1sRestaurants!2sRue+Soumande\,+Qu%C3%A9bec\,+QC!3s0x4cb89637ed81aa0b:0xd1f0d0e9a978836b!4m2!1d-71.2537305!2d46.8268377!3m6!1s0x4cb896488dca012f:0xb410fe58efb2c5e9!8m2!3d46.82142!4d-71.25436!15sCgtSZXN0YXVyYW50c1oNIgtyZXN0YXVyYW50c5IBEWZhbWlseV9yZXN0YXVyYW504AEA!16s%2Fg%2F1tgnwv0b\, Québec
CATEGORIES:Milonga
ATTACH;FMTTYPE=image/jpeg:https://tangoquebec.org/wp-content/uploads/2021/07/thumbnail_IMG_4276.jpg
END:VEVENT
BEGIN:VEVENT
DTSTART;TZID=America/New_York:20240606T203000
DTEND;TZID=America/New_York:20240606T233000
DTSTAMP:20260424T200027
CREATED:20221226T005553Z
LAST-MODIFIED:20240213T213151Z
UID:8925-1717705800-1717716600@tangoquebec.org
SUMMARY:Milonga du Jeudi Passion Tango
DESCRIPTION:Veuillez contacter Passion Tango avant de vous déplacer.
URL:https://tangoquebec.org/index.php/calendrier/milonga-du-jeudi-passion-tango-2024-06-06/
LOCATION:La Escalera\, 604\, rue St-Vallier Ouest\, Québec\, Québec\, G1N 1C5\, Canada
CATEGORIES:Milonga
ATTACH;FMTTYPE=image/jpeg:https://tangoquebec.org/wp-content/uploads/2018/01/Logo_Ecole_Passion.jpg
ORGANIZER;CN="%C3%89cole Passion Tango":MAILTO:ecolepassiontango@gmail.com
END:VEVENT
BEGIN:VEVENT
DTSTART;TZID=America/New_York:20240608T210000
DTEND;TZID=America/New_York:20240608T233000
DTSTAMP:20260424T200027
CREATED:20230723T185231Z
LAST-MODIFIED:20240316T162528Z
UID:9076-1717880400-1717889400@tangoquebec.org
SUMMARY:La milonguita de mam’zelle Janice
DESCRIPTION:La milonguita de mam’zelle Janice est de retour!\nJe vous attends dès 21h00\, au Carter Hall de la Cathédrale Holy Trinity au 31\, rue des Jardins\, Québec (Québec). Stationnement gratuit. \nApporter vos boissons non-alcoolisées.\nDJT: mam’zelle Janice \nPrix d’entrée : 15$\nDeux façons de payer:  argent comptant à la porte ou par virement bancaire à l’adresse courriel suivante : pleiade1@hotmail.com\nMot de passe: tango
URL:https://tangoquebec.org/index.php/calendrier/la-milonguita-de-mamzelle-janice-8/
CATEGORIES:Milonga
ATTACH;FMTTYPE=image/png:https://tangoquebec.org/wp-content/uploads/2019/09/Janice_logo_blanc.png
END:VEVENT
BEGIN:VEVENT
DTSTART;TZID=America/New_York:20240609T150000
DTEND;TZID=America/New_York:20240609T190000
DTSTAMP:20260424T200027
CREATED:20240105T005559Z
LAST-MODIFIED:20240106T000102Z
UID:9454-1717945200-1717959600@tangoquebec.org
SUMMARY:Milonga de la Tarde
DESCRIPTION:La Milonga de la Tarde\, la milonga dominicale différente et chaleureuse. Pour votre plaisir!\n15h à 19h\n1605 chemin Sainte-Foy\, porte #4\nNombreux stationnements gratuits\n15$ \nAu plaisir de vous accueillir\,\nChristian et Hugo
URL:https://tangoquebec.org/index.php/calendrier/milonga-de-la-tarde-5/
CATEGORIES:Milonga
ATTACH;FMTTYPE=image/jpeg:https://tangoquebec.org/wp-content/uploads/2023/07/Milonga-de-la-Tarde.jpg
END:VEVENT
BEGIN:VEVENT
DTSTART;TZID=America/New_York:20240610T193000
DTEND;TZID=America/New_York:20240610T220000
DTSTAMP:20260424T200027
CREATED:20240603T225810Z
LAST-MODIFIED:20240604T113240Z
UID:10031-1718047800-1718056800@tangoquebec.org
SUMMARY:Milonga extérieure - Maison O'Neil - DJ Diane Hainse
DESCRIPTION:Cet été\, la participation aux milongas extérieures du lundi soir sera soumise aux conditions d’accès suivantes : \nPriorité aux membres de Tango Québec 2024. \n(Renouvelez ou obtenez votre carte de membre pour 30$/valide jusqu’au 30/09/2024) \nConsultez tous les avantages reliés à la carte de membre.  \nNotez que pour mieux danser\, il est préférable de porter des chaussures de pratique que des talons aiguille. Aussi\, apportez votre propre chaise de parterre.
URL:https://tangoquebec.org/index.php/calendrier/milonga-exterieure-maison-oneil/
LOCATION:3160\, boul Wilfrid-Hamel\, 3160\, Boul Wilrid-Hamel\, Québec
CATEGORIES:Milonga
ATTACH;FMTTYPE=image/jpeg:https://tangoquebec.org/wp-content/uploads/2024/06/telechargement-2-scaled.jpg
END:VEVENT
BEGIN:VEVENT
DTSTART;TZID=America/New_York:20240611T200000
DTEND;TZID=America/New_York:20240611T230000
DTSTAMP:20260424T200027
CREATED:20240330T180458Z
LAST-MODIFIED:20240330T180458Z
UID:9705-1718136000-1718146800@tangoquebec.org
SUMMARY:Milonga du Drague
DESCRIPTION:Une courte milonga conviviale dans la section discothèque du Cabaret Le Drague.\n815 rue Saint-Augustin\, G1R 3N4\n20h00 à 23h00
URL:https://tangoquebec.org/index.php/calendrier/milonga-du-drague-30/
CATEGORIES:Milonga
ATTACH;FMTTYPE=image/jpeg:https://tangoquebec.org/wp-content/uploads/2019/08/drague2022.jpg
END:VEVENT
BEGIN:VEVENT
DTSTART;TZID=America/New_York:20240612T190000
DTEND;TZID=America/New_York:20240612T220000
DTSTAMP:20260424T200027
CREATED:20240524T183208Z
LAST-MODIFIED:20240603T230627Z
UID:9995-1718218800-1718229600@tangoquebec.org
SUMMARY:Milonga extérieure Place Fleur de Lys - Alexander Stewart
DESCRIPTION:Cet été\, la participation aux milongas extérieures du mercredi soir sera soumise aux conditions d’accès suivantes : \nGratuit pour les membres de Tango Québec 2024. \n5$/personne non-membre \n(Renouvelez ou obtenez votre carte de membre pour 30$/valide jusqu’au 30/09/2024 sur place) \nConsultez tous les avantages reliés à la carte de membre.  \nNotez que nous aurons besoin de l’aide de volontaires pour la pose et le retrait du tapis de danse\, et qu’il est préférable d’apporter sa propre chaise de parterre.
URL:https://tangoquebec.org/index.php/calendrier/milonga-exterieure-place-fleur-de-lys-4/
LOCATION:https://www.google.com/maps/place/Restaurant+Normandin+Fleur+de+Lys/@46.8222055\,-71.2544171\,17z/data=!4m17!1m9!2m8!1sRestaurants!3m6!1sRestaurants!2sRue+Soumande\,+Qu%C3%A9bec\,+QC!3s0x4cb89637ed81aa0b:0xd1f0d0e9a978836b!4m2!1d-71.2537305!2d46.8268377!3m6!1s0x4cb896488dca012f:0xb410fe58efb2c5e9!8m2!3d46.82142!4d-71.25436!15sCgtSZXN0YXVyYW50c1oNIgtyZXN0YXVyYW50c5IBEWZhbWlseV9yZXN0YXVyYW504AEA!16s%2Fg%2F1tgnwv0b\, Québec
CATEGORIES:Milonga
ATTACH;FMTTYPE=image/jpeg:https://tangoquebec.org/wp-content/uploads/2021/07/thumbnail_IMG_4276.jpg
END:VEVENT
BEGIN:VEVENT
DTSTART;TZID=America/New_York:20240613T203000
DTEND;TZID=America/New_York:20240613T233000
DTSTAMP:20260424T200027
CREATED:20221226T005553Z
LAST-MODIFIED:20240201T154646Z
UID:8926-1718310600-1718321400@tangoquebec.org
SUMMARY:Milonga du Jeudi Passion Tango
DESCRIPTION:
URL:https://tangoquebec.org/index.php/calendrier/milonga-du-jeudi-passion-tango-2024-06-13/
LOCATION:La Escalera\, 604\, rue St-Vallier Ouest\, Québec\, Québec\, G1N 1C5\, Canada
CATEGORIES:Milonga
ATTACH;FMTTYPE=image/jpeg:https://tangoquebec.org/wp-content/uploads/2018/01/Logo_Ecole_Passion.jpg
ORGANIZER;CN="%C3%89cole Passion Tango":MAILTO:ecolepassiontango@gmail.com
END:VEVENT
BEGIN:VEVENT
DTSTART;TZID=America/New_York:20240614T193000
DTEND;TZID=America/New_York:20240614T233000
DTSTAMP:20260424T200027
CREATED:20230624T171307Z
LAST-MODIFIED:20230624T171544Z
UID:8747-1718393400-1718407800@tangoquebec.org
SUMMARY:Milonga Tangusto à Trois-Rivières
DESCRIPTION:La Milonga Tangusto à Trois-Rivières : une milonga à l’ambiance conviviale et chaleureuse dans une salle superbe.\n20\, rue Jacinthe\, Trois-Rivières\n19h30 à 23h30
URL:https://tangoquebec.org/index.php/calendrier/milonga-tangusto-a-trois-rivieres-3-2024-06-14/
LOCATION:Tangusto\, 20\, rue Jacinthe\, Trois-Rivières\, Québec\, G8V 2M3\, Canada
CATEGORIES:Milonga
ATTACH;FMTTYPE=image/jpeg:https://tangoquebec.org/wp-content/uploads/2018/01/tangusto_salle2.jpg
ORGANIZER;CN="Tangusto":MAILTO:tangusto@hotmail.com
END:VEVENT
BEGIN:VEVENT
DTSTART;TZID=America/New_York:20240615T203000
DTEND;TZID=America/New_York:20240615T233000
DTSTAMP:20260424T200027
CREATED:20230625T231122Z
LAST-MODIFIED:20240330T180654Z
UID:8855-1718483400-1718494200@tangoquebec.org
SUMMARY:Milonga Passion Tango
DESCRIPTION:Veuillez contacter Passion Tango avant de vous déplacer.
URL:https://tangoquebec.org/index.php/calendrier/milonga-passion-tango-5-2024-06-15/
LOCATION:604 rue St-Vallier Ouest\, 604 rue St-Vallier Ouest\, Québec\, Québec\, G1N 1C5\, Canada
CATEGORIES:Milonga
ATTACH;FMTTYPE=image/jpeg:https://tangoquebec.org/wp-content/uploads/2018/01/Logo_Ecole_Passion.jpg
ORGANIZER;CN="%C3%89cole Passion Tango":MAILTO:ecolepassiontango@gmail.com
END:VEVENT
BEGIN:VEVENT
DTSTART;TZID=America/New_York:20240617T190000
DTEND;TZID=America/New_York:20240617T220000
DTSTAMP:20260424T200027
CREATED:20240603T230029Z
LAST-MODIFIED:20240604T113233Z
UID:10036-1718650800-1718661600@tangoquebec.org
SUMMARY:Milonga extérieure - Maison O'Neil - DJ Véronique Boivin
DESCRIPTION:Cet été\, la participation aux milongas extérieures du lundi soir sera soumise aux conditions d’accès suivantes : \nPriorité aux membres de Tango Québec 2024. \n(Renouvelez ou obtenez votre carte de membre pour 30$/valide jusqu’au 30/09/2024) \nConsultez tous les avantages reliés à la carte de membre.  \nNotez que pour mieux danser\, il est préférable de porter des chaussures de pratique que des talons aiguille. Aussi\, apportez votre propre chaise de parterre.
URL:https://tangoquebec.org/index.php/calendrier/milonga-exterieure-maison-oneil-dj-veronique-boivin/
LOCATION:3160\, boul Wilfrid-Hamel\, 3160\, Boul Wilrid-Hamel\, Québec
CATEGORIES:Milonga
ATTACH;FMTTYPE=image/jpeg:https://tangoquebec.org/wp-content/uploads/2024/06/telechargement-2-scaled.jpg
END:VEVENT
BEGIN:VEVENT
DTSTART;TZID=America/New_York:20240618T200000
DTEND;TZID=America/New_York:20240618T230000
DTSTAMP:20260424T200027
CREATED:20240330T180530Z
LAST-MODIFIED:20240330T180530Z
UID:9707-1718740800-1718751600@tangoquebec.org
SUMMARY:Milonga du Drague
DESCRIPTION:Une courte milonga conviviale dans la section discothèque du Cabaret Le Drague.\n815 rue Saint-Augustin\, G1R 3N4\n20h00 à 23h00
URL:https://tangoquebec.org/index.php/calendrier/milonga-du-drague-31/
CATEGORIES:Milonga
ATTACH;FMTTYPE=image/jpeg:https://tangoquebec.org/wp-content/uploads/2019/08/drague2022.jpg
END:VEVENT
BEGIN:VEVENT
DTSTART;TZID=America/New_York:20240619T190000
DTEND;TZID=America/New_York:20240619T220000
DTSTAMP:20260424T200027
CREATED:20240524T183320Z
LAST-MODIFIED:20240619T165212Z
UID:9997-1718823600-1718834400@tangoquebec.org
SUMMARY:Milonga extérieure Place Fleur de Lys - DJ Hugo Denis
DESCRIPTION:Cet été\, la participation aux milongas extérieures du mercredi soir sera soumise aux conditions d’accès suivantes : \nGratuit pour les membres de Tango Québec 2024. \n5$/personne non-membre \n(Renouvelez ou obtenez votre carte de membre pour 30$/valide jusqu’au 30/09/2024 sur place) \nConsultez tous les avantages reliés à la carte de membre.  \nNotez que nous aurons besoin de l’aide de volontaires pour la pose et le retrait du tapis de danse\, et qu’il est préférable d’apporter sa propre chaise de parterre.
URL:https://tangoquebec.org/index.php/calendrier/milonga-exterieure-place-fleur-de-lys-5/
LOCATION:https://www.google.com/maps/place/Restaurant+Normandin+Fleur+de+Lys/@46.8222055\,-71.2544171\,17z/data=!4m17!1m9!2m8!1sRestaurants!3m6!1sRestaurants!2sRue+Soumande\,+Qu%C3%A9bec\,+QC!3s0x4cb89637ed81aa0b:0xd1f0d0e9a978836b!4m2!1d-71.2537305!2d46.8268377!3m6!1s0x4cb896488dca012f:0xb410fe58efb2c5e9!8m2!3d46.82142!4d-71.25436!15sCgtSZXN0YXVyYW50c1oNIgtyZXN0YXVyYW50c5IBEWZhbWlseV9yZXN0YXVyYW504AEA!16s%2Fg%2F1tgnwv0b\, Québec
CATEGORIES:Milonga
ATTACH;FMTTYPE=image/jpeg:https://tangoquebec.org/wp-content/uploads/2021/07/thumbnail_IMG_4276.jpg
END:VEVENT
BEGIN:VEVENT
DTSTART;TZID=America/New_York:20240620T203000
DTEND;TZID=America/New_York:20240620T233000
DTSTAMP:20260424T200027
CREATED:20221226T005553Z
LAST-MODIFIED:20240213T213008Z
UID:8927-1718915400-1718926200@tangoquebec.org
SUMMARY:Milonga du Jeudi Passion Tango
DESCRIPTION:Veuillez contacter Passion Tango avant de vous déplacer.
URL:https://tangoquebec.org/index.php/calendrier/milonga-du-jeudi-passion-tango-2024-06-20/
LOCATION:La Escalera\, 604\, rue St-Vallier Ouest\, Québec\, Québec\, G1N 1C5\, Canada
CATEGORIES:Milonga
ATTACH;FMTTYPE=image/jpeg:https://tangoquebec.org/wp-content/uploads/2018/01/Logo_Ecole_Passion.jpg
ORGANIZER;CN="%C3%89cole Passion Tango":MAILTO:ecolepassiontango@gmail.com
END:VEVENT
BEGIN:VEVENT
DTSTART;TZID=America/New_York:20240622T203000
DTEND;TZID=America/New_York:20240622T233000
DTSTAMP:20260424T200027
CREATED:20230625T231122Z
LAST-MODIFIED:20240330T180625Z
UID:8856-1719088200-1719099000@tangoquebec.org
SUMMARY:Milonga Passion Tango
DESCRIPTION:Veuillez contacter Passion Tango avant de vous déplacer.
URL:https://tangoquebec.org/index.php/calendrier/milonga-passion-tango-5-2024-06-22/
LOCATION:604 rue St-Vallier Ouest\, 604 rue St-Vallier Ouest\, Québec\, Québec\, G1N 1C5\, Canada
CATEGORIES:Milonga
ATTACH;FMTTYPE=image/jpeg:https://tangoquebec.org/wp-content/uploads/2018/01/Logo_Ecole_Passion.jpg
ORGANIZER;CN="%C3%89cole Passion Tango":MAILTO:ecolepassiontango@gmail.com
END:VEVENT
BEGIN:VEVENT
DTSTART;TZID=America/New_York:20240625T200000
DTEND;TZID=America/New_York:20240625T230000
DTSTAMP:20260424T200027
CREATED:20240624T132239Z
LAST-MODIFIED:20240624T132249Z
UID:10091-1719345600-1719356400@tangoquebec.org
SUMMARY:Milonga au Drague
DESCRIPTION:Une courte milonga conviviale dans la section discothèque du Cabaret Le Drague.\nBar le Dra\n20h00 à 23h00
URL:https://tangoquebec.org/index.php/calendrier/milonga-au-drague-3/
LOCATION:Bar le Drague\, 815 rue Saint-Augustin\,\, Québec\, G1R 3N4\, Canada
CATEGORIES:Milonga
ATTACH;FMTTYPE=image/jpeg:https://tangoquebec.org/wp-content/uploads/2019/08/drague2022.jpg
END:VEVENT
BEGIN:VEVENT
DTSTART;TZID=America/New_York:20240626T190000
DTEND;TZID=America/New_York:20240626T220000
DTSTAMP:20260424T200027
CREATED:20240524T183433Z
LAST-MODIFIED:20240603T230529Z
UID:9999-1719428400-1719439200@tangoquebec.org
SUMMARY:Milonga extérieure Place Fleur de Lys - DJ Janice Wood
DESCRIPTION:Cet été\, la participation aux milongas extérieures du mercredi soir sera soumise aux conditions d’accès suivantes : \nGratuit pour les membres de Tango Québec 2024. \n5$/personne non-membre \n(Renouvelez ou obtenez votre carte de membre pour 30$/valide jusqu’au 30/09/2024 sur place) \nConsultez tous les avantages reliés à la carte de membre.  \nNotez que nous aurons besoin de l’aide de volontaires pour la pose et le retrait du tapis de danse\, et qu’il est préférable d’apporter sa propre chaise de parterre.
URL:https://tangoquebec.org/index.php/calendrier/milonga-exterieure-place-fleur-de-lys-6/
LOCATION:https://www.google.com/maps/place/Restaurant+Normandin+Fleur+de+Lys/@46.8222055\,-71.2544171\,17z/data=!4m17!1m9!2m8!1sRestaurants!3m6!1sRestaurants!2sRue+Soumande\,+Qu%C3%A9bec\,+QC!3s0x4cb89637ed81aa0b:0xd1f0d0e9a978836b!4m2!1d-71.2537305!2d46.8268377!3m6!1s0x4cb896488dca012f:0xb410fe58efb2c5e9!8m2!3d46.82142!4d-71.25436!15sCgtSZXN0YXVyYW50c1oNIgtyZXN0YXVyYW50c5IBEWZhbWlseV9yZXN0YXVyYW504AEA!16s%2Fg%2F1tgnwv0b\, Québec
CATEGORIES:Milonga
ATTACH;FMTTYPE=image/jpeg:https://tangoquebec.org/wp-content/uploads/2021/07/thumbnail_IMG_4276.jpg
END:VEVENT
BEGIN:VEVENT
DTSTART;TZID=America/New_York:20240628T073000
DTEND;TZID=America/New_York:20240628T233000
DTSTAMP:20260424T200027
CREATED:20240523T221655Z
LAST-MODIFIED:20240523T223038Z
UID:9986-1719559800-1719617400@tangoquebec.org
SUMMARY:Milonga Tangusto à Trois-Rivières
DESCRIPTION:La Milonga Tangusto à Trois-Rivières : une milonga à l’ambiance conviviale et chaleureuse dans une salle superbe.\n20\, rue Jacinthe\, Trois-Rivières\n19h30 à 23h30
URL:https://tangoquebec.org/index.php/calendrier/milonga-tangusto-a-trois-rivieres-4/
CATEGORIES:Milonga
ORGANIZER;CN="Tangusto":MAILTO:tangusto@hotmail.com
END:VEVENT
BEGIN:VEVENT
DTSTART;TZID=America/New_York:20240629T203000
DTEND;TZID=America/New_York:20240629T233000
DTSTAMP:20260424T200027
CREATED:20230625T231122Z
LAST-MODIFIED:20240330T180604Z
UID:8857-1719693000-1719703800@tangoquebec.org
SUMMARY:Milonga Passion Tango
DESCRIPTION:Veuillez contacter Passion Tango avant de vous déplacer.
URL:https://tangoquebec.org/index.php/calendrier/milonga-passion-tango-5-2024-06-29/
LOCATION:604 rue St-Vallier Ouest\, 604 rue St-Vallier Ouest\, Québec\, Québec\, G1N 1C5\, Canada
CATEGORIES:Milonga
ATTACH;FMTTYPE=image/jpeg:https://tangoquebec.org/wp-content/uploads/2018/01/Logo_Ecole_Passion.jpg
ORGANIZER;CN="%C3%89cole Passion Tango":MAILTO:ecolepassiontango@gmail.com
END:VEVENT
BEGIN:VEVENT
DTSTART;TZID=America/New_York:20240630T200000
DTEND;TZID=America/New_York:20240630T200000
DTSTAMP:20260424T200027
CREATED:20240613T163850Z
LAST-MODIFIED:20240613T164006Z
UID:10085-1719777600-1719777600@tangoquebec.org
SUMMARY:Milonga Tu y Yo Tango - le 30 juin 2024 - DJ Jean-Sébastien Viard
DESCRIPTION:Venez danser grâce au DJ Jean-Sébastien Viard\, de 20h à minuit ! \nLa milonga est précédée d’un atelier d’initiation de 19h à 20h. Invitez vos proches ! \n 
URL:https://tangoquebec.org/index.php/calendrier/milonga-tu-y-yo-tango-le-30-juin-2024-dj-jean-sebastien-viard/
LOCATION:La Swing Ambassde\, 333 de la Couronne\, Québec\, Québec\, G1K6E7\, Canada
CATEGORIES:Milonga
ATTACH;FMTTYPE=image/jpeg:https://tangoquebec.org/wp-content/uploads/2024/06/InfoTango_31mai_JSV_page-0001.jpg
END:VEVENT
END:VCALENDAR