BEGIN:VCALENDAR
VERSION:2.0
PRODID:-//Tango Québec - ECPv6.15.20//NONSGML v1.0//EN
CALSCALE:GREGORIAN
METHOD:PUBLISH
X-WR-CALNAME:Tango Québec
X-ORIGINAL-URL:https://tangoquebec.org
X-WR-CALDESC:Évènements pour Tango Québec
REFRESH-INTERVAL;VALUE=DURATION:PT1H
X-Robots-Tag:noindex
X-PUBLISHED-TTL:PT1H
BEGIN:VTIMEZONE
TZID:America/New_York
BEGIN:DAYLIGHT
TZOFFSETFROM:-0500
TZOFFSETTO:-0400
TZNAME:EDT
DTSTART:20230312T070000
END:DAYLIGHT
BEGIN:STANDARD
TZOFFSETFROM:-0400
TZOFFSETTO:-0500
TZNAME:EST
DTSTART:20231105T060000
END:STANDARD
BEGIN:DAYLIGHT
TZOFFSETFROM:-0500
TZOFFSETTO:-0400
TZNAME:EDT
DTSTART:20240310T070000
END:DAYLIGHT
BEGIN:STANDARD
TZOFFSETFROM:-0400
TZOFFSETTO:-0500
TZNAME:EST
DTSTART:20241103T060000
END:STANDARD
BEGIN:DAYLIGHT
TZOFFSETFROM:-0500
TZOFFSETTO:-0400
TZNAME:EDT
DTSTART:20250309T070000
END:DAYLIGHT
BEGIN:STANDARD
TZOFFSETFROM:-0400
TZOFFSETTO:-0500
TZNAME:EST
DTSTART:20251102T060000
END:STANDARD
END:VTIMEZONE
BEGIN:VEVENT
DTSTART;TZID=America/New_York:20240502T203000
DTEND;TZID=America/New_York:20240502T233000
DTSTAMP:20260424T213742
CREATED:20221226T005553Z
LAST-MODIFIED:20240213T213340Z
UID:8920-1714681800-1714692600@tangoquebec.org
SUMMARY:Milonga du Jeudi Passion Tango
DESCRIPTION:Veuillez contacter Passion Tango avant de vous déplacer.
URL:https://tangoquebec.org/index.php/calendrier/milonga-du-jeudi-passion-tango-2024-05-02/
LOCATION:La Escalera\, 604\, rue St-Vallier Ouest\, Québec\, Québec\, G1N 1C5\, Canada
CATEGORIES:Milonga
ATTACH;FMTTYPE=image/jpeg:https://tangoquebec.org/wp-content/uploads/2018/01/Logo_Ecole_Passion.jpg
ORGANIZER;CN="%C3%89cole Passion Tango":MAILTO:ecolepassiontango@gmail.com
END:VEVENT
BEGIN:VEVENT
DTSTART;TZID=America/New_York:20240503T193000
DTEND;TZID=America/New_York:20240503T233000
DTSTAMP:20260424T213742
CREATED:20230624T171307Z
LAST-MODIFIED:20230624T171544Z
UID:8744-1714764600-1714779000@tangoquebec.org
SUMMARY:Milonga Tangusto à Trois-Rivières
DESCRIPTION:La Milonga Tangusto à Trois-Rivières : une milonga à l’ambiance conviviale et chaleureuse dans une salle superbe.\n20\, rue Jacinthe\, Trois-Rivières\n19h30 à 23h30
URL:https://tangoquebec.org/index.php/calendrier/milonga-tangusto-a-trois-rivieres-3-2024-05-03/
LOCATION:Tangusto\, 20\, rue Jacinthe\, Trois-Rivières\, Québec\, G8V 2M3\, Canada
CATEGORIES:Milonga
ATTACH;FMTTYPE=image/jpeg:https://tangoquebec.org/wp-content/uploads/2018/01/tangusto_salle2.jpg
ORGANIZER;CN="Tangusto":MAILTO:tangusto@hotmail.com
END:VEVENT
BEGIN:VEVENT
DTSTART;TZID=America/New_York:20240509T203000
DTEND;TZID=America/New_York:20240509T233000
DTSTAMP:20260424T213742
CREATED:20221226T005553Z
LAST-MODIFIED:20240213T213314Z
UID:8921-1715286600-1715297400@tangoquebec.org
SUMMARY:Milonga du Jeudi Passion Tango
DESCRIPTION:Veuillez contacter Passion Tango avant de vous déplacer.
URL:https://tangoquebec.org/index.php/calendrier/milonga-du-jeudi-passion-tango-2024-05-09/
LOCATION:La Escalera\, 604\, rue St-Vallier Ouest\, Québec\, Québec\, G1N 1C5\, Canada
CATEGORIES:Milonga
ATTACH;FMTTYPE=image/jpeg:https://tangoquebec.org/wp-content/uploads/2018/01/Logo_Ecole_Passion.jpg
ORGANIZER;CN="%C3%89cole Passion Tango":MAILTO:ecolepassiontango@gmail.com
END:VEVENT
BEGIN:VEVENT
DTSTART;TZID=America/New_York:20240511T203000
DTEND;TZID=America/New_York:20240511T233000
DTSTAMP:20260424T213742
CREATED:20230625T231122Z
LAST-MODIFIED:20240511T173422Z
UID:8892-1715459400-1715470200@tangoquebec.org
SUMMARY:ANNULÉE - Milonga Passion Tango
DESCRIPTION:La milonga de ce soir est annulée.
URL:https://tangoquebec.org/index.php/calendrier/milonga-passion-tango-5-2024-05-11/
LOCATION:604 rue St-Vallier Ouest\, 604 rue St-Vallier Ouest\, Québec\, Québec\, G1N 1C5\, Canada
CATEGORIES:Milonga
ATTACH;FMTTYPE=image/jpeg:https://tangoquebec.org/wp-content/uploads/2018/01/Logo_Ecole_Passion.jpg
ORGANIZER;CN="%C3%89cole Passion Tango":MAILTO:ecolepassiontango@gmail.com
END:VEVENT
BEGIN:VEVENT
DTSTART;TZID=America/New_York:20240512T150000
DTEND;TZID=America/New_York:20240512T190000
DTSTAMP:20260424T213742
CREATED:20230723T190013Z
LAST-MODIFIED:20230723T190013Z
UID:9091-1715526000-1715540400@tangoquebec.org
SUMMARY:La Milonga de la Tarde
DESCRIPTION:La Milonga de la Tarde\, la milonga dominicale différente et chaleureuse. Pour votre plaisir! \n15h à 19h \n1605 chemin Sainte-Foy\, porte #4 \nNombreux stationnements gratuits \n15$ \n  \nAu plaisir de vous accueillir\, \nChristian et Hugo.
URL:https://tangoquebec.org/index.php/calendrier/la-milonga-de-la-tarde-9/
LOCATION:Québec
CATEGORIES:Milonga
ATTACH;FMTTYPE=image/jpeg:https://tangoquebec.org/wp-content/uploads/2023/07/Milonga-de-la-Tarde.jpg
END:VEVENT
BEGIN:VEVENT
DTSTART;TZID=America/New_York:20240514T200000
DTEND;TZID=America/New_York:20240514T230000
DTSTAMP:20260424T213742
CREATED:20240330T180123Z
LAST-MODIFIED:20240330T180123Z
UID:9695-1715716800-1715727600@tangoquebec.org
SUMMARY:Milonga du Drague
DESCRIPTION:Une courte milonga conviviale dans la section discothèque du Cabaret Le Drague.\n815 rue Saint-Augustin\, G1R 3N4\n20h00 à 23h00
URL:https://tangoquebec.org/index.php/calendrier/milonga-du-drague-25/
CATEGORIES:Milonga
ATTACH;FMTTYPE=image/jpeg:https://tangoquebec.org/wp-content/uploads/2019/08/drague2022.jpg
END:VEVENT
BEGIN:VEVENT
DTSTART;TZID=America/New_York:20240516T203000
DTEND;TZID=America/New_York:20240516T233000
DTSTAMP:20260424T213742
CREATED:20221226T005553Z
LAST-MODIFIED:20240213T213251Z
UID:8922-1715891400-1715902200@tangoquebec.org
SUMMARY:Milonga du Jeudi Passion Tango
DESCRIPTION:Veuillez contacter Passion Tango avant de vous déplacer.
URL:https://tangoquebec.org/index.php/calendrier/milonga-du-jeudi-passion-tango-2024-05-16/
LOCATION:La Escalera\, 604\, rue St-Vallier Ouest\, Québec\, Québec\, G1N 1C5\, Canada
CATEGORIES:Milonga
ATTACH;FMTTYPE=image/jpeg:https://tangoquebec.org/wp-content/uploads/2018/01/Logo_Ecole_Passion.jpg
ORGANIZER;CN="%C3%89cole Passion Tango":MAILTO:ecolepassiontango@gmail.com
END:VEVENT
BEGIN:VEVENT
DTSTART;TZID=America/New_York:20240517T193000
DTEND;TZID=America/New_York:20240517T233000
DTSTAMP:20260424T213742
CREATED:20230624T171307Z
LAST-MODIFIED:20230624T171544Z
UID:8745-1715974200-1715988600@tangoquebec.org
SUMMARY:Milonga Tangusto à Trois-Rivières
DESCRIPTION:La Milonga Tangusto à Trois-Rivières : une milonga à l’ambiance conviviale et chaleureuse dans une salle superbe.\n20\, rue Jacinthe\, Trois-Rivières\n19h30 à 23h30
URL:https://tangoquebec.org/index.php/calendrier/milonga-tangusto-a-trois-rivieres-3-2024-05-17/
LOCATION:Tangusto\, 20\, rue Jacinthe\, Trois-Rivières\, Québec\, G8V 2M3\, Canada
CATEGORIES:Milonga
ATTACH;FMTTYPE=image/jpeg:https://tangoquebec.org/wp-content/uploads/2018/01/tangusto_salle2.jpg
ORGANIZER;CN="Tangusto":MAILTO:tangusto@hotmail.com
END:VEVENT
BEGIN:VEVENT
DTSTART;TZID=America/New_York:20240518T203000
DTEND;TZID=America/New_York:20240518T233000
DTSTAMP:20260424T213742
CREATED:20230625T231122Z
LAST-MODIFIED:20240330T180713Z
UID:8893-1716064200-1716075000@tangoquebec.org
SUMMARY:Milonga Passion Tango
DESCRIPTION:Veuillez contacter Passion Tango avant de vous déplacer.
URL:https://tangoquebec.org/index.php/calendrier/milonga-passion-tango-5-2024-05-18/
LOCATION:604 rue St-Vallier Ouest\, 604 rue St-Vallier Ouest\, Québec\, Québec\, G1N 1C5\, Canada
CATEGORIES:Milonga
ATTACH;FMTTYPE=image/jpeg:https://tangoquebec.org/wp-content/uploads/2018/01/Logo_Ecole_Passion.jpg
ORGANIZER;CN="%C3%89cole Passion Tango":MAILTO:ecolepassiontango@gmail.com
END:VEVENT
BEGIN:VEVENT
DTSTART;TZID=America/New_York:20240519T183000
DTEND;TZID=America/New_York:20240519T230000
DTSTAMP:20260424T213742
CREATED:20230324T202018Z
LAST-MODIFIED:20240115T182402Z
UID:8502-1716143400-1716159600@tangoquebec.org
SUMMARY:Milonga Salons d'Edgar
DESCRIPTION:La traditionnelle milonga du dimanche est de retour avec le menu complet. \nTDj résidente Diane Hainse pour vous faire danser jusqu’à plus de pieds … \nDe 18h30 à 23h00\, prix d’entrée de 15$/personne payable aux Salons d’Edgar \nRéservation de votre table au restaurant directement 418-523-7811 ou sur libroreserve.com \nPlus amples informations : Tango-Salons@hotmail.com
URL:https://tangoquebec.org/index.php/calendrier/milonga-salons-dedgar-13/
LOCATION:Les Salons d’Edgar\, 263\, Saint-Vallier est\, Québec\, Québec\, G1K 3P4\, Canada
CATEGORIES:Milonga
ATTACH;FMTTYPE=image/jpeg:https://tangoquebec.org/wp-content/uploads/2023/07/dimanchesalons.jpg
ORGANIZER;CN="Milonga aux Salons d'Edgar":MAILTO:tango-Salons@hotmail.com
END:VEVENT
BEGIN:VEVENT
DTSTART;TZID=America/New_York:20240521T200000
DTEND;TZID=America/New_York:20240521T230000
DTSTAMP:20260424T213742
CREATED:20240330T180201Z
LAST-MODIFIED:20240330T180201Z
UID:9697-1716321600-1716332400@tangoquebec.org
SUMMARY:Milonga du Drague
DESCRIPTION:Une courte milonga conviviale dans la section discothèque du Cabaret Le Drague.\n815 rue Saint-Augustin\, G1R 3N4\n20h00 à 23h00
URL:https://tangoquebec.org/index.php/calendrier/milonga-du-drague-26/
CATEGORIES:Milonga
ATTACH;FMTTYPE=image/jpeg:https://tangoquebec.org/wp-content/uploads/2019/08/drague2022.jpg
END:VEVENT
BEGIN:VEVENT
DTSTART;TZID=America/New_York:20240523T203000
DTEND;TZID=America/New_York:20240523T233000
DTSTAMP:20260424T213742
CREATED:20221226T005553Z
LAST-MODIFIED:20240213T213227Z
UID:8923-1716496200-1716507000@tangoquebec.org
SUMMARY:Milonga du Jeudi Passion Tango
DESCRIPTION:Veuillez contacter Passion Tango avant de vous déplacer.
URL:https://tangoquebec.org/index.php/calendrier/milonga-du-jeudi-passion-tango-2024-05-23/
LOCATION:La Escalera\, 604\, rue St-Vallier Ouest\, Québec\, Québec\, G1N 1C5\, Canada
CATEGORIES:Milonga
ATTACH;FMTTYPE=image/jpeg:https://tangoquebec.org/wp-content/uploads/2018/01/Logo_Ecole_Passion.jpg
ORGANIZER;CN="%C3%89cole Passion Tango":MAILTO:ecolepassiontango@gmail.com
END:VEVENT
BEGIN:VEVENT
DTSTART;TZID=America/New_York:20240526T150000
DTEND;TZID=America/New_York:20240526T190000
DTSTAMP:20260424T213742
CREATED:20240105T005338Z
LAST-MODIFIED:20240523T222506Z
UID:9452-1716735600-1716750000@tangoquebec.org
SUMMARY:Milonga de la Tarde
DESCRIPTION:La Milonga de la Tarde\, la milonga dominicale différente et chaleureuse. Pour votre plaisir!\n15h à 19h\n1605 chemin Sainte-Foy\, porte #4\nNombreux stationnements gratuits\n15$ \nAu plaisir de vous accueillir\,\nChristian et Hugo
URL:https://tangoquebec.org/index.php/calendrier/milonga-de-la-tarde-4/
CATEGORIES:Milonga
ATTACH;FMTTYPE=image/jpeg:https://tangoquebec.org/wp-content/uploads/2023/07/Milonga-de-la-Tarde.jpg
END:VEVENT
BEGIN:VEVENT
DTSTART;TZID=America/New_York:20240528T200000
DTEND;TZID=America/New_York:20240528T230000
DTSTAMP:20260424T213742
CREATED:20240330T180254Z
LAST-MODIFIED:20240330T180254Z
UID:9699-1716926400-1716937200@tangoquebec.org
SUMMARY:Milonga du Drague
DESCRIPTION:Une courte milonga conviviale dans la section discothèque du Cabaret Le Drague.\n815 rue Saint-Augustin\, G1R 3N4\n20h00 à 23h00
URL:https://tangoquebec.org/index.php/calendrier/milonga-du-drague-27/
CATEGORIES:Milonga
ATTACH;FMTTYPE=image/jpeg:https://tangoquebec.org/wp-content/uploads/2019/08/drague2022.jpg
END:VEVENT
BEGIN:VEVENT
DTSTART;TZID=America/New_York:20240529T183000
DTEND;TZID=America/New_York:20240529T220000
DTSTAMP:20260424T213742
CREATED:20240524T180816Z
LAST-MODIFIED:20240524T181054Z
UID:9990-1717007400-1717020000@tangoquebec.org
SUMMARY:Milonga extérieure Place Fleur de Lys
DESCRIPTION:Cet été\, la participation aux milongas extérieures du mercredi soir sera soumise aux conditions d’accès suivantes : \nGratuit pour les membres de Tango Québec 2024. \n5$/personne non-membre \n(Renouvelez ou obtenez votre carte de membre pour 30$/valide jusqu’au 30/09/2024 sur place) \nConsultez tous les avantages reliés à la carte de membre.  \nNotez que nous aurons besoin de l’aide de volontaires pour la pose et le retrait du tapis de danse\, et qu’il est préférable d’apporter sa propre chaise de parterre.
URL:https://tangoquebec.org/index.php/calendrier/milonga-exterieure-place-fleur-de-lys-2/
LOCATION:https://www.google.com/maps/place/Restaurant+Normandin+Fleur+de+Lys/@46.8222055\,-71.2544171\,17z/data=!4m17!1m9!2m8!1sRestaurants!3m6!1sRestaurants!2sRue+Soumande\,+Qu%C3%A9bec\,+QC!3s0x4cb89637ed81aa0b:0xd1f0d0e9a978836b!4m2!1d-71.2537305!2d46.8268377!3m6!1s0x4cb896488dca012f:0xb410fe58efb2c5e9!8m2!3d46.82142!4d-71.25436!15sCgtSZXN0YXVyYW50c1oNIgtyZXN0YXVyYW50c5IBEWZhbWlseV9yZXN0YXVyYW504AEA!16s%2Fg%2F1tgnwv0b\, Québec
CATEGORIES:Milonga
ATTACH;FMTTYPE=image/jpeg:https://tangoquebec.org/wp-content/uploads/2021/07/thumbnail_IMG_4276.jpg
END:VEVENT
BEGIN:VEVENT
DTSTART;TZID=America/New_York:20240530T183000
DTEND;TZID=America/New_York:20240530T233000
DTSTAMP:20260424T213742
CREATED:20221226T005553Z
LAST-MODIFIED:20240530T123333Z
UID:8924-1717093800-1717111800@tangoquebec.org
SUMMARY:Atelier de tango avec Corinne Krikorian chez Passion Tango
DESCRIPTION:Atelier avec Corinne Krikorian !
URL:https://tangoquebec.org/index.php/calendrier/milonga-du-jeudi-passion-tango-2024-05-30/
LOCATION:La Escalera\, 604\, rue St-Vallier Ouest\, Québec\, Québec\, G1N 1C5\, Canada
CATEGORIES:Atelier,Milonga
ATTACH;FMTTYPE=image/jpeg:https://tangoquebec.org/wp-content/uploads/2018/01/Logo_Ecole_Passion.jpg
ORGANIZER;CN="%C3%89cole Passion Tango":MAILTO:ecolepassiontango@gmail.com
END:VEVENT
BEGIN:VEVENT
DTSTART;TZID=America/New_York:20240531T183000
DTEND;TZID=America/New_York:20240531T233000
DTSTAMP:20260424T213742
CREATED:20240530T123216Z
LAST-MODIFIED:20240530T123409Z
UID:10024-1717180200-1717198200@tangoquebec.org
SUMMARY:Atelier de tango avec Corinne Krikorian chez Passion Tango
DESCRIPTION:Atelier avec Corinne Krikorian
URL:https://tangoquebec.org/index.php/calendrier/atelier-avec-corine-krikorian-chez-passion-tango/
LOCATION:604 rue St-Vallier Ouest\, 604 rue St-Vallier Ouest\, Québec\, Québec\, G1N 1C5\, Canada
CATEGORIES:Atelier,Milonga
ATTACH;FMTTYPE=image/jpeg:https://tangoquebec.org/wp-content/uploads/2018/01/Logo_Ecole_Passion.jpg
END:VEVENT
BEGIN:VEVENT
DTSTART;TZID=America/New_York:20240531T193000
DTEND;TZID=America/New_York:20240531T233000
DTSTAMP:20260424T213742
CREATED:20230624T171307Z
LAST-MODIFIED:20230624T171544Z
UID:8746-1717183800-1717198200@tangoquebec.org
SUMMARY:Milonga Tangusto à Trois-Rivières
DESCRIPTION:La Milonga Tangusto à Trois-Rivières : une milonga à l’ambiance conviviale et chaleureuse dans une salle superbe.\n20\, rue Jacinthe\, Trois-Rivières\n19h30 à 23h30
URL:https://tangoquebec.org/index.php/calendrier/milonga-tangusto-a-trois-rivieres-3-2024-05-31/
LOCATION:Tangusto\, 20\, rue Jacinthe\, Trois-Rivières\, Québec\, G8V 2M3\, Canada
CATEGORIES:Milonga
ATTACH;FMTTYPE=image/jpeg:https://tangoquebec.org/wp-content/uploads/2018/01/tangusto_salle2.jpg
ORGANIZER;CN="Tangusto":MAILTO:tangusto@hotmail.com
END:VEVENT
END:VCALENDAR