BEGIN:VCALENDAR
VERSION:2.0
PRODID:-//Tango Québec - ECPv6.15.20//NONSGML v1.0//EN
CALSCALE:GREGORIAN
METHOD:PUBLISH
X-WR-CALNAME:Tango Québec
X-ORIGINAL-URL:https://tangoquebec.org
X-WR-CALDESC:Évènements pour Tango Québec
REFRESH-INTERVAL;VALUE=DURATION:PT1H
X-Robots-Tag:noindex
X-PUBLISHED-TTL:PT1H
BEGIN:VTIMEZONE
TZID:America/New_York
BEGIN:DAYLIGHT
TZOFFSETFROM:-0500
TZOFFSETTO:-0400
TZNAME:EDT
DTSTART:20220313T070000
END:DAYLIGHT
BEGIN:STANDARD
TZOFFSETFROM:-0400
TZOFFSETTO:-0500
TZNAME:EST
DTSTART:20221106T060000
END:STANDARD
BEGIN:DAYLIGHT
TZOFFSETFROM:-0500
TZOFFSETTO:-0400
TZNAME:EDT
DTSTART:20230312T070000
END:DAYLIGHT
BEGIN:STANDARD
TZOFFSETFROM:-0400
TZOFFSETTO:-0500
TZNAME:EST
DTSTART:20231105T060000
END:STANDARD
BEGIN:DAYLIGHT
TZOFFSETFROM:-0500
TZOFFSETTO:-0400
TZNAME:EDT
DTSTART:20240310T070000
END:DAYLIGHT
BEGIN:STANDARD
TZOFFSETFROM:-0400
TZOFFSETTO:-0500
TZNAME:EST
DTSTART:20241103T060000
END:STANDARD
END:VTIMEZONE
BEGIN:VEVENT
DTSTART;TZID=America/New_York:20231102T203000
DTEND;TZID=America/New_York:20231102T233000
DTSTAMP:20260425T082322
CREATED:20221226T005553Z
LAST-MODIFIED:20240330T181343Z
UID:8777-1698957000-1698967800@tangoquebec.org
SUMMARY:Milonga du Jeudi Passion Tango
DESCRIPTION:Veuillez contacter Passion Tango avant de vous déplacer.
URL:https://tangoquebec.org/index.php/calendrier/milonga-du-jeudi-passion-tango-2023-11-02/
LOCATION:La Escalera\, 604\, rue St-Vallier Ouest\, Québec\, Québec\, G1N 1C5\, Canada
CATEGORIES:Milonga
ATTACH;FMTTYPE=image/jpeg:https://tangoquebec.org/wp-content/uploads/2018/01/Logo_Ecole_Passion.jpg
ORGANIZER;CN="%C3%89cole Passion Tango":MAILTO:ecolepassiontango@gmail.com
END:VEVENT
BEGIN:VEVENT
DTSTART;TZID=America/New_York:20231104T203000
DTEND;TZID=America/New_York:20231104T233000
DTSTAMP:20260425T082322
CREATED:20230625T231122Z
LAST-MODIFIED:20240330T181330Z
UID:8866-1699129800-1699140600@tangoquebec.org
SUMMARY:Milonga Passion Tango
DESCRIPTION:Veuillez contacter Passion Tango avant de vous déplacer.
URL:https://tangoquebec.org/index.php/calendrier/milonga-passion-tango-5-2023-11-11/
LOCATION:604 rue St-Vallier Ouest\, 604 rue St-Vallier Ouest\, Québec\, Québec\, G1N 1C5\, Canada
CATEGORIES:Milonga
ATTACH;FMTTYPE=image/jpeg:https://tangoquebec.org/wp-content/uploads/2018/01/Logo_Ecole_Passion.jpg
ORGANIZER;CN="%C3%89cole Passion Tango":MAILTO:ecolepassiontango@gmail.com
END:VEVENT
BEGIN:VEVENT
DTSTART;TZID=America/New_York:20231105T150000
DTEND;TZID=America/New_York:20231105T190000
DTSTAMP:20260425T082322
CREATED:20230723T161125Z
LAST-MODIFIED:20231002T172238Z
UID:9039-1699196400-1699210800@tangoquebec.org
SUMMARY:La Milonga de la Tarde
DESCRIPTION:La Milonga de la Tarde\, la milonga dominicale différente et chaleureuse. Pour votre plaisir! \n15h à 19h \n1605 chemin Sainte-Foy\, porte #4 \nNombreux stationnements gratuits \n15$ \n  \nAu plaisir de vous accueillir\, \nChristian et Hugo.
URL:https://tangoquebec.org/index.php/calendrier/la-milonga-de-la-tarde-3/
CATEGORIES:Milonga
ATTACH;FMTTYPE=image/jpeg:https://tangoquebec.org/wp-content/uploads/2023/07/Milonga-de-la-Tarde.jpg
END:VEVENT
BEGIN:VEVENT
DTSTART;TZID=America/New_York:20231109T203000
DTEND;TZID=America/New_York:20231109T233000
DTSTAMP:20260425T082322
CREATED:20221226T005553Z
LAST-MODIFIED:20240330T181317Z
UID:8778-1699561800-1699572600@tangoquebec.org
SUMMARY:Milonga du Jeudi Passion Tango
DESCRIPTION:Veuillez contacter Passion Tango avant de vous déplacer.
URL:https://tangoquebec.org/index.php/calendrier/milonga-du-jeudi-passion-tango-2023-11-09/
LOCATION:La Escalera\, 604\, rue St-Vallier Ouest\, Québec\, Québec\, G1N 1C5\, Canada
CATEGORIES:Milonga
ATTACH;FMTTYPE=image/jpeg:https://tangoquebec.org/wp-content/uploads/2018/01/Logo_Ecole_Passion.jpg
ORGANIZER;CN="%C3%89cole Passion Tango":MAILTO:ecolepassiontango@gmail.com
END:VEVENT
BEGIN:VEVENT
DTSTART;TZID=America/New_York:20231111T203000
DTEND;TZID=America/New_York:20231111T233000
DTSTAMP:20260425T082322
CREATED:20230324T200552Z
LAST-MODIFIED:20231001T154112Z
UID:8477-1699734600-1699745400@tangoquebec.org
SUMMARY:Milonga-Mariposas
DESCRIPTION:TDj et hôtesse Diane Hainse \nÀ compter de 20h30 \n15$/Personne \nDeux façons de payer:  argent comptant à la porte ou par virement bancaire : \n\nVirement Interac : (Milonga-Mariposas@hotmail.com\, Mot de passe : tango)
URL:https://tangoquebec.org/index.php/calendrier/milonga-mariposas-21-2023-11-04/
LOCATION:3188 chemin ste-foy\, 3188 chemin Ste-Foy\, Québec\, Canada\, G1X 1R4\, Canada
CATEGORIES:Milonga
ATTACH;FMTTYPE=image/png:https://tangoquebec.org/wp-content/uploads/2018/01/logo.png
ORGANIZER;CN="Mariposas Tango":MAILTO:milonga-mariposas@hotmail.com
END:VEVENT
BEGIN:VEVENT
DTSTART;TZID=America/New_York:20231114T200000
DTEND;TZID=America/New_York:20231114T233000
DTSTAMP:20260425T082322
CREATED:20221205T200838Z
LAST-MODIFIED:20221205T200838Z
UID:8714-1699992000-1700004600@tangoquebec.org
SUMMARY:Milonga du Drague
DESCRIPTION:Une courte milonga conviviale dans la section discothèque du Cabaret Le Drague.\n815 rue Saint-Augustin\, G1R 3N4\n20h00 à 23h00
URL:https://tangoquebec.org/index.php/calendrier/milonga-du-drague-14-2023-11-14/
LOCATION:Québec
CATEGORIES:Milonga
ATTACH;FMTTYPE=image/jpeg:https://tangoquebec.org/wp-content/uploads/2019/08/drague2022.jpg
END:VEVENT
BEGIN:VEVENT
DTSTART;TZID=America/New_York:20231116T203000
DTEND;TZID=America/New_York:20231116T233000
DTSTAMP:20260425T082322
CREATED:20221226T005553Z
LAST-MODIFIED:20240330T181255Z
UID:8779-1700166600-1700177400@tangoquebec.org
SUMMARY:Milonga du Jeudi Passion Tango
DESCRIPTION:Veuillez contacter Passion Tango avant de vous déplacer.
URL:https://tangoquebec.org/index.php/calendrier/milonga-du-jeudi-passion-tango-2023-11-16/
LOCATION:La Escalera\, 604\, rue St-Vallier Ouest\, Québec\, Québec\, G1N 1C5\, Canada
CATEGORIES:Milonga
ATTACH;FMTTYPE=image/jpeg:https://tangoquebec.org/wp-content/uploads/2018/01/Logo_Ecole_Passion.jpg
ORGANIZER;CN="%C3%89cole Passion Tango":MAILTO:ecolepassiontango@gmail.com
END:VEVENT
BEGIN:VEVENT
DTSTART;TZID=America/New_York:20231118T203000
DTEND;TZID=America/New_York:20231118T233000
DTSTAMP:20260425T082322
CREATED:20230625T231122Z
LAST-MODIFIED:20240330T181237Z
UID:8867-1700339400-1700350200@tangoquebec.org
SUMMARY:Milonga Passion Tango
DESCRIPTION:Veuillez contacter Passion Tango avant de vous déplacer.
URL:https://tangoquebec.org/index.php/calendrier/milonga-passion-tango-5-2023-11-18/
LOCATION:604 rue St-Vallier Ouest\, 604 rue St-Vallier Ouest\, Québec\, Québec\, G1N 1C5\, Canada
CATEGORIES:Milonga
ATTACH;FMTTYPE=image/jpeg:https://tangoquebec.org/wp-content/uploads/2018/01/Logo_Ecole_Passion.jpg
ORGANIZER;CN="%C3%89cole Passion Tango":MAILTO:ecolepassiontango@gmail.com
END:VEVENT
BEGIN:VEVENT
DTSTART;TZID=America/New_York:20231119T183000
DTEND;TZID=America/New_York:20231119T230000
DTSTAMP:20260425T082322
CREATED:20230324T201221Z
LAST-MODIFIED:20230819T161003Z
UID:8490-1700418600-1700434800@tangoquebec.org
SUMMARY:Milonga Salons d'Edgar
DESCRIPTION:La traditionnelle milonga du dimanche est de retour avec le menu complet. \nTDj résidente Diane Hainse pour vous faire danser jusqu’à plus de pieds … \nDe 18h30 à 23h00\, prix d’entrée de 20$/personne payable aux Salons d’Edgar \nRéservation de votre table au restaurant directement 418-523-7811 ou sur libroreserve.com \nPlus amples informations : Tango-Salons@hotmail.com
URL:https://tangoquebec.org/index.php/calendrier/milonga-salons-dedgar-7/
LOCATION:Les Salons d’Edgar\, 263\, Saint-Vallier est\, Québec\, Québec\, G1K 3P4\, Canada
CATEGORIES:Milonga
ATTACH;FMTTYPE=image/jpeg:https://tangoquebec.org/wp-content/uploads/2023/07/dimanchesalons.jpg
ORGANIZER;CN="Milonga aux Salons d'Edgar":MAILTO:tango-Salons@hotmail.com
END:VEVENT
BEGIN:VEVENT
DTSTART;TZID=America/New_York:20231121T200000
DTEND;TZID=America/New_York:20231121T233000
DTSTAMP:20260425T082322
CREATED:20221205T200838Z
LAST-MODIFIED:20221205T200838Z
UID:8715-1700596800-1700609400@tangoquebec.org
SUMMARY:Milonga du Drague
DESCRIPTION:Une courte milonga conviviale dans la section discothèque du Cabaret Le Drague.\n815 rue Saint-Augustin\, G1R 3N4\n20h00 à 23h00
URL:https://tangoquebec.org/index.php/calendrier/milonga-du-drague-14-2023-11-21/
LOCATION:Québec
CATEGORIES:Milonga
ATTACH;FMTTYPE=image/jpeg:https://tangoquebec.org/wp-content/uploads/2019/08/drague2022.jpg
END:VEVENT
BEGIN:VEVENT
DTSTART;TZID=America/New_York:20231123T203000
DTEND;TZID=America/New_York:20231123T233000
DTSTAMP:20260425T082322
CREATED:20221226T005553Z
LAST-MODIFIED:20240330T181203Z
UID:8780-1700771400-1700782200@tangoquebec.org
SUMMARY:Milonga du Jeudi Passion Tango
DESCRIPTION:Veuillez contacter Passion Tango avant de vous déplacer.
URL:https://tangoquebec.org/index.php/calendrier/milonga-du-jeudi-passion-tango-2023-11-23/
LOCATION:La Escalera\, 604\, rue St-Vallier Ouest\, Québec\, Québec\, G1N 1C5\, Canada
CATEGORIES:Milonga
ATTACH;FMTTYPE=image/jpeg:https://tangoquebec.org/wp-content/uploads/2018/01/Logo_Ecole_Passion.jpg
ORGANIZER;CN="%C3%89cole Passion Tango":MAILTO:ecolepassiontango@gmail.com
END:VEVENT
BEGIN:VEVENT
DTSTART;TZID=America/New_York:20231125T203000
DTEND;TZID=America/New_York:20231125T233000
DTSTAMP:20260425T082322
CREATED:20230625T231122Z
LAST-MODIFIED:20240330T181219Z
UID:8870-1700944200-1700955000@tangoquebec.org
SUMMARY:Milonga Passion Tango
DESCRIPTION:Veuillez contacter Passion Tango avant de vous déplacer.
URL:https://tangoquebec.org/index.php/calendrier/milonga-passion-tango-5-2023-12-09/
LOCATION:604 rue St-Vallier Ouest\, 604 rue St-Vallier Ouest\, Québec\, Québec\, G1N 1C5\, Canada
CATEGORIES:Milonga
ATTACH;FMTTYPE=image/jpeg:https://tangoquebec.org/wp-content/uploads/2018/01/Logo_Ecole_Passion.jpg
ORGANIZER;CN="%C3%89cole Passion Tango":MAILTO:ecolepassiontango@gmail.com
END:VEVENT
BEGIN:VEVENT
DTSTART;TZID=America/New_York:20231128T200000
DTEND;TZID=America/New_York:20231128T233000
DTSTAMP:20260425T082322
CREATED:20221205T200838Z
LAST-MODIFIED:20221205T200838Z
UID:8716-1701201600-1701214200@tangoquebec.org
SUMMARY:Milonga du Drague
DESCRIPTION:Une courte milonga conviviale dans la section discothèque du Cabaret Le Drague.\n815 rue Saint-Augustin\, G1R 3N4\n20h00 à 23h00
URL:https://tangoquebec.org/index.php/calendrier/milonga-du-drague-14-2023-11-28/
LOCATION:Québec
CATEGORIES:Milonga
ATTACH;FMTTYPE=image/jpeg:https://tangoquebec.org/wp-content/uploads/2019/08/drague2022.jpg
END:VEVENT
BEGIN:VEVENT
DTSTART;TZID=America/New_York:20231130T203000
DTEND;TZID=America/New_York:20231130T233000
DTSTAMP:20260425T082322
CREATED:20221226T005553Z
LAST-MODIFIED:20240330T181127Z
UID:8781-1701376200-1701387000@tangoquebec.org
SUMMARY:Milonga du Jeudi Passion Tango
DESCRIPTION:Veuillez contacter Passion Tango avant de vous déplacer.
URL:https://tangoquebec.org/index.php/calendrier/milonga-du-jeudi-passion-tango-2023-11-30/
LOCATION:La Escalera\, 604\, rue St-Vallier Ouest\, Québec\, Québec\, G1N 1C5\, Canada
CATEGORIES:Milonga
ATTACH;FMTTYPE=image/jpeg:https://tangoquebec.org/wp-content/uploads/2018/01/Logo_Ecole_Passion.jpg
ORGANIZER;CN="%C3%89cole Passion Tango":MAILTO:ecolepassiontango@gmail.com
END:VEVENT
END:VCALENDAR