BEGIN:VCALENDAR
VERSION:2.0
PRODID:-//Tango Québec - ECPv6.15.20//NONSGML v1.0//EN
CALSCALE:GREGORIAN
METHOD:PUBLISH
X-WR-CALNAME:Tango Québec
X-ORIGINAL-URL:https://tangoquebec.org
X-WR-CALDESC:Évènements pour Tango Québec
REFRESH-INTERVAL;VALUE=DURATION:PT1H
X-Robots-Tag:noindex
X-PUBLISHED-TTL:PT1H
BEGIN:VTIMEZONE
TZID:America/New_York
BEGIN:DAYLIGHT
TZOFFSETFROM:-0500
TZOFFSETTO:-0400
TZNAME:EDT
DTSTART:20220313T070000
END:DAYLIGHT
BEGIN:STANDARD
TZOFFSETFROM:-0400
TZOFFSETTO:-0500
TZNAME:EST
DTSTART:20221106T060000
END:STANDARD
BEGIN:DAYLIGHT
TZOFFSETFROM:-0500
TZOFFSETTO:-0400
TZNAME:EDT
DTSTART:20230312T070000
END:DAYLIGHT
BEGIN:STANDARD
TZOFFSETFROM:-0400
TZOFFSETTO:-0500
TZNAME:EST
DTSTART:20231105T060000
END:STANDARD
BEGIN:DAYLIGHT
TZOFFSETFROM:-0500
TZOFFSETTO:-0400
TZNAME:EDT
DTSTART:20240310T070000
END:DAYLIGHT
BEGIN:STANDARD
TZOFFSETFROM:-0400
TZOFFSETTO:-0500
TZNAME:EST
DTSTART:20241103T060000
END:STANDARD
END:VTIMEZONE
BEGIN:VEVENT
DTSTART;TZID=America/New_York:20230902T203000
DTEND;TZID=America/New_York:20230902T233000
DTSTAMP:20260425T113905
CREATED:20221226T005222Z
LAST-MODIFIED:20240330T181703Z
UID:8820-1693686600-1693697400@tangoquebec.org
SUMMARY:Milonga Passion Tango
DESCRIPTION:Veuillez contacter Passion Tango avant de vous déplacer.
URL:https://tangoquebec.org/index.php/calendrier/milonga-passion-tango-4-2023-09-02/
LOCATION:La Escalera\, 604\, rue St-Vallier Ouest\, Québec\, Québec\, G1N 1C5\, Canada
CATEGORIES:Milonga
ATTACH;FMTTYPE=image/jpeg:https://tangoquebec.org/wp-content/uploads/2018/01/Logo_Ecole_Passion.jpg
ORGANIZER;CN="%C3%89cole Passion Tango":MAILTO:ecolepassiontango@gmail.com
END:VEVENT
BEGIN:VEVENT
DTSTART;TZID=America/New_York:20230906T183000
DTEND;TZID=America/New_York:20230906T213000
DTSTAMP:20260425T113905
CREATED:20230329T232120Z
LAST-MODIFIED:20230329T232120Z
UID:9298-1694025000-1694035800@tangoquebec.org
SUMMARY:Milonga extérieure Place Fleur de Lys
DESCRIPTION:Cet été\, la participation aux milongas extérieures du mercredi soir sera soumise aux conditions d’accès suivantes : \nGratuit pour les membres de Tango Québec 2022-2023 et 2023-2024. \n5$/personne non-membres \n(Renouveller ou obtener votre carte de membre 2023-2024 pour 30$/valide jusqu’au 30/09/2024 sur place) \nConsultez tous les avantages reliés à la carte de membre.  \nNotez que nous aurons besoin de l’aide de volontaires pour la pose et le retrait du tapis de danse\, et qu’il est préférable d’apporter sa propre chaise de parterre.
URL:https://tangoquebec.org/index.php/calendrier/milonga-exterieure-place-fleur-de-lys-2023-09-06/
LOCATION:https://www.google.com/maps/place/Restaurant+Normandin+Fleur+de+Lys/@46.8222055\,-71.2544171\,17z/data=!4m17!1m9!2m8!1sRestaurants!3m6!1sRestaurants!2sRue+Soumande\,+Qu%C3%A9bec\,+QC!3s0x4cb89637ed81aa0b:0xd1f0d0e9a978836b!4m2!1d-71.2537305!2d46.8268377!3m6!1s0x4cb896488dca012f:0xb410fe58efb2c5e9!8m2!3d46.82142!4d-71.25436!15sCgtSZXN0YXVyYW50c1oNIgtyZXN0YXVyYW50c5IBEWZhbWlseV9yZXN0YXVyYW504AEA!16s%2Fg%2F1tgnwv0b\, Québec
CATEGORIES:Milonga
ATTACH;FMTTYPE=image/jpeg:https://tangoquebec.org/wp-content/uploads/2021/07/thumbnail_IMG_4276.jpg
END:VEVENT
BEGIN:VEVENT
DTSTART;TZID=America/New_York:20230907T203000
DTEND;TZID=America/New_York:20230907T233000
DTSTAMP:20260425T113905
CREATED:20221226T005553Z
LAST-MODIFIED:20240330T181649Z
UID:8769-1694118600-1694129400@tangoquebec.org
SUMMARY:Milonga du Jeudi Passion Tango
DESCRIPTION:Veuillez contacter Passion Tango avant de vous déplacer.
URL:https://tangoquebec.org/index.php/calendrier/milonga-du-jeudi-passion-tango-2023-09-07/
LOCATION:La Escalera\, 604\, rue St-Vallier Ouest\, Québec\, Québec\, G1N 1C5\, Canada
CATEGORIES:Milonga
ATTACH;FMTTYPE=image/jpeg:https://tangoquebec.org/wp-content/uploads/2018/01/Logo_Ecole_Passion.jpg
ORGANIZER;CN="%C3%89cole Passion Tango":MAILTO:ecolepassiontango@gmail.com
END:VEVENT
BEGIN:VEVENT
DTSTART;TZID=America/New_York:20230909T203000
DTEND;TZID=America/New_York:20230909T233000
DTSTAMP:20260425T113905
CREATED:20230625T231122Z
LAST-MODIFIED:20240330T181633Z
UID:8839-1694291400-1694302200@tangoquebec.org
SUMMARY:Milonga Passion Tango
DESCRIPTION:Veuillez contacter Passion Tango avant de vous déplacer.
URL:https://tangoquebec.org/index.php/calendrier/milonga-passion-tango-5/
LOCATION:604 rue St-Vallier Ouest\, 604 rue St-Vallier Ouest\, Québec\, Québec\, G1N 1C5\, Canada
CATEGORIES:Milonga
ATTACH;FMTTYPE=image/jpeg:https://tangoquebec.org/wp-content/uploads/2018/01/Logo_Ecole_Passion.jpg
ORGANIZER;CN="%C3%89cole Passion Tango":MAILTO:ecolepassiontango@gmail.com
END:VEVENT
BEGIN:VEVENT
DTSTART;TZID=America/New_York:20230910T150000
DTEND;TZID=America/New_York:20230910T190000
DTSTAMP:20260425T113905
CREATED:20230723T160613Z
LAST-MODIFIED:20230723T160613Z
UID:9031-1694358000-1694372400@tangoquebec.org
SUMMARY:La Milonga de la Tarde
DESCRIPTION:La Milonga de la Tarde\, la milonga dominicale différente et chaleureuse. Pour votre plaisir! \n15h à 19h \n1605 chemin Sainte-Foy\, porte #4 \nNombreux stationnements gratuits \n15$ \n  \nAu plaisir de vous accueillir\, \nChristian et Hugo
URL:https://tangoquebec.org/index.php/calendrier/la-milonga-de-la-tarde/
LOCATION:Québec
CATEGORIES:Milonga
ATTACH;FMTTYPE=image/jpeg:https://tangoquebec.org/wp-content/uploads/2023/07/Milonga-de-la-Tarde.jpg
END:VEVENT
BEGIN:VEVENT
DTSTART;TZID=America/New_York:20230912T200000
DTEND;TZID=America/New_York:20230912T233000
DTSTAMP:20260425T113905
CREATED:20221205T200838Z
LAST-MODIFIED:20221205T200838Z
UID:8705-1694548800-1694561400@tangoquebec.org
SUMMARY:Milonga du Drague
DESCRIPTION:Une courte milonga conviviale dans la section discothèque du Cabaret Le Drague.\n815 rue Saint-Augustin\, G1R 3N4\n20h00 à 23h00
URL:https://tangoquebec.org/index.php/calendrier/milonga-du-drague-14-2023-09-12/
LOCATION:Québec
CATEGORIES:Milonga
ATTACH;FMTTYPE=image/jpeg:https://tangoquebec.org/wp-content/uploads/2019/08/drague2022.jpg
END:VEVENT
BEGIN:VEVENT
DTSTART;TZID=America/New_York:20230914T203000
DTEND;TZID=America/New_York:20230914T233000
DTSTAMP:20260425T113905
CREATED:20221226T005553Z
LAST-MODIFIED:20240330T181615Z
UID:8770-1694723400-1694734200@tangoquebec.org
SUMMARY:Milonga du Jeudi Passion Tango
DESCRIPTION:Veuillez contacter Passion Tango avant de vous déplacer.
URL:https://tangoquebec.org/index.php/calendrier/milonga-du-jeudi-passion-tango-2023-09-14/
LOCATION:La Escalera\, 604\, rue St-Vallier Ouest\, Québec\, Québec\, G1N 1C5\, Canada
CATEGORIES:Milonga
ATTACH;FMTTYPE=image/jpeg:https://tangoquebec.org/wp-content/uploads/2018/01/Logo_Ecole_Passion.jpg
ORGANIZER;CN="%C3%89cole Passion Tango":MAILTO:ecolepassiontango@gmail.com
END:VEVENT
BEGIN:VEVENT
DTSTART;TZID=America/New_York:20230916T210000
DTEND;TZID=America/New_York:20230916T233000
DTSTAMP:20260425T113905
CREATED:20230723T161710Z
LAST-MODIFIED:20230723T193902Z
UID:9046-1694898000-1694907000@tangoquebec.org
SUMMARY:La milonguita de mam’zelle Janice
DESCRIPTION:La milonguita de mam’zelle Janice est de retour!\nJe vous attends dès 21h00\, au Carter Hall de la Cathédrale Holy Trinity au 31\, rue des Jardins\, Québec (Québec). Stationnement gratuit. \nApporter vos boissons non-alcoolisées.\nDJT: mam’zelle Janice \nPrix d’entrée : 15$\nDeux façons de payer:  argent comptant à la porte ou par virement bancaire à l’adresse courriel suivante : pleiade1@hotmail.com\nMot de passe: tango
URL:https://tangoquebec.org/index.php/calendrier/la-milonguita-de-mamzelle-janice/
LOCATION:Québec
CATEGORIES:Milonga
ATTACH;FMTTYPE=image/png:https://tangoquebec.org/wp-content/uploads/2019/09/Janice_logo_blanc.png
END:VEVENT
BEGIN:VEVENT
DTSTART;TZID=America/New_York:20230919T200000
DTEND;TZID=America/New_York:20230919T233000
DTSTAMP:20260425T113905
CREATED:20221205T200838Z
LAST-MODIFIED:20221205T200838Z
UID:8706-1695153600-1695166200@tangoquebec.org
SUMMARY:Milonga du Drague
DESCRIPTION:Une courte milonga conviviale dans la section discothèque du Cabaret Le Drague.\n815 rue Saint-Augustin\, G1R 3N4\n20h00 à 23h00
URL:https://tangoquebec.org/index.php/calendrier/milonga-du-drague-14-2023-09-19/
LOCATION:Québec
CATEGORIES:Milonga
ATTACH;FMTTYPE=image/jpeg:https://tangoquebec.org/wp-content/uploads/2019/08/drague2022.jpg
END:VEVENT
BEGIN:VEVENT
DTSTART;TZID=America/New_York:20230921T203000
DTEND;TZID=America/New_York:20230921T233000
DTSTAMP:20260425T113905
CREATED:20221226T005553Z
LAST-MODIFIED:20240330T181554Z
UID:8771-1695328200-1695339000@tangoquebec.org
SUMMARY:Milonga du Jeudi Passion Tango
DESCRIPTION:Veuillez contacter Passion Tango avant de vous déplacer.
URL:https://tangoquebec.org/index.php/calendrier/milonga-du-jeudi-passion-tango-2023-09-21/
LOCATION:La Escalera\, 604\, rue St-Vallier Ouest\, Québec\, Québec\, G1N 1C5\, Canada
CATEGORIES:Milonga
ATTACH;FMTTYPE=image/jpeg:https://tangoquebec.org/wp-content/uploads/2018/01/Logo_Ecole_Passion.jpg
ORGANIZER;CN="%C3%89cole Passion Tango":MAILTO:ecolepassiontango@gmail.com
END:VEVENT
BEGIN:VEVENT
DTSTART;TZID=America/New_York:20230923T203000
DTEND;TZID=America/New_York:20230923T233000
DTSTAMP:20260425T113905
CREATED:20230625T231122Z
LAST-MODIFIED:20240330T181540Z
UID:8859-1695501000-1695511800@tangoquebec.org
SUMMARY:Milonga Passion Tango
DESCRIPTION:Veuillez contacter Passion Tango avant de vous déplacer.
URL:https://tangoquebec.org/index.php/calendrier/milonga-passion-tango-5-2023-09-23/
LOCATION:604 rue St-Vallier Ouest\, 604 rue St-Vallier Ouest\, Québec\, Québec\, G1N 1C5\, Canada
CATEGORIES:Milonga
ATTACH;FMTTYPE=image/jpeg:https://tangoquebec.org/wp-content/uploads/2018/01/Logo_Ecole_Passion.jpg
ORGANIZER;CN="%C3%89cole Passion Tango":MAILTO:ecolepassiontango@gmail.com
END:VEVENT
BEGIN:VEVENT
DTSTART;TZID=America/New_York:20230924T183000
DTEND;TZID=America/New_York:20230924T230000
DTSTAMP:20260425T113905
CREATED:20230324T200950Z
LAST-MODIFIED:20230923T150224Z
UID:8485-1695580200-1695596400@tangoquebec.org
SUMMARY:Milonga Salons d'Edgar
DESCRIPTION:La traditionnelle milonga du dimanche est de retour avec le menu complet. \nTDj résidente Diane Hainse pour vous faire danser jusqu’à plus de pieds … \nDe 18h30 à 23h00\, prix d’entrée de15$/personne payable aux Salons d’Edgar \nRéservation de votre table au restaurant directement 418-523-7811 ou sur libroreserve.com \nPlus amples informations : Tango-Salons@hotmail.com
URL:https://tangoquebec.org/index.php/calendrier/milonga-salons-dedgar-5/
LOCATION:Les Salons d’Edgar\, 263\, Saint-Vallier est\, Québec\, Québec\, G1K 3P4\, Canada
CATEGORIES:Milonga
ATTACH;FMTTYPE=image/jpeg:https://tangoquebec.org/wp-content/uploads/2023/07/dimanchesalons.jpg
ORGANIZER;CN="Milonga aux Salons d'Edgar":MAILTO:tango-Salons@hotmail.com
END:VEVENT
BEGIN:VEVENT
DTSTART;TZID=America/New_York:20230926T200000
DTEND;TZID=America/New_York:20230926T233000
DTSTAMP:20260425T113905
CREATED:20221205T200838Z
LAST-MODIFIED:20221205T200838Z
UID:8707-1695758400-1695771000@tangoquebec.org
SUMMARY:Milonga du Drague
DESCRIPTION:Une courte milonga conviviale dans la section discothèque du Cabaret Le Drague.\n815 rue Saint-Augustin\, G1R 3N4\n20h00 à 23h00
URL:https://tangoquebec.org/index.php/calendrier/milonga-du-drague-14-2023-09-26/
LOCATION:Québec
CATEGORIES:Milonga
ATTACH;FMTTYPE=image/jpeg:https://tangoquebec.org/wp-content/uploads/2019/08/drague2022.jpg
END:VEVENT
BEGIN:VEVENT
DTSTART;TZID=America/New_York:20230928T203000
DTEND;TZID=America/New_York:20230928T233000
DTSTAMP:20260425T113905
CREATED:20221226T005553Z
LAST-MODIFIED:20240330T181518Z
UID:8772-1695933000-1695943800@tangoquebec.org
SUMMARY:Milonga du Jeudi Passion Tango
DESCRIPTION:Veuillez contacter Passion Tango avant de vous déplacer.
URL:https://tangoquebec.org/index.php/calendrier/milonga-du-jeudi-passion-tango-2023-09-28/
LOCATION:La Escalera\, 604\, rue St-Vallier Ouest\, Québec\, Québec\, G1N 1C5\, Canada
CATEGORIES:Milonga
ATTACH;FMTTYPE=image/jpeg:https://tangoquebec.org/wp-content/uploads/2018/01/Logo_Ecole_Passion.jpg
ORGANIZER;CN="%C3%89cole Passion Tango":MAILTO:ecolepassiontango@gmail.com
END:VEVENT
BEGIN:VEVENT
DTSTART;TZID=America/New_York:20230930T203000
DTEND;TZID=America/New_York:20230930T233000
DTSTAMP:20260425T113905
CREATED:20230324T200552Z
LAST-MODIFIED:20230913T142529Z
UID:8475-1696105800-1696116600@tangoquebec.org
SUMMARY:Milonga-Mariposas
DESCRIPTION:TDj et hôtesse Diane Hainse \nÀ compter de 20h30 \n15$/pers. virement Interac ou à la porte \n\nVirement Interac : (Milonga-Mariposas@hotmail.com\, Mot de passe : tango)
URL:https://tangoquebec.org/index.php/calendrier/milonga-mariposas-21/
LOCATION:3188 chemin ste-foy\, 3188 chemin Ste-Foy\, Québec\, Canada\, G1X 1R4\, Canada
CATEGORIES:Milonga
ATTACH;FMTTYPE=image/png:https://tangoquebec.org/wp-content/uploads/2018/01/logo.png
ORGANIZER;CN="Mariposas Tango":MAILTO:milonga-mariposas@hotmail.com
END:VEVENT
END:VCALENDAR