BEGIN:VCALENDAR
VERSION:2.0
PRODID:-//Tango Québec - ECPv6.15.20//NONSGML v1.0//EN
CALSCALE:GREGORIAN
METHOD:PUBLISH
X-WR-CALNAME:Tango Québec
X-ORIGINAL-URL:https://tangoquebec.org
X-WR-CALDESC:Évènements pour Tango Québec
REFRESH-INTERVAL;VALUE=DURATION:PT1H
X-Robots-Tag:noindex
X-PUBLISHED-TTL:PT1H
BEGIN:VTIMEZONE
TZID:America/New_York
BEGIN:DAYLIGHT
TZOFFSETFROM:-0500
TZOFFSETTO:-0400
TZNAME:EDT
DTSTART:20220313T070000
END:DAYLIGHT
BEGIN:STANDARD
TZOFFSETFROM:-0400
TZOFFSETTO:-0500
TZNAME:EST
DTSTART:20221106T060000
END:STANDARD
BEGIN:DAYLIGHT
TZOFFSETFROM:-0500
TZOFFSETTO:-0400
TZNAME:EDT
DTSTART:20230312T070000
END:DAYLIGHT
BEGIN:STANDARD
TZOFFSETFROM:-0400
TZOFFSETTO:-0500
TZNAME:EST
DTSTART:20231105T060000
END:STANDARD
BEGIN:DAYLIGHT
TZOFFSETFROM:-0500
TZOFFSETTO:-0400
TZNAME:EDT
DTSTART:20240310T070000
END:DAYLIGHT
BEGIN:STANDARD
TZOFFSETFROM:-0400
TZOFFSETTO:-0500
TZNAME:EST
DTSTART:20241103T060000
END:STANDARD
END:VTIMEZONE
BEGIN:VEVENT
DTSTART;TZID=America/New_York:20230802T183000
DTEND;TZID=America/New_York:20230802T213000
DTSTAMP:20260425T131256
CREATED:20230329T232120Z
LAST-MODIFIED:20230329T232120Z
UID:9293-1691001000-1691011800@tangoquebec.org
SUMMARY:Milonga extérieure Place Fleur de Lys
DESCRIPTION:Cet été\, la participation aux milongas extérieures du mercredi soir sera soumise aux conditions d’accès suivantes : \nGratuit pour les membres de Tango Québec 2022-2023 et 2023-2024. \n5$/personne non-membres \n(Renouveller ou obtener votre carte de membre 2023-2024 pour 30$/valide jusqu’au 30/09/2024 sur place) \nConsultez tous les avantages reliés à la carte de membre.  \nNotez que nous aurons besoin de l’aide de volontaires pour la pose et le retrait du tapis de danse\, et qu’il est préférable d’apporter sa propre chaise de parterre.
URL:https://tangoquebec.org/index.php/calendrier/milonga-exterieure-place-fleur-de-lys-2023-08-02/
LOCATION:https://www.google.com/maps/place/Restaurant+Normandin+Fleur+de+Lys/@46.8222055\,-71.2544171\,17z/data=!4m17!1m9!2m8!1sRestaurants!3m6!1sRestaurants!2sRue+Soumande\,+Qu%C3%A9bec\,+QC!3s0x4cb89637ed81aa0b:0xd1f0d0e9a978836b!4m2!1d-71.2537305!2d46.8268377!3m6!1s0x4cb896488dca012f:0xb410fe58efb2c5e9!8m2!3d46.82142!4d-71.25436!15sCgtSZXN0YXVyYW50c1oNIgtyZXN0YXVyYW50c5IBEWZhbWlseV9yZXN0YXVyYW504AEA!16s%2Fg%2F1tgnwv0b\, Québec
CATEGORIES:Milonga
ATTACH;FMTTYPE=image/jpeg:https://tangoquebec.org/wp-content/uploads/2021/07/thumbnail_IMG_4276.jpg
END:VEVENT
BEGIN:VEVENT
DTSTART;TZID=America/New_York:20230803T203000
DTEND;TZID=America/New_York:20230803T233000
DTSTAMP:20260425T131256
CREATED:20221226T005553Z
LAST-MODIFIED:20230808T212022Z
UID:8764-1691094600-1691105400@tangoquebec.org
SUMMARY:Milonga du Jeudi Passion Tango (À confirmer)
DESCRIPTION:Veuillez contacter Passion Tango avant de vous déplacer.
URL:https://tangoquebec.org/index.php/calendrier/milonga-du-jeudi-passion-tango-2023-08-03/
LOCATION:La Escalera\, 604\, rue St-Vallier Ouest\, Québec\, Québec\, G1N 1C5\, Canada
CATEGORIES:Milonga
ATTACH;FMTTYPE=image/jpeg:https://tangoquebec.org/wp-content/uploads/2018/01/Logo_Ecole_Passion.jpg
ORGANIZER;CN="%C3%89cole Passion Tango":MAILTO:ecolepassiontango@gmail.com
END:VEVENT
BEGIN:VEVENT
DTSTART;TZID=America/New_York:20230805T203000
DTEND;TZID=America/New_York:20230805T233000
DTSTAMP:20260425T131256
CREATED:20221226T005222Z
LAST-MODIFIED:20230808T212127Z
UID:8816-1691267400-1691278200@tangoquebec.org
SUMMARY:Milonga Passion Tango (À confirmer)
DESCRIPTION:Veuillez contacter Passion Tango avant de vous déplacer.
URL:https://tangoquebec.org/index.php/calendrier/milonga-passion-tango-4-2023-08-05/
LOCATION:La Escalera\, 604\, rue St-Vallier Ouest\, Québec\, Québec\, G1N 1C5\, Canada
CATEGORIES:Milonga
ATTACH;FMTTYPE=image/jpeg:https://tangoquebec.org/wp-content/uploads/2018/01/Logo_Ecole_Passion.jpg
ORGANIZER;CN="%C3%89cole Passion Tango":MAILTO:ecolepassiontango@gmail.com
END:VEVENT
BEGIN:VEVENT
DTSTART;TZID=America/New_York:20230809T183000
DTEND;TZID=America/New_York:20230809T213000
DTSTAMP:20260425T131256
CREATED:20230329T232120Z
LAST-MODIFIED:20230329T232120Z
UID:9294-1691605800-1691616600@tangoquebec.org
SUMMARY:Milonga extérieure Place Fleur de Lys
DESCRIPTION:Cet été\, la participation aux milongas extérieures du mercredi soir sera soumise aux conditions d’accès suivantes : \nGratuit pour les membres de Tango Québec 2022-2023 et 2023-2024. \n5$/personne non-membres \n(Renouveller ou obtener votre carte de membre 2023-2024 pour 30$/valide jusqu’au 30/09/2024 sur place) \nConsultez tous les avantages reliés à la carte de membre.  \nNotez que nous aurons besoin de l’aide de volontaires pour la pose et le retrait du tapis de danse\, et qu’il est préférable d’apporter sa propre chaise de parterre.
URL:https://tangoquebec.org/index.php/calendrier/milonga-exterieure-place-fleur-de-lys-2023-08-09/
LOCATION:https://www.google.com/maps/place/Restaurant+Normandin+Fleur+de+Lys/@46.8222055\,-71.2544171\,17z/data=!4m17!1m9!2m8!1sRestaurants!3m6!1sRestaurants!2sRue+Soumande\,+Qu%C3%A9bec\,+QC!3s0x4cb89637ed81aa0b:0xd1f0d0e9a978836b!4m2!1d-71.2537305!2d46.8268377!3m6!1s0x4cb896488dca012f:0xb410fe58efb2c5e9!8m2!3d46.82142!4d-71.25436!15sCgtSZXN0YXVyYW50c1oNIgtyZXN0YXVyYW50c5IBEWZhbWlseV9yZXN0YXVyYW504AEA!16s%2Fg%2F1tgnwv0b\, Québec
CATEGORIES:Milonga
ATTACH;FMTTYPE=image/jpeg:https://tangoquebec.org/wp-content/uploads/2021/07/thumbnail_IMG_4276.jpg
END:VEVENT
BEGIN:VEVENT
DTSTART;TZID=America/New_York:20230810T203000
DTEND;TZID=America/New_York:20230810T233000
DTSTAMP:20260425T131256
CREATED:20221226T005553Z
LAST-MODIFIED:20230808T212022Z
UID:8765-1691699400-1691710200@tangoquebec.org
SUMMARY:Milonga du Jeudi Passion Tango (À confirmer)
DESCRIPTION:Veuillez contacter Passion Tango avant de vous déplacer.
URL:https://tangoquebec.org/index.php/calendrier/milonga-du-jeudi-passion-tango-2023-08-10/
LOCATION:La Escalera\, 604\, rue St-Vallier Ouest\, Québec\, Québec\, G1N 1C5\, Canada
CATEGORIES:Milonga
ATTACH;FMTTYPE=image/jpeg:https://tangoquebec.org/wp-content/uploads/2018/01/Logo_Ecole_Passion.jpg
ORGANIZER;CN="%C3%89cole Passion Tango":MAILTO:ecolepassiontango@gmail.com
END:VEVENT
BEGIN:VEVENT
DTSTART;TZID=America/New_York:20230812T203000
DTEND;TZID=America/New_York:20230812T233000
DTSTAMP:20260425T131256
CREATED:20221226T005222Z
LAST-MODIFIED:20230808T212127Z
UID:8817-1691872200-1691883000@tangoquebec.org
SUMMARY:Milonga Passion Tango (À confirmer)
DESCRIPTION:Veuillez contacter Passion Tango avant de vous déplacer.
URL:https://tangoquebec.org/index.php/calendrier/milonga-passion-tango-4-2023-08-12/
LOCATION:La Escalera\, 604\, rue St-Vallier Ouest\, Québec\, Québec\, G1N 1C5\, Canada
CATEGORIES:Milonga
ATTACH;FMTTYPE=image/jpeg:https://tangoquebec.org/wp-content/uploads/2018/01/Logo_Ecole_Passion.jpg
ORGANIZER;CN="%C3%89cole Passion Tango":MAILTO:ecolepassiontango@gmail.com
END:VEVENT
BEGIN:VEVENT
DTSTART;TZID=America/New_York:20230816T183000
DTEND;TZID=America/New_York:20230816T213000
DTSTAMP:20260425T131256
CREATED:20230329T232120Z
LAST-MODIFIED:20230329T232120Z
UID:9295-1692210600-1692221400@tangoquebec.org
SUMMARY:Milonga extérieure Place Fleur de Lys
DESCRIPTION:Cet été\, la participation aux milongas extérieures du mercredi soir sera soumise aux conditions d’accès suivantes : \nGratuit pour les membres de Tango Québec 2022-2023 et 2023-2024. \n5$/personne non-membres \n(Renouveller ou obtener votre carte de membre 2023-2024 pour 30$/valide jusqu’au 30/09/2024 sur place) \nConsultez tous les avantages reliés à la carte de membre.  \nNotez que nous aurons besoin de l’aide de volontaires pour la pose et le retrait du tapis de danse\, et qu’il est préférable d’apporter sa propre chaise de parterre.
URL:https://tangoquebec.org/index.php/calendrier/milonga-exterieure-place-fleur-de-lys-2023-08-16/
LOCATION:https://www.google.com/maps/place/Restaurant+Normandin+Fleur+de+Lys/@46.8222055\,-71.2544171\,17z/data=!4m17!1m9!2m8!1sRestaurants!3m6!1sRestaurants!2sRue+Soumande\,+Qu%C3%A9bec\,+QC!3s0x4cb89637ed81aa0b:0xd1f0d0e9a978836b!4m2!1d-71.2537305!2d46.8268377!3m6!1s0x4cb896488dca012f:0xb410fe58efb2c5e9!8m2!3d46.82142!4d-71.25436!15sCgtSZXN0YXVyYW50c1oNIgtyZXN0YXVyYW50c5IBEWZhbWlseV9yZXN0YXVyYW504AEA!16s%2Fg%2F1tgnwv0b\, Québec
CATEGORIES:Milonga
ATTACH;FMTTYPE=image/jpeg:https://tangoquebec.org/wp-content/uploads/2021/07/thumbnail_IMG_4276.jpg
END:VEVENT
BEGIN:VEVENT
DTSTART;TZID=America/New_York:20230817T203000
DTEND;TZID=America/New_York:20230817T233000
DTSTAMP:20260425T131256
CREATED:20221226T005553Z
LAST-MODIFIED:20230808T211943Z
UID:8766-1692304200-1692315000@tangoquebec.org
SUMMARY:Milonga du Jeudi Passion Tango (À confirmer)
DESCRIPTION:Veuillez contacter Passion Tango avant de vous déplacer.
URL:https://tangoquebec.org/index.php/calendrier/milonga-du-jeudi-passion-tango-2023-08-17/
LOCATION:La Escalera\, 604\, rue St-Vallier Ouest\, Québec\, Québec\, G1N 1C5\, Canada
CATEGORIES:Milonga
ATTACH;FMTTYPE=image/jpeg:https://tangoquebec.org/wp-content/uploads/2018/01/Logo_Ecole_Passion.jpg
ORGANIZER;CN="%C3%89cole Passion Tango":MAILTO:ecolepassiontango@gmail.com
END:VEVENT
BEGIN:VEVENT
DTSTART;TZID=America/New_York:20230819T203000
DTEND;TZID=America/New_York:20230819T233000
DTSTAMP:20260425T131256
CREATED:20221226T005222Z
LAST-MODIFIED:20230808T212127Z
UID:8818-1692477000-1692487800@tangoquebec.org
SUMMARY:Milonga Passion Tango (À confirmer)
DESCRIPTION:Veuillez contacter Passion Tango avant de vous déplacer.
URL:https://tangoquebec.org/index.php/calendrier/milonga-passion-tango-4-2023-08-19/
LOCATION:La Escalera\, 604\, rue St-Vallier Ouest\, Québec\, Québec\, G1N 1C5\, Canada
CATEGORIES:Milonga
ATTACH;FMTTYPE=image/jpeg:https://tangoquebec.org/wp-content/uploads/2018/01/Logo_Ecole_Passion.jpg
ORGANIZER;CN="%C3%89cole Passion Tango":MAILTO:ecolepassiontango@gmail.com
END:VEVENT
BEGIN:VEVENT
DTSTART;TZID=America/New_York:20230823T183000
DTEND;TZID=America/New_York:20230823T213000
DTSTAMP:20260425T131256
CREATED:20230329T232120Z
LAST-MODIFIED:20230329T232120Z
UID:9296-1692815400-1692826200@tangoquebec.org
SUMMARY:Milonga extérieure Place Fleur de Lys
DESCRIPTION:Cet été\, la participation aux milongas extérieures du mercredi soir sera soumise aux conditions d’accès suivantes : \nGratuit pour les membres de Tango Québec 2022-2023 et 2023-2024. \n5$/personne non-membres \n(Renouveller ou obtener votre carte de membre 2023-2024 pour 30$/valide jusqu’au 30/09/2024 sur place) \nConsultez tous les avantages reliés à la carte de membre.  \nNotez que nous aurons besoin de l’aide de volontaires pour la pose et le retrait du tapis de danse\, et qu’il est préférable d’apporter sa propre chaise de parterre.
URL:https://tangoquebec.org/index.php/calendrier/milonga-exterieure-place-fleur-de-lys-2023-08-23/
LOCATION:https://www.google.com/maps/place/Restaurant+Normandin+Fleur+de+Lys/@46.8222055\,-71.2544171\,17z/data=!4m17!1m9!2m8!1sRestaurants!3m6!1sRestaurants!2sRue+Soumande\,+Qu%C3%A9bec\,+QC!3s0x4cb89637ed81aa0b:0xd1f0d0e9a978836b!4m2!1d-71.2537305!2d46.8268377!3m6!1s0x4cb896488dca012f:0xb410fe58efb2c5e9!8m2!3d46.82142!4d-71.25436!15sCgtSZXN0YXVyYW50c1oNIgtyZXN0YXVyYW50c5IBEWZhbWlseV9yZXN0YXVyYW504AEA!16s%2Fg%2F1tgnwv0b\, Québec
CATEGORIES:Milonga
ATTACH;FMTTYPE=image/jpeg:https://tangoquebec.org/wp-content/uploads/2021/07/thumbnail_IMG_4276.jpg
END:VEVENT
BEGIN:VEVENT
DTSTART;TZID=America/New_York:20230824T203000
DTEND;TZID=America/New_York:20230824T233000
DTSTAMP:20260425T131256
CREATED:20221226T005553Z
LAST-MODIFIED:20240330T181749Z
UID:8767-1692909000-1692919800@tangoquebec.org
SUMMARY:Milonga du Jeudi Passion Tango
DESCRIPTION:Veuillez contacter Passion Tango avant de vous déplacer.
URL:https://tangoquebec.org/index.php/calendrier/milonga-du-jeudi-passion-tango-2023-08-24/
LOCATION:La Escalera\, 604\, rue St-Vallier Ouest\, Québec\, Québec\, G1N 1C5\, Canada
CATEGORIES:Milonga
ATTACH;FMTTYPE=image/jpeg:https://tangoquebec.org/wp-content/uploads/2018/01/Logo_Ecole_Passion.jpg
ORGANIZER;CN="%C3%89cole Passion Tango":MAILTO:ecolepassiontango@gmail.com
END:VEVENT
BEGIN:VEVENT
DTSTART;TZID=America/New_York:20230825T180000
DTEND;TZID=America/New_York:20230825T220000
DTSTAMP:20260425T131256
CREATED:20230711T204513Z
LAST-MODIFIED:20230711T204513Z
UID:9005-1692986400-1693000800@tangoquebec.org
SUMMARY:Milonga estivale du vendredi aux Salons d'Edgar
DESCRIPTION:Pour l’été 2023\, nous vous proposons deux rendez-vous aux Salons d’Edgar.  Les vendredi 28 juillet et 25 août à compter de 18h00 jusqu’à 22h00.  Prix d’entrée 10$ payable par virement Interac ou sur place.  (tango-salons@hotmail.com) \nMenu complet disponible.  Faites vos réservations de table directement aux Salons au 418-523-7811 ou sur libroreserve.com. \nVotre Dj Diane.
URL:https://tangoquebec.org/index.php/calendrier/milonga-estivale-du-vendredi-aux-salons-dedgar-2/
LOCATION:Les Salons d’Edgar\, 263\, Saint-Vallier est\, Québec\, Québec\, G1K 3P4\, Canada
CATEGORIES:Milonga
ATTACH;FMTTYPE=image/jpeg:https://tangoquebec.org/wp-content/uploads/2018/01/salons_plancher.jpg
ORGANIZER;CN="Milonga aux Salons d'Edgar":MAILTO:tango-Salons@hotmail.com
END:VEVENT
BEGIN:VEVENT
DTSTART;TZID=America/New_York:20230826T203000
DTEND;TZID=America/New_York:20230826T233000
DTSTAMP:20260425T131256
CREATED:20221226T005222Z
LAST-MODIFIED:20240330T181807Z
UID:8819-1693081800-1693092600@tangoquebec.org
SUMMARY:Milonga Passion Tango
DESCRIPTION:Veuillez contacter Passion Tango avant de vous déplacer.
URL:https://tangoquebec.org/index.php/calendrier/milonga-passion-tango-4-2023-08-26/
LOCATION:La Escalera\, 604\, rue St-Vallier Ouest\, Québec\, Québec\, G1N 1C5\, Canada
CATEGORIES:Milonga
ATTACH;FMTTYPE=image/jpeg:https://tangoquebec.org/wp-content/uploads/2018/01/Logo_Ecole_Passion.jpg
ORGANIZER;CN="%C3%89cole Passion Tango":MAILTO:ecolepassiontango@gmail.com
END:VEVENT
BEGIN:VEVENT
DTSTART;TZID=America/New_York:20230829T200000
DTEND;TZID=America/New_York:20230829T233000
DTSTAMP:20260425T131256
CREATED:20221205T200838Z
LAST-MODIFIED:20221205T200838Z
UID:8703-1693339200-1693351800@tangoquebec.org
SUMMARY:Milonga du Drague
DESCRIPTION:Une courte milonga conviviale dans la section discothèque du Cabaret Le Drague.\n815 rue Saint-Augustin\, G1R 3N4\n20h00 à 23h00
URL:https://tangoquebec.org/index.php/calendrier/milonga-du-drague-14-2023-08-29/
LOCATION:Québec
CATEGORIES:Milonga
ATTACH;FMTTYPE=image/jpeg:https://tangoquebec.org/wp-content/uploads/2019/08/drague2022.jpg
END:VEVENT
BEGIN:VEVENT
DTSTART;TZID=America/New_York:20230830T183000
DTEND;TZID=America/New_York:20230830T213000
DTSTAMP:20260425T131256
CREATED:20230329T232120Z
LAST-MODIFIED:20230329T232120Z
UID:9297-1693420200-1693431000@tangoquebec.org
SUMMARY:Milonga extérieure Place Fleur de Lys
DESCRIPTION:Cet été\, la participation aux milongas extérieures du mercredi soir sera soumise aux conditions d’accès suivantes : \nGratuit pour les membres de Tango Québec 2022-2023 et 2023-2024. \n5$/personne non-membres \n(Renouveller ou obtener votre carte de membre 2023-2024 pour 30$/valide jusqu’au 30/09/2024 sur place) \nConsultez tous les avantages reliés à la carte de membre.  \nNotez que nous aurons besoin de l’aide de volontaires pour la pose et le retrait du tapis de danse\, et qu’il est préférable d’apporter sa propre chaise de parterre.
URL:https://tangoquebec.org/index.php/calendrier/milonga-exterieure-place-fleur-de-lys-2023-08-30/
LOCATION:https://www.google.com/maps/place/Restaurant+Normandin+Fleur+de+Lys/@46.8222055\,-71.2544171\,17z/data=!4m17!1m9!2m8!1sRestaurants!3m6!1sRestaurants!2sRue+Soumande\,+Qu%C3%A9bec\,+QC!3s0x4cb89637ed81aa0b:0xd1f0d0e9a978836b!4m2!1d-71.2537305!2d46.8268377!3m6!1s0x4cb896488dca012f:0xb410fe58efb2c5e9!8m2!3d46.82142!4d-71.25436!15sCgtSZXN0YXVyYW50c1oNIgtyZXN0YXVyYW50c5IBEWZhbWlseV9yZXN0YXVyYW504AEA!16s%2Fg%2F1tgnwv0b\, Québec
CATEGORIES:Milonga
ATTACH;FMTTYPE=image/jpeg:https://tangoquebec.org/wp-content/uploads/2021/07/thumbnail_IMG_4276.jpg
END:VEVENT
BEGIN:VEVENT
DTSTART;TZID=America/New_York:20230831T203000
DTEND;TZID=America/New_York:20230831T233000
DTSTAMP:20260425T131256
CREATED:20221226T005553Z
LAST-MODIFIED:20240330T181725Z
UID:8768-1693513800-1693524600@tangoquebec.org
SUMMARY:Milonga du Jeudi Passion Tango
DESCRIPTION:Veuillez contacter Passion Tango avant de vous déplacer.
URL:https://tangoquebec.org/index.php/calendrier/milonga-du-jeudi-passion-tango-2023-08-31/
LOCATION:La Escalera\, 604\, rue St-Vallier Ouest\, Québec\, Québec\, G1N 1C5\, Canada
CATEGORIES:Milonga
ATTACH;FMTTYPE=image/jpeg:https://tangoquebec.org/wp-content/uploads/2018/01/Logo_Ecole_Passion.jpg
ORGANIZER;CN="%C3%89cole Passion Tango":MAILTO:ecolepassiontango@gmail.com
END:VEVENT
END:VCALENDAR