BEGIN:VCALENDAR
VERSION:2.0
PRODID:-//Tango Québec - ECPv6.15.20//NONSGML v1.0//EN
CALSCALE:GREGORIAN
METHOD:PUBLISH
X-ORIGINAL-URL:https://tangoquebec.org
X-WR-CALDESC:Évènements pour Tango Québec
REFRESH-INTERVAL;VALUE=DURATION:PT1H
X-Robots-Tag:noindex
X-PUBLISHED-TTL:PT1H
BEGIN:VTIMEZONE
TZID:America/New_York
BEGIN:DAYLIGHT
TZOFFSETFROM:-0500
TZOFFSETTO:-0400
TZNAME:EDT
DTSTART:20220313T070000
END:DAYLIGHT
BEGIN:STANDARD
TZOFFSETFROM:-0400
TZOFFSETTO:-0500
TZNAME:EST
DTSTART:20221106T060000
END:STANDARD
BEGIN:DAYLIGHT
TZOFFSETFROM:-0500
TZOFFSETTO:-0400
TZNAME:EDT
DTSTART:20230312T070000
END:DAYLIGHT
BEGIN:STANDARD
TZOFFSETFROM:-0400
TZOFFSETTO:-0500
TZNAME:EST
DTSTART:20231105T060000
END:STANDARD
BEGIN:DAYLIGHT
TZOFFSETFROM:-0500
TZOFFSETTO:-0400
TZNAME:EDT
DTSTART:20240310T070000
END:DAYLIGHT
BEGIN:STANDARD
TZOFFSETFROM:-0400
TZOFFSETTO:-0500
TZNAME:EST
DTSTART:20241103T060000
END:STANDARD
END:VTIMEZONE
BEGIN:VEVENT
DTSTART;TZID=America/New_York:20230601T203000
DTEND;TZID=America/New_York:20230601T233000
DTSTAMP:20260425T164456
CREATED:20221226T005553Z
LAST-MODIFIED:20230808T212020Z
UID:8148-1685651400-1685662200@tangoquebec.org
SUMMARY:Milonga du Jeudi Passion Tango (À confirmer)
DESCRIPTION:Veuillez contacter Passion Tango avant de vous déplacer.
URL:https://tangoquebec.org/index.php/calendrier/milonga-du-jeudi-passion-tango-2023-06-01/
LOCATION:La Escalera\, 604\, rue St-Vallier Ouest\, Québec\, Québec\, G1N 1C5\, Canada
CATEGORIES:Milonga
ATTACH;FMTTYPE=image/jpeg:https://tangoquebec.org/wp-content/uploads/2018/01/Logo_Ecole_Passion.jpg
ORGANIZER;CN="%C3%89cole Passion Tango":MAILTO:ecolepassiontango@gmail.com
END:VEVENT
BEGIN:VEVENT
DTSTART;TZID=America/New_York:20230603T203000
DTEND;TZID=America/New_York:20230603T233000
DTSTAMP:20260425T164456
CREATED:20221226T005222Z
LAST-MODIFIED:20230808T212124Z
UID:8122-1685824200-1685835000@tangoquebec.org
SUMMARY:Milonga Passion Tango (À confirmer)
DESCRIPTION:Veuillez contacter Passion Tango avant de vous déplacer.
URL:https://tangoquebec.org/index.php/calendrier/milonga-passion-tango-4-2023-06-03/
LOCATION:La Escalera\, 604\, rue St-Vallier Ouest\, Québec\, Québec\, G1N 1C5\, Canada
CATEGORIES:Milonga
ATTACH;FMTTYPE=image/jpeg:https://tangoquebec.org/wp-content/uploads/2018/01/Logo_Ecole_Passion.jpg
ORGANIZER;CN="%C3%89cole Passion Tango":MAILTO:ecolepassiontango@gmail.com
END:VEVENT
BEGIN:VEVENT
DTSTART;TZID=America/New_York:20230608T203000
DTEND;TZID=America/New_York:20230608T233000
DTSTAMP:20260425T164456
CREATED:20221226T005553Z
LAST-MODIFIED:20230808T212021Z
UID:8149-1686256200-1686267000@tangoquebec.org
SUMMARY:Milonga du Jeudi Passion Tango (À confirmer)
DESCRIPTION:Veuillez contacter Passion Tango avant de vous déplacer.
URL:https://tangoquebec.org/index.php/calendrier/milonga-du-jeudi-passion-tango-2023-06-08/
LOCATION:La Escalera\, 604\, rue St-Vallier Ouest\, Québec\, Québec\, G1N 1C5\, Canada
CATEGORIES:Milonga
ATTACH;FMTTYPE=image/jpeg:https://tangoquebec.org/wp-content/uploads/2018/01/Logo_Ecole_Passion.jpg
ORGANIZER;CN="%C3%89cole Passion Tango":MAILTO:ecolepassiontango@gmail.com
END:VEVENT
BEGIN:VEVENT
DTSTART;TZID=America/New_York:20230609T193000
DTEND;TZID=America/New_York:20230609T233000
DTSTAMP:20260425T164456
CREATED:20221205T201221Z
LAST-MODIFIED:20230622T033150Z
UID:8066-1686339000-1686353400@tangoquebec.org
SUMMARY:Milonga Tangusto à Trois-Rivières
DESCRIPTION:La Milonga Tangusto à Trois-Rivières : une milonga à l’ambiance conviviale et chaleureuse dans une salle superbe.\n20\, rue Jacinthe\, Trois-Rivières\n19h30 à 23h30
URL:https://tangoquebec.org/index.php/calendrier/milonga-tangusto-a-trois-rivieres-2023-06-09/
LOCATION:Québec
CATEGORIES:Milonga
ATTACH;FMTTYPE=image/jpeg:https://tangoquebec.org/wp-content/uploads/2018/01/tangusto_salle2.jpg
END:VEVENT
BEGIN:VEVENT
DTSTART;TZID=America/New_York:20230610T203000
DTEND;TZID=America/New_York:20230610T233000
DTSTAMP:20260425T164456
CREATED:20221226T005222Z
LAST-MODIFIED:20230808T212124Z
UID:8123-1686429000-1686439800@tangoquebec.org
SUMMARY:Milonga Passion Tango (À confirmer)
DESCRIPTION:Veuillez contacter Passion Tango avant de vous déplacer.
URL:https://tangoquebec.org/index.php/calendrier/milonga-passion-tango-4-2023-06-10/
LOCATION:La Escalera\, 604\, rue St-Vallier Ouest\, Québec\, Québec\, G1N 1C5\, Canada
CATEGORIES:Milonga
ATTACH;FMTTYPE=image/jpeg:https://tangoquebec.org/wp-content/uploads/2018/01/Logo_Ecole_Passion.jpg
ORGANIZER;CN="%C3%89cole Passion Tango":MAILTO:ecolepassiontango@gmail.com
END:VEVENT
BEGIN:VEVENT
DTSTART;TZID=America/New_York:20230615T203000
DTEND;TZID=America/New_York:20230615T233000
DTSTAMP:20260425T164456
CREATED:20221226T005553Z
LAST-MODIFIED:20230808T212021Z
UID:8150-1686861000-1686871800@tangoquebec.org
SUMMARY:Milonga du Jeudi Passion Tango (À confirmer)
DESCRIPTION:Veuillez contacter Passion Tango avant de vous déplacer.
URL:https://tangoquebec.org/index.php/calendrier/milonga-du-jeudi-passion-tango-2023-06-15/
LOCATION:La Escalera\, 604\, rue St-Vallier Ouest\, Québec\, Québec\, G1N 1C5\, Canada
CATEGORIES:Milonga
ATTACH;FMTTYPE=image/jpeg:https://tangoquebec.org/wp-content/uploads/2018/01/Logo_Ecole_Passion.jpg
ORGANIZER;CN="%C3%89cole Passion Tango":MAILTO:ecolepassiontango@gmail.com
END:VEVENT
BEGIN:VEVENT
DTSTART;TZID=America/New_York:20230617T203000
DTEND;TZID=America/New_York:20230617T233000
DTSTAMP:20260425T164456
CREATED:20221226T005222Z
LAST-MODIFIED:20230808T212124Z
UID:8124-1687033800-1687044600@tangoquebec.org
SUMMARY:Milonga Passion Tango (À confirmer)
DESCRIPTION:Veuillez contacter Passion Tango avant de vous déplacer.
URL:https://tangoquebec.org/index.php/calendrier/milonga-passion-tango-4-2023-06-17/
LOCATION:La Escalera\, 604\, rue St-Vallier Ouest\, Québec\, Québec\, G1N 1C5\, Canada
CATEGORIES:Milonga
ATTACH;FMTTYPE=image/jpeg:https://tangoquebec.org/wp-content/uploads/2018/01/Logo_Ecole_Passion.jpg
ORGANIZER;CN="%C3%89cole Passion Tango":MAILTO:ecolepassiontango@gmail.com
END:VEVENT
BEGIN:VEVENT
DTSTART;TZID=America/New_York:20230617T204500
DTEND;TZID=America/New_York:20230617T233000
DTSTAMP:20260425T164456
CREATED:20230324T195212Z
LAST-MODIFIED:20230324T195212Z
UID:8473-1687034700-1687044600@tangoquebec.org
SUMMARY:Milonguita de Mam'zelle Janice
DESCRIPTION:La milonguita de mam’zelle Janice est de retour!\nJe vous attends dès 20h45\, au Carter Hall de la Cathédrale Holy Trinity au 31\, rue des Jardins\, Québec (Québec). Stationnement gratuit. \nApporter vos boissons non-alcoolisées.\nDJT: mam’zelle Janice \nPrix d’entrée : 15$\nDeux façons de payer:  argent comptant à la porte ou par virement bancaire à l’adresse courriel suivante : pleiade1@hotmail.com\nMot de passe: tango
URL:https://tangoquebec.org/index.php/calendrier/milonguita-de-mamzelle-janice-3/
LOCATION:Chapelle de la cathédrale Holy Trinity\, 31\, rue des Jardins\, Québec\, Québec\, G1R 4L6\, Canada
CATEGORIES:Milonga
ATTACH;FMTTYPE=image/png:https://tangoquebec.org/wp-content/uploads/2019/09/Janice_logo_blanc.png
END:VEVENT
BEGIN:VEVENT
DTSTART;TZID=America/New_York:20230618T183000
DTEND;TZID=America/New_York:20230618T230000
DTSTAMP:20260425T164456
CREATED:20230118T204144Z
LAST-MODIFIED:20230613T131722Z
UID:8231-1687113000-1687129200@tangoquebec.org
SUMMARY:Milonga Salons d'Edgar
DESCRIPTION:Hugo Denis votre Dj invité\, Diane Hainse votre hôtesse \nFormule menu du soir (voir les petites lunes dans le menu) \nde 18h à 23h \n12$/pers. virement Interac jusqu’au samedi 17 minuit \n15$/personne à la porte \n\nVirement Interac : (Tango-Salons@hotmail.com\, Mot de passe : tango) \n 
URL:https://tangoquebec.org/index.php/calendrier/milonga-salons-dedgar-4/
LOCATION:Les Salons d’Edgar\, 263\, Saint-Vallier est\, Québec\, Québec\, G1K 3P4\, Canada
CATEGORIES:Milonga
ATTACH;FMTTYPE=image/jpeg:https://tangoquebec.org/wp-content/uploads/2018/01/salons_plancher.jpg
END:VEVENT
BEGIN:VEVENT
DTSTART;TZID=America/New_York:20230619T193000
DTEND;TZID=America/New_York:20230619T233000
DTSTAMP:20260425T164456
CREATED:20221205T201221Z
LAST-MODIFIED:20221205T201221Z
UID:8722-1687203000-1687217400@tangoquebec.org
SUMMARY:Milonga Tangusto à Trois-Rivières
DESCRIPTION:La Milonga Tangusto à Trois-Rivières : une milonga à l’ambiance conviviale et chaleureuse dans une salle superbe.\n20\, rue Jacinthe\, Trois-Rivières\n19h30 à 23h30
URL:https://tangoquebec.org/index.php/calendrier/milonga-tangusto-a-trois-rivieres-2023-06-19/
LOCATION:Québec
CATEGORIES:Milonga
ATTACH;FMTTYPE=image/jpeg:https://tangoquebec.org/wp-content/uploads/2018/01/tangusto_salle2.jpg
END:VEVENT
BEGIN:VEVENT
DTSTART;TZID=America/New_York:20230621T183000
DTEND;TZID=America/New_York:20230621T213000
DTSTAMP:20260425T164456
CREATED:20230329T232120Z
LAST-MODIFIED:20230814T152854Z
UID:8506-1687372200-1687383000@tangoquebec.org
SUMMARY:Milonga extérieure Place Fleur de Lys
DESCRIPTION:Cet été\, la participation aux milongas extérieures du mercredi soir sera soumise aux conditions d’accès suivantes : \nGratuit pour les membres de Tango Québec 2022-2023 et 2023-2024. \n5$/personne non-membres \n(Renouveller ou obtener votre carte de membre 2023-2024 pour 30$/valide jusqu’au 30/09/2024 sur place) \nConsultez tous les avantages reliés à la carte de membre.  \nNotez que nous aurons besoin de l’aide de volontaires pour la pose et le retrait du tapis de danse\, et qu’il est préférable d’apporter sa propre chaise de parterre.
URL:https://tangoquebec.org/index.php/calendrier/milonga-exterieure-place-fleur-de-lys/
LOCATION:https://www.google.com/maps/place/Restaurant+Normandin+Fleur+de+Lys/@46.8222055\,-71.2544171\,17z/data=!4m17!1m9!2m8!1sRestaurants!3m6!1sRestaurants!2sRue+Soumande\,+Qu%C3%A9bec\,+QC!3s0x4cb89637ed81aa0b:0xd1f0d0e9a978836b!4m2!1d-71.2537305!2d46.8268377!3m6!1s0x4cb896488dca012f:0xb410fe58efb2c5e9!8m2!3d46.82142!4d-71.25436!15sCgtSZXN0YXVyYW50c1oNIgtyZXN0YXVyYW50c5IBEWZhbWlseV9yZXN0YXVyYW504AEA!16s%2Fg%2F1tgnwv0b\, Québec
CATEGORIES:Milonga
ATTACH;FMTTYPE=image/jpeg:https://tangoquebec.org/wp-content/uploads/2021/07/thumbnail_IMG_4276.jpg
END:VEVENT
BEGIN:VEVENT
DTSTART;TZID=America/New_York:20230622T203000
DTEND;TZID=America/New_York:20230622T233000
DTSTAMP:20260425T164456
CREATED:20221226T005553Z
LAST-MODIFIED:20230808T212021Z
UID:8151-1687465800-1687476600@tangoquebec.org
SUMMARY:Milonga du Jeudi Passion Tango (À confirmer)
DESCRIPTION:Veuillez contacter Passion Tango avant de vous déplacer.
URL:https://tangoquebec.org/index.php/calendrier/milonga-du-jeudi-passion-tango-2023-06-22/
LOCATION:La Escalera\, 604\, rue St-Vallier Ouest\, Québec\, Québec\, G1N 1C5\, Canada
CATEGORIES:Milonga
ATTACH;FMTTYPE=image/jpeg:https://tangoquebec.org/wp-content/uploads/2018/01/Logo_Ecole_Passion.jpg
ORGANIZER;CN="%C3%89cole Passion Tango":MAILTO:ecolepassiontango@gmail.com
END:VEVENT
BEGIN:VEVENT
DTSTART;TZID=America/New_York:20230623T193000
DTEND;TZID=America/New_York:20230623T233000
DTSTAMP:20260425T164456
CREATED:20221205T201221Z
LAST-MODIFIED:20221205T201221Z
UID:8723-1687548600-1687563000@tangoquebec.org
SUMMARY:Milonga Tangusto à Trois-Rivières
DESCRIPTION:La Milonga Tangusto à Trois-Rivières : une milonga à l’ambiance conviviale et chaleureuse dans une salle superbe.\n20\, rue Jacinthe\, Trois-Rivières\n19h30 à 23h30
URL:https://tangoquebec.org/index.php/calendrier/milonga-tangusto-a-trois-rivieres-2023-06-23/
LOCATION:Québec
CATEGORIES:Milonga
ATTACH;FMTTYPE=image/jpeg:https://tangoquebec.org/wp-content/uploads/2018/01/tangusto_salle2.jpg
END:VEVENT
BEGIN:VEVENT
DTSTART;TZID=America/New_York:20230624T203000
DTEND;TZID=America/New_York:20230624T233000
DTSTAMP:20260425T164456
CREATED:20221226T005222Z
LAST-MODIFIED:20230808T212124Z
UID:8810-1687638600-1687649400@tangoquebec.org
SUMMARY:Milonga Passion Tango (À confirmer)
DESCRIPTION:Veuillez contacter Passion Tango avant de vous déplacer.
URL:https://tangoquebec.org/index.php/calendrier/milonga-passion-tango-4-2023-06-24/
LOCATION:La Escalera\, 604\, rue St-Vallier Ouest\, Québec\, Québec\, G1N 1C5\, Canada
CATEGORIES:Milonga
ATTACH;FMTTYPE=image/jpeg:https://tangoquebec.org/wp-content/uploads/2018/01/Logo_Ecole_Passion.jpg
ORGANIZER;CN="%C3%89cole Passion Tango":MAILTO:ecolepassiontango@gmail.com
END:VEVENT
BEGIN:VEVENT
DTSTART;TZID=America/New_York:20230625T190000
DTEND;TZID=America/New_York:20230625T233000
DTSTAMP:20260425T164456
CREATED:20230529T165538Z
LAST-MODIFIED:20230529T165659Z
UID:8583-1687719600-1687735800@tangoquebec.org
SUMMARY:Tango Practica
DESCRIPTION:Ami.e.s du tango\, je vous invite à danser le dimanche 25 juin dans les locaux de l’ancien studio P\, nouvellement réaménagés en espace de création artistique et de diffusion.  280 rue St-Joseph Est\, 2e étage (Studio P)
URL:https://tangoquebec.org/index.php/calendrier/tango-practica/
LOCATION:Québec
CATEGORIES:Milonga,Practica
ATTACH;FMTTYPE=image/jpeg:https://tangoquebec.org/wp-content/uploads/2023/05/256.jpg
END:VEVENT
BEGIN:VEVENT
DTSTART;TZID=America/New_York:20230627T200000
DTEND;TZID=America/New_York:20230627T233000
DTSTAMP:20260425T164456
CREATED:20221205T200838Z
LAST-MODIFIED:20230619T210203Z
UID:8018-1687896000-1687908600@tangoquebec.org
SUMMARY:Milonga du Drague
DESCRIPTION:Une courte milonga conviviale dans la section discothèque du Cabaret Le Drague.\n815 rue Saint-Augustin\, G1R 3N4\n20h00 à 23h00
URL:https://tangoquebec.org/index.php/calendrier/milonga-du-drague-14/
LOCATION:Québec
CATEGORIES:Milonga
ATTACH;FMTTYPE=image/jpeg:https://tangoquebec.org/wp-content/uploads/2019/08/drague2022.jpg
END:VEVENT
BEGIN:VEVENT
DTSTART;TZID=America/New_York:20230628T183000
DTEND;TZID=America/New_York:20230628T213000
DTSTAMP:20260425T164456
CREATED:20230329T232120Z
LAST-MODIFIED:20230329T232120Z
UID:9288-1687977000-1687987800@tangoquebec.org
SUMMARY:Milonga extérieure Place Fleur de Lys
DESCRIPTION:Cet été\, la participation aux milongas extérieures du mercredi soir sera soumise aux conditions d’accès suivantes : \nGratuit pour les membres de Tango Québec 2022-2023 et 2023-2024. \n5$/personne non-membres \n(Renouveller ou obtener votre carte de membre 2023-2024 pour 30$/valide jusqu’au 30/09/2024 sur place) \nConsultez tous les avantages reliés à la carte de membre.  \nNotez que nous aurons besoin de l’aide de volontaires pour la pose et le retrait du tapis de danse\, et qu’il est préférable d’apporter sa propre chaise de parterre.
URL:https://tangoquebec.org/index.php/calendrier/milonga-exterieure-place-fleur-de-lys-2023-06-28/
LOCATION:https://www.google.com/maps/place/Restaurant+Normandin+Fleur+de+Lys/@46.8222055\,-71.2544171\,17z/data=!4m17!1m9!2m8!1sRestaurants!3m6!1sRestaurants!2sRue+Soumande\,+Qu%C3%A9bec\,+QC!3s0x4cb89637ed81aa0b:0xd1f0d0e9a978836b!4m2!1d-71.2537305!2d46.8268377!3m6!1s0x4cb896488dca012f:0xb410fe58efb2c5e9!8m2!3d46.82142!4d-71.25436!15sCgtSZXN0YXVyYW50c1oNIgtyZXN0YXVyYW50c5IBEWZhbWlseV9yZXN0YXVyYW504AEA!16s%2Fg%2F1tgnwv0b\, Québec
CATEGORIES:Milonga
ATTACH;FMTTYPE=image/jpeg:https://tangoquebec.org/wp-content/uploads/2021/07/thumbnail_IMG_4276.jpg
END:VEVENT
BEGIN:VEVENT
DTSTART;TZID=America/New_York:20230629T203000
DTEND;TZID=America/New_York:20230629T233000
DTSTAMP:20260425T164456
CREATED:20221226T005553Z
LAST-MODIFIED:20230808T212022Z
UID:8152-1688070600-1688081400@tangoquebec.org
SUMMARY:Milonga du Jeudi Passion Tango (À confirmer)
DESCRIPTION:Veuillez contacter Passion Tango avant de vous déplacer.
URL:https://tangoquebec.org/index.php/calendrier/milonga-du-jeudi-passion-tango-2023-06-29/
LOCATION:La Escalera\, 604\, rue St-Vallier Ouest\, Québec\, Québec\, G1N 1C5\, Canada
CATEGORIES:Milonga
ATTACH;FMTTYPE=image/jpeg:https://tangoquebec.org/wp-content/uploads/2018/01/Logo_Ecole_Passion.jpg
ORGANIZER;CN="%C3%89cole Passion Tango":MAILTO:ecolepassiontango@gmail.com
END:VEVENT
END:VCALENDAR