BEGIN:VCALENDAR
VERSION:2.0
PRODID:-//Tango Québec - ECPv6.15.20//NONSGML v1.0//EN
CALSCALE:GREGORIAN
METHOD:PUBLISH
X-WR-CALNAME:Tango Québec
X-ORIGINAL-URL:https://tangoquebec.org
X-WR-CALDESC:Évènements pour Tango Québec
REFRESH-INTERVAL;VALUE=DURATION:PT1H
X-Robots-Tag:noindex
X-PUBLISHED-TTL:PT1H
BEGIN:VTIMEZONE
TZID:America/New_York
BEGIN:DAYLIGHT
TZOFFSETFROM:-0500
TZOFFSETTO:-0400
TZNAME:EDT
DTSTART:20220313T070000
END:DAYLIGHT
BEGIN:STANDARD
TZOFFSETFROM:-0400
TZOFFSETTO:-0500
TZNAME:EST
DTSTART:20221106T060000
END:STANDARD
BEGIN:DAYLIGHT
TZOFFSETFROM:-0500
TZOFFSETTO:-0400
TZNAME:EDT
DTSTART:20230312T070000
END:DAYLIGHT
BEGIN:STANDARD
TZOFFSETFROM:-0400
TZOFFSETTO:-0500
TZNAME:EST
DTSTART:20231105T060000
END:STANDARD
BEGIN:DAYLIGHT
TZOFFSETFROM:-0500
TZOFFSETTO:-0400
TZNAME:EDT
DTSTART:20240310T070000
END:DAYLIGHT
BEGIN:STANDARD
TZOFFSETFROM:-0400
TZOFFSETTO:-0500
TZNAME:EST
DTSTART:20241103T060000
END:STANDARD
END:VTIMEZONE
BEGIN:VEVENT
DTSTART;TZID=America/New_York:20230202T203000
DTEND;TZID=America/New_York:20230202T233000
DTSTAMP:20260425T233010
CREATED:20221226T005553Z
LAST-MODIFIED:20230808T212017Z
UID:8131-1675369800-1675380600@tangoquebec.org
SUMMARY:Milonga du Jeudi Passion Tango (À confirmer)
DESCRIPTION:Veuillez contacter Passion Tango avant de vous déplacer.
URL:https://tangoquebec.org/index.php/calendrier/milonga-du-jeudi-passion-tango-2023-02-02/
LOCATION:La Escalera\, 604\, rue St-Vallier Ouest\, Québec\, Québec\, G1N 1C5\, Canada
CATEGORIES:Milonga
ATTACH;FMTTYPE=image/jpeg:https://tangoquebec.org/wp-content/uploads/2018/01/Logo_Ecole_Passion.jpg
ORGANIZER;CN="%C3%89cole Passion Tango":MAILTO:ecolepassiontango@gmail.com
END:VEVENT
BEGIN:VEVENT
DTSTART;TZID=America/New_York:20230203T193000
DTEND;TZID=America/New_York:20230203T233000
DTSTAMP:20260425T233010
CREATED:20221205T201221Z
LAST-MODIFIED:20230622T033146Z
UID:8048-1675452600-1675467000@tangoquebec.org
SUMMARY:Milonga Tangusto à Trois-Rivières
DESCRIPTION:La Milonga Tangusto à Trois-Rivières : une milonga à l’ambiance conviviale et chaleureuse dans une salle superbe.\n20\, rue Jacinthe\, Trois-Rivières\n19h30 à 23h30
URL:https://tangoquebec.org/index.php/calendrier/milonga-tangusto-a-trois-rivieres-2023-02-03/
LOCATION:Québec
CATEGORIES:Milonga
ATTACH;FMTTYPE=image/jpeg:https://tangoquebec.org/wp-content/uploads/2018/01/tangusto_salle2.jpg
END:VEVENT
BEGIN:VEVENT
DTSTART;TZID=America/New_York:20230204T203000
DTEND;TZID=America/New_York:20230204T233000
DTSTAMP:20260425T233010
CREATED:20221202T171940Z
LAST-MODIFIED:20221205T202647Z
UID:8009-1675542600-1675553400@tangoquebec.org
SUMMARY:Milonga-Mariposas
DESCRIPTION:La Milonga aux airs de BsAs à Québec !\n3188 chemin Ste-Foy Québec\, salle au sous-sol
URL:https://tangoquebec.org/index.php/calendrier/milonga-mariposas-13/
LOCATION:3188 chemin ste-foy\, 3188 chemin Ste-Foy\, Québec\, Canada\, G1X 1R4\, Canada
CATEGORIES:Milonga
ATTACH;FMTTYPE=image/png:https://tangoquebec.org/wp-content/uploads/2018/01/logo.png
ORGANIZER;CN="Mariposas Tango":MAILTO:milonga-mariposas@hotmail.com
END:VEVENT
BEGIN:VEVENT
DTSTART;TZID=America/New_York:20230204T203000
DTEND;TZID=America/New_York:20230204T233000
DTSTAMP:20260425T233010
CREATED:20221226T005222Z
LAST-MODIFIED:20230808T212120Z
UID:8105-1675542600-1675553400@tangoquebec.org
SUMMARY:Milonga Passion Tango (À confirmer)
DESCRIPTION:Veuillez contacter Passion Tango avant de vous déplacer.
URL:https://tangoquebec.org/index.php/calendrier/milonga-passion-tango-4-2023-02-04/
LOCATION:La Escalera\, 604\, rue St-Vallier Ouest\, Québec\, Québec\, G1N 1C5\, Canada
CATEGORIES:Milonga
ATTACH;FMTTYPE=image/jpeg:https://tangoquebec.org/wp-content/uploads/2018/01/Logo_Ecole_Passion.jpg
ORGANIZER;CN="%C3%89cole Passion Tango":MAILTO:ecolepassiontango@gmail.com
END:VEVENT
BEGIN:VEVENT
DTSTART;TZID=America/New_York:20230209T203000
DTEND;TZID=America/New_York:20230209T233000
DTSTAMP:20260425T233010
CREATED:20221226T005553Z
LAST-MODIFIED:20230808T212017Z
UID:8132-1675974600-1675985400@tangoquebec.org
SUMMARY:Milonga du Jeudi Passion Tango (À confirmer)
DESCRIPTION:Veuillez contacter Passion Tango avant de vous déplacer.
URL:https://tangoquebec.org/index.php/calendrier/milonga-du-jeudi-passion-tango-2023-02-09/
LOCATION:La Escalera\, 604\, rue St-Vallier Ouest\, Québec\, Québec\, G1N 1C5\, Canada
CATEGORIES:Milonga
ATTACH;FMTTYPE=image/jpeg:https://tangoquebec.org/wp-content/uploads/2018/01/Logo_Ecole_Passion.jpg
ORGANIZER;CN="%C3%89cole Passion Tango":MAILTO:ecolepassiontango@gmail.com
END:VEVENT
BEGIN:VEVENT
DTSTART;TZID=America/New_York:20230211T203000
DTEND;TZID=America/New_York:20230211T233000
DTSTAMP:20260425T233010
CREATED:20221226T005222Z
LAST-MODIFIED:20230808T212120Z
UID:8106-1676147400-1676158200@tangoquebec.org
SUMMARY:Milonga Passion Tango (À confirmer)
DESCRIPTION:Veuillez contacter Passion Tango avant de vous déplacer.
URL:https://tangoquebec.org/index.php/calendrier/milonga-passion-tango-4-2023-02-11/
LOCATION:La Escalera\, 604\, rue St-Vallier Ouest\, Québec\, Québec\, G1N 1C5\, Canada
CATEGORIES:Milonga
ATTACH;FMTTYPE=image/jpeg:https://tangoquebec.org/wp-content/uploads/2018/01/Logo_Ecole_Passion.jpg
ORGANIZER;CN="%C3%89cole Passion Tango":MAILTO:ecolepassiontango@gmail.com
END:VEVENT
BEGIN:VEVENT
DTSTART;TZID=America/New_York:20230216T203000
DTEND;TZID=America/New_York:20230216T233000
DTSTAMP:20260425T233010
CREATED:20221226T005553Z
LAST-MODIFIED:20230808T212017Z
UID:8133-1676579400-1676590200@tangoquebec.org
SUMMARY:Milonga du Jeudi Passion Tango (À confirmer)
DESCRIPTION:Veuillez contacter Passion Tango avant de vous déplacer.
URL:https://tangoquebec.org/index.php/calendrier/milonga-du-jeudi-passion-tango-2023-02-16/
LOCATION:La Escalera\, 604\, rue St-Vallier Ouest\, Québec\, Québec\, G1N 1C5\, Canada
CATEGORIES:Milonga
ATTACH;FMTTYPE=image/jpeg:https://tangoquebec.org/wp-content/uploads/2018/01/Logo_Ecole_Passion.jpg
ORGANIZER;CN="%C3%89cole Passion Tango":MAILTO:ecolepassiontango@gmail.com
END:VEVENT
BEGIN:VEVENT
DTSTART;TZID=America/New_York:20230217T193000
DTEND;TZID=America/New_York:20230217T233000
DTSTAMP:20260425T233010
CREATED:20221205T201221Z
LAST-MODIFIED:20230622T033146Z
UID:8050-1676662200-1676676600@tangoquebec.org
SUMMARY:Milonga Tangusto à Trois-Rivières
DESCRIPTION:La Milonga Tangusto à Trois-Rivières : une milonga à l’ambiance conviviale et chaleureuse dans une salle superbe.\n20\, rue Jacinthe\, Trois-Rivières\n19h30 à 23h30
URL:https://tangoquebec.org/index.php/calendrier/milonga-tangusto-a-trois-rivieres-2023-02-17/
LOCATION:Québec
CATEGORIES:Milonga
ATTACH;FMTTYPE=image/jpeg:https://tangoquebec.org/wp-content/uploads/2018/01/tangusto_salle2.jpg
END:VEVENT
BEGIN:VEVENT
DTSTART;TZID=America/New_York:20230218T203000
DTEND;TZID=America/New_York:20230218T233000
DTSTAMP:20260425T233010
CREATED:20221226T005222Z
LAST-MODIFIED:20230808T212120Z
UID:8107-1676752200-1676763000@tangoquebec.org
SUMMARY:Milonga Passion Tango (À confirmer)
DESCRIPTION:Veuillez contacter Passion Tango avant de vous déplacer.
URL:https://tangoquebec.org/index.php/calendrier/milonga-passion-tango-4-2023-02-18/
LOCATION:La Escalera\, 604\, rue St-Vallier Ouest\, Québec\, Québec\, G1N 1C5\, Canada
CATEGORIES:Milonga
ATTACH;FMTTYPE=image/jpeg:https://tangoquebec.org/wp-content/uploads/2018/01/Logo_Ecole_Passion.jpg
ORGANIZER;CN="%C3%89cole Passion Tango":MAILTO:ecolepassiontango@gmail.com
END:VEVENT
BEGIN:VEVENT
DTSTART;TZID=America/New_York:20230219T180000
DTEND;TZID=America/New_York:20230219T230000
DTSTAMP:20260425T233010
CREATED:20230118T203420Z
LAST-MODIFIED:20230118T203717Z
UID:8220-1676829600-1676847600@tangoquebec.org
SUMMARY:Milonga Salons D'Edgar
DESCRIPTION:Elles sont de retour ! \nFormule menu du soir (voir les petites lunes dans le menu) \nde 18h à 23h \n12$/personne à la porte \n10$/personne par virement interac avant le vendredi précédent la milonga \n \n 
URL:https://tangoquebec.org/index.php/calendrier/milonga-salons-dedgar/
LOCATION:Les Salons d’Edgar\, 263\, Saint-Vallier est\, Québec\, Québec\, G1K 3P4\, Canada
CATEGORIES:Milonga
ATTACH;FMTTYPE=image/jpeg:https://tangoquebec.org/wp-content/uploads/2018/01/salons_plancher.jpg
END:VEVENT
BEGIN:VEVENT
DTSTART;TZID=America/New_York:20230223T203000
DTEND;TZID=America/New_York:20230223T233000
DTSTAMP:20260425T233010
CREATED:20221226T005553Z
LAST-MODIFIED:20230808T212017Z
UID:8134-1677184200-1677195000@tangoquebec.org
SUMMARY:Milonga du Jeudi Passion Tango (À confirmer)
DESCRIPTION:Veuillez contacter Passion Tango avant de vous déplacer.
URL:https://tangoquebec.org/index.php/calendrier/milonga-du-jeudi-passion-tango-2023-02-23/
LOCATION:La Escalera\, 604\, rue St-Vallier Ouest\, Québec\, Québec\, G1N 1C5\, Canada
CATEGORIES:Milonga
ATTACH;FMTTYPE=image/jpeg:https://tangoquebec.org/wp-content/uploads/2018/01/Logo_Ecole_Passion.jpg
ORGANIZER;CN="%C3%89cole Passion Tango":MAILTO:ecolepassiontango@gmail.com
END:VEVENT
BEGIN:VEVENT
DTSTART;TZID=America/New_York:20230225T203000
DTEND;TZID=America/New_York:20230225T233000
DTSTAMP:20260425T233010
CREATED:20230222T163838Z
LAST-MODIFIED:20230222T163838Z
UID:8335-1677357000-1677367800@tangoquebec.org
SUMMARY:Milonga Mariposas
DESCRIPTION:Comme un week-end sans milonga se pointe\, je me suis dit que vous aimeriez que j’ajoute une soirée…. \n  \n  \nLa Milonga aux airs de BsAs à Québec !\n3188 chemin Ste-Foy Québec
URL:https://tangoquebec.org/index.php/calendrier/milonga-mariposas-20/
LOCATION:3188 chemin ste-foy\, 3188 chemin Ste-Foy\, Québec\, Canada\, G1X 1R4\, Canada
CATEGORIES:Milonga
ATTACH;FMTTYPE=image/png:https://tangoquebec.org/wp-content/uploads/2018/01/logo.png
ORGANIZER;CN="Mariposas Tango":MAILTO:milonga-mariposas@hotmail.com
END:VEVENT
END:VCALENDAR