BEGIN:VCALENDAR
VERSION:2.0
PRODID:-//Tango Québec - ECPv6.15.20//NONSGML v1.0//EN
CALSCALE:GREGORIAN
METHOD:PUBLISH
X-WR-CALNAME:Tango Québec
X-ORIGINAL-URL:https://tangoquebec.org
X-WR-CALDESC:Évènements pour Tango Québec
REFRESH-INTERVAL;VALUE=DURATION:PT1H
X-Robots-Tag:noindex
X-PUBLISHED-TTL:PT1H
BEGIN:VTIMEZONE
TZID:America/New_York
BEGIN:DAYLIGHT
TZOFFSETFROM:-0500
TZOFFSETTO:-0400
TZNAME:EDT
DTSTART:20240310T070000
END:DAYLIGHT
BEGIN:STANDARD
TZOFFSETFROM:-0400
TZOFFSETTO:-0500
TZNAME:EST
DTSTART:20241103T060000
END:STANDARD
BEGIN:DAYLIGHT
TZOFFSETFROM:-0500
TZOFFSETTO:-0400
TZNAME:EDT
DTSTART:20250309T070000
END:DAYLIGHT
BEGIN:STANDARD
TZOFFSETFROM:-0400
TZOFFSETTO:-0500
TZNAME:EST
DTSTART:20251102T060000
END:STANDARD
BEGIN:DAYLIGHT
TZOFFSETFROM:-0500
TZOFFSETTO:-0400
TZNAME:EDT
DTSTART:20260308T070000
END:DAYLIGHT
BEGIN:STANDARD
TZOFFSETFROM:-0400
TZOFFSETTO:-0500
TZNAME:EST
DTSTART:20261101T060000
END:STANDARD
END:VTIMEZONE
BEGIN:VEVENT
DTSTART;TZID=America/New_York:20251010T203000
DTEND;TZID=America/New_York:20251013T170000
DTSTAMP:20260421T192408
CREATED:20240424T222233Z
LAST-MODIFIED:20250919T200526Z
UID:9928-1760128200-1760374800@tangoquebec.org
SUMMARY:Encuentro Mariposas 2025
DESCRIPTION:Milongas du vendredi au dimanche inclusivement :\nCentre Durocher\, 680 Rue Raoul-Jobin\, Salle 304\, Québec\, QC G1N 3G6\nStationnement rues avoisinantes\nMilonga-Brunch du lundi :\nRestaurant le Juke-Box\n1750\, du Périgord\, Québec\, Qc G1G 5X3 \nSuggestions pour votre séjour / Suggestions for your stay \nVENDREDI 10 OCTOBRE :\n19h30 Cocktail de bienvenue\n20h30 à 0h30 Milonga d’ouverture en soirée Andy Stein Dj \nSAMEDI 11 OCTOBRE :\n13h00 à 16h30 Milonga d’après-midi Andréa Shepherd Dj\n20h30 à 0h30 Milonga en soirée Vincent Lam Dj \nDIMANCHE 12 OCTOBRE :\n13h00 à 16h30 Milonga d’après-midi Lyson Marceau DJ\n20h30 à 0h30 Milonga en soirée Diane Hainse Dj\n​​\n LUNDI 13 OCTOBRE :  \nMilonga/Brunch\n11h30 à 16h30 Milonga-Brunch (Dj Hugo Denis)\nCette activité est optionnelle et n’est pas incluse dans le forfait\n​régulier de l’inscription à l’Encuentro Mariposas 2025.
URL:https://tangoquebec.org/index.php/calendrier/encuentro-mariposas-2/
LOCATION:Québec
CATEGORIES:Événement spécial,Milonga
ATTACH;FMTTYPE=image/png:https://tangoquebec.org/wp-content/uploads/2024/04/macaron_encuentro_FN.png
END:VEVENT
BEGIN:VEVENT
DTSTART;TZID=America/New_York:20251013T140000
DTEND;TZID=America/New_York:20251013T163000
DTSTAMP:20260421T192408
CREATED:20251002T162809Z
LAST-MODIFIED:20251002T162809Z
UID:11096-1760364000-1760373000@tangoquebec.org
SUMMARY:Milonga pour tous - Encuentro
DESCRIPTION:Lundi le 13 octobre\, à 14h00 aura lieu la milonga finale de l’Encuentro 2025 avec Hugo Denis Dj.  Cette milonga est ouverte à tous les danseurs de Québec.  La parité ne s’appliquera pas pour celle-ci. \nRestaurant le Juke-Box\n1750\, du Périgord\, Québec\, Qc G1G 5X3 \n15$ par personne si payée avant le 9 octobre minuit\, sinon 20$ à la porte ou par Interac (diane@mariposas-tango.com\, mot de passe : tango) \n 
URL:https://tangoquebec.org/index.php/calendrier/milonga-pour-tous-encuentro/
LOCATION:Restaurant le Juke-Box 1750\, du Périgord\, Québec\, Qc G1G 5X3
CATEGORIES:Milonga
ATTACH;FMTTYPE=image/png:https://tangoquebec.org/wp-content/uploads/2024/04/macaron_encuentro_FN.png
ORGANIZER;CN="Mariposas Tango":MAILTO:milonga-mariposas@hotmail.com
END:VEVENT
END:VCALENDAR